BEGIN:VCALENDAR
VERSION:2.0
PRODID:-//EZFacility.com, Inc.//EZL 2.5.5.28621
BEGIN:VEVENT
UID:16086015@ezleagues.ezfacility.com
DTSTAMP:20260424T185128Z
CREATED:20260424T185128Z
DTSTART:20250119T140000Z
DTEND:20250119T150000Z
LOCATION:Field 1
CONTACT:
SUMMARY:DASC Purple Tornadoes VS. Fusion FC Coyotes
DESCRIPTION:League Name: S2 - U10/11G 2024/25\nGame Type: Regular\nGame Sta
 tus: Complete\nHome Team: DASC Purple Tornadoes\nAway Team: Fusion FC Coyo
 tes\nHome Score: 4\nAway Score: 3
END:VEVENT
BEGIN:VEVENT
UID:16086043@ezleagues.ezfacility.com
DTSTAMP:20260424T185128Z
CREATED:20260424T185128Z
DTSTART:20250202T220000Z
DTEND:20250202T230000Z
LOCATION:Field 1
CONTACT:
SUMMARY:Fusion FC Coyotes VS. Keystone FC Premier 16G
DESCRIPTION:League Name: S2 - U10/11G 2024/25\nGame Type: Regular\nGame Sta
 tus: Complete\nHome Team: Fusion FC Coyotes\nAway Team: Keystone FC Premie
 r 16G\nHome Score: 4\nAway Score: 3
END:VEVENT
BEGIN:VEVENT
UID:16085987@ezleagues.ezfacility.com
DTSTAMP:20260424T185128Z
CREATED:20260424T185128Z
DTSTART:20250216T140000Z
DTEND:20250216T150000Z
LOCATION:Field 1
CONTACT:
SUMMARY:East Penn Fury VS. Fusion FC Coyotes
DESCRIPTION:League Name: S2 - U10/11G 2024/25\nGame Type: Regular\nGame Sta
 tus: Complete\nHome Team: East Penn Fury\nAway Team: Fusion FC Coyotes\nHo
 me Score: 1\nAway Score: 7
END:VEVENT
BEGIN:VEVENT
UID:16085959@ezleagues.ezfacility.com
DTSTAMP:20260424T185128Z
CREATED:20260424T185128Z
DTSTART:20250223T230000Z
DTEND:20250224T000000Z
LOCATION:Field 3
CONTACT:
SUMMARY:Fusion FC Coyotes VS. Eagle FC 14G Black
DESCRIPTION:League Name: S2 - U10/11G 2024/25\nGame Type: Regular\nGame Sta
 tus: Complete\nHome Team: Fusion FC Coyotes\nAway Team: Eagle FC 14G Black
 \nHome Score: 3\nAway Score: 6
END:VEVENT
BEGIN:VEVENT
UID:16085931@ezleagues.ezfacility.com
DTSTAMP:20260424T185128Z
CREATED:20260424T185128Z
DTSTART:20250309T140000Z
DTEND:20250309T150000Z
LOCATION:Field 1
CONTACT:
SUMMARY:Fusion FC Coyotes VS. Eagle FC 15G Black
DESCRIPTION:League Name: S2 - U10/11G 2024/25\nGame Type: Regular\nGame Sta
 tus: Complete\nHome Team: Fusion FC Coyotes\nAway Team: Eagle FC 15G Black
 \nHome Score: 0\nAway Score: 3
END:VEVENT
BEGIN:VEVENT
UID:16085903@ezleagues.ezfacility.com
DTSTAMP:20260424T185128Z
CREATED:20260424T185128Z
DTSTART:20250316T130000Z
DTEND:20250316T140000Z
LOCATION:Field 1
CONTACT:
SUMMARY:Keystone FC Elite 15G VS. Fusion FC Coyotes
DESCRIPTION:League Name: S2 - U10/11G 2024/25\nGame Type: Regular\nGame Sta
 tus: Complete\nHome Team: Keystone FC Elite 15G\nAway Team: Fusion FC Coyo
 tes\nHome Score: 3\nAway Score: 2
END:VEVENT
BEGIN:VEVENT
UID:16085875@ezleagues.ezfacility.com
DTSTAMP:20260424T185128Z
CREATED:20260424T185128Z
DTSTART:20250323T170000Z
DTEND:20250323T180000Z
LOCATION:Field 1
CONTACT:
SUMMARY:Penn FC Youth 2015F Black VS. Fusion FC Coyotes
DESCRIPTION:League Name: S2 - U10/11G 2024/25\nGame Type: Regular\nGame Sta
 tus: Complete\nHome Team: Penn FC Youth 2015F Black\nAway Team: Fusion FC 
 Coyotes\nHome Score: 3\nAway Score: 3
END:VEVENT
BEGIN:VEVENT
UID:16085846@ezleagues.ezfacility.com
DTSTAMP:20260424T185128Z
CREATED:20260424T185128Z
DTSTART:20250330T150000Z
DTEND:20250330T160000Z
LOCATION:Field 2
CONTACT:
SUMMARY:Fusion FC Coyotes VS. Keystone FC Elite 14G
DESCRIPTION:League Name: S2 - U10/11G 2024/25\nGame Type: Regular\nGame Sta
 tus: Complete\nHome Team: Fusion FC Coyotes\nAway Team: Keystone FC Elite 
 14G\nHome Score: 1\nAway Score: 5
END:VEVENT
END:VCALENDAR
