BEGIN:VCALENDAR
VERSION:2.0
PRODID:-//EZFacility.com, Inc.//EZL 2.5.5.28621
BEGIN:VEVENT
UID:16074909@ezleagues.ezfacility.com
DTSTAMP:20260424T200727Z
CREATED:20260424T200727Z
DTSTART:20241208T223000Z
DTEND:20241208T232000Z
LOCATION:Car Stereo One Big Field
CONTACT:
SUMMARY:Wauseon U10 VS. Fremont Emeralds
DESCRIPTION:League Name:  2024/25 Maumee CS1 Big Field Boys U10-2 Session 2
 \nGame Type: Regular\nGame Status: Complete\nHome Team: Wauseon U10\nAway 
 Team: Fremont Emeralds\nHome Score: 6\nAway Score: 5
END:VEVENT
BEGIN:VEVENT
UID:16074919@ezleagues.ezfacility.com
DTSTAMP:20260424T200727Z
CREATED:20260424T200727Z
DTSTART:20241227T203000Z
DTEND:20241227T212000Z
LOCATION:Car Stereo One Big Field
CONTACT:France
SUMMARY:Wauseon U10 VS. Pirates
DESCRIPTION:League Name:  2024/25 Maumee CS1 Big Field Boys U10-2 Session 2
 \nGame Type: Regular\nGame Status: Complete\nHome Team: Wauseon U10\nAway 
 Team: Pirates\nHome Score: 11\nAway Score: 1
END:VEVENT
BEGIN:VEVENT
UID:16074923@ezleagues.ezfacility.com
DTSTAMP:20260424T200727Z
CREATED:20260424T200727Z
DTSTART:20241229T230000Z
DTEND:20241229T235000Z
LOCATION:Car Stereo One Big Field
CONTACT:Allen-M
SUMMARY:MSC BU10 B VS. Wauseon U10
DESCRIPTION:League Name:  2024/25 Maumee CS1 Big Field Boys U10-2 Session 2
 \nGame Type: Regular\nGame Status: Complete\nHome Team: MSC BU10 B\nAway T
 eam: Wauseon U10\nHome Score: 0\nAway Score: 5
END:VEVENT
BEGIN:VEVENT
UID:16074926@ezleagues.ezfacility.com
DTSTAMP:20260424T200727Z
CREATED:20260424T200727Z
DTSTART:20250105T212000Z
DTEND:20250105T221000Z
LOCATION:Car Stereo One Big Field
CONTACT:
SUMMARY:Delta U10 VS. Wauseon U10
DESCRIPTION:League Name:  2024/25 Maumee CS1 Big Field Boys U10-2 Session 2
 \nGame Type: Regular\nGame Status: Complete\nHome Team: Delta U10\nAway Te
 am: Wauseon U10\nHome Score: 2\nAway Score: 12
END:VEVENT
BEGIN:VEVENT
UID:16074929@ezleagues.ezfacility.com
DTSTAMP:20260424T200727Z
CREATED:20260424T200727Z
DTSTART:20250112T212000Z
DTEND:20250112T221000Z
LOCATION:Car Stereo One Big Field
CONTACT:Allison
SUMMARY:Wauseon U10 VS. PSC B2015 Black
DESCRIPTION:League Name:  2024/25 Maumee CS1 Big Field Boys U10-2 Session 2
 \nGame Type: Regular\nGame Status: Complete\nHome Team: Wauseon U10\nAway 
 Team: PSC B2015 Black\nHome Score: 4\nAway Score: 7
END:VEVENT
BEGIN:VEVENT
UID:16074932@ezleagues.ezfacility.com
DTSTAMP:20260424T200727Z
CREATED:20260424T200727Z
DTSTART:20250119T230000Z
DTEND:20250119T235000Z
LOCATION:Car Stereo One Big Field
CONTACT:Kistler
SUMMARY:Wauseon U10 VS. Otsego Knights
DESCRIPTION:League Name:  2024/25 Maumee CS1 Big Field Boys U10-2 Session 2
 \nGame Type: Regular\nGame Status: Complete\nHome Team: Wauseon U10\nAway 
 Team: Otsego Knights\nHome Score: 17\nAway Score: 2
END:VEVENT
BEGIN:VEVENT
UID:16074937@ezleagues.ezfacility.com
DTSTAMP:20260424T200727Z
CREATED:20260424T200727Z
DTSTART:20250126T212000Z
DTEND:20250126T221000Z
LOCATION:Car Stereo One Big Field
CONTACT:
SUMMARY:Fremont Emeralds VS. Wauseon U10
DESCRIPTION:League Name:  2024/25 Maumee CS1 Big Field Boys U10-2 Session 2
 \nGame Type: Regular\nGame Status: Complete\nHome Team: Fremont Emeralds\n
 Away Team: Wauseon U10\nHome Score: 1\nAway Score: 8
END:VEVENT
BEGIN:VEVENT
UID:16074947@ezleagues.ezfacility.com
DTSTAMP:20260424T200727Z
CREATED:20260424T200727Z
DTSTART:20250209T221000Z
DTEND:20250209T230000Z
LOCATION:Car Stereo One Big Field
CONTACT:
SUMMARY:Pirates VS. Wauseon U10
DESCRIPTION:League Name:  2024/25 Maumee CS1 Big Field Boys U10-2 Session 2
 \nGame Type: Regular\nGame Status: Complete\nHome Team: Pirates\nAway Team
 : Wauseon U10\nHome Score: 1\nAway Score: 6
END:VEVENT
END:VCALENDAR
