BEGIN:VCALENDAR
VERSION:2.0
PRODID:-//EZFacility.com, Inc.//EZL 2.5.5.28621
BEGIN:VEVENT
UID:16075028@ezleagues.ezfacility.com
DTSTAMP:20260426T033536Z
CREATED:20260426T033536Z
DTSTART:20241208T153000Z
DTEND:20241208T162000Z
LOCATION:Car Stereo One Big Field
CONTACT:Allen-A
SUMMARY:OHFC BU12 VS. Wauseon
DESCRIPTION:League Name: 2024/25 Maumee CS1 Big Field Boys U12 Session 2\nG
 ame Type: Regular\nGame Status: Complete\nHome Team: OHFC BU12\nAway Team:
  Wauseon\nHome Score: 5\nAway Score: 2
END:VEVENT
BEGIN:VEVENT
UID:16074996@ezleagues.ezfacility.com
DTSTAMP:20260426T033536Z
CREATED:20260426T033536Z
DTSTART:20241213T221000Z
DTEND:20241213T230000Z
LOCATION:Car Stereo One Big Field
CONTACT:France
SUMMARY:Defiance 2013 VS. OHFC BU12
DESCRIPTION:League Name: 2024/25 Maumee CS1 Big Field Boys U12 Session 2\nG
 ame Type: Regular\nGame Status: Complete\nHome Team: Defiance 2013\nAway T
 eam: OHFC BU12\nHome Score: 0\nAway Score: 15
END:VEVENT
BEGIN:VEVENT
UID:16075000@ezleagues.ezfacility.com
DTSTAMP:20260426T033536Z
CREATED:20260426T033536Z
DTSTART:20241218T230000Z
DTEND:20241218T235000Z
LOCATION:Car Stereo One Big Field
CONTACT:Allen-A
SUMMARY:OHFC BU12 VS. Armadillos
DESCRIPTION:League Name: 2024/25 Maumee CS1 Big Field Boys U12 Session 2\nG
 ame Type: Regular\nGame Status: Complete\nHome Team: OHFC BU12\nAway Team:
  Armadillos\nHome Score: 0\nAway Score: 3
END:VEVENT
BEGIN:VEVENT
UID:16075004@ezleagues.ezfacility.com
DTSTAMP:20260426T033536Z
CREATED:20260426T033536Z
DTSTART:20241227T194000Z
DTEND:20241227T203000Z
LOCATION:Car Stereo One Big Field
CONTACT:France
SUMMARY:Flying Hawks VS. OHFC BU12
DESCRIPTION:League Name: 2024/25 Maumee CS1 Big Field Boys U12 Session 2\nG
 ame Type: Regular\nGame Status: Complete\nHome Team: Flying Hawks\nAway Te
 am: OHFC BU12\nHome Score: 1\nAway Score: 0
END:VEVENT
BEGIN:VEVENT
UID:16075016@ezleagues.ezfacility.com
DTSTAMP:20260426T033536Z
CREATED:20260426T033536Z
DTSTART:20250111T212000Z
DTEND:20250111T221000Z
LOCATION:Car Stereo One Big Field
CONTACT:Tam
SUMMARY:OHFC BU12 VS. The Grenades
DESCRIPTION:League Name: 2024/25 Maumee CS1 Big Field Boys U12 Session 2\nG
 ame Type: Regular\nGame Status: Complete\nHome Team: OHFC BU12\nAway Team:
  The Grenades\nHome Score: 10\nAway Score: 0
END:VEVENT
BEGIN:VEVENT
UID:16075022@ezleagues.ezfacility.com
DTSTAMP:20260426T033536Z
CREATED:20260426T033536Z
DTSTART:20250119T004000Z
DTEND:20250119T013000Z
LOCATION:Car Stereo One Big Field
CONTACT:
SUMMARY:Lenawee Utd. FC BU12 VS. OHFC BU12
DESCRIPTION:League Name: 2024/25 Maumee CS1 Big Field Boys U12 Session 2\nG
 ame Type: Regular\nGame Status: Complete\nHome Team: Lenawee Utd. FC BU12\
 nAway Team: OHFC BU12\nHome Score: 3\nAway Score: 7
END:VEVENT
BEGIN:VEVENT
UID:16075025@ezleagues.ezfacility.com
DTSTAMP:20260426T033536Z
CREATED:20260426T033536Z
DTSTART:20250126T004000Z
DTEND:20250126T013000Z
LOCATION:Car Stereo One Big Field
CONTACT:
SUMMARY:OHFC BU12 VS. Defiance 2013
DESCRIPTION:League Name: 2024/25 Maumee CS1 Big Field Boys U12 Session 2\nG
 ame Type: Regular\nGame Status: Complete\nHome Team: OHFC BU12\nAway Team:
  Defiance 2013\nHome Score: 19\nAway Score: 0
END:VEVENT
BEGIN:VEVENT
UID:16075037@ezleagues.ezfacility.com
DTSTAMP:20260426T033536Z
CREATED:20260426T033536Z
DTSTART:20250208T194000Z
DTEND:20250208T203000Z
LOCATION:Car Stereo One Big Field
CONTACT:Czerniakowski
SUMMARY:MSC BU12 A VS. OHFC BU12
DESCRIPTION:League Name: 2024/25 Maumee CS1 Big Field Boys U12 Session 2\nG
 ame Type: Regular\nGame Status: Complete\nHome Team: MSC BU12 A\nAway Team
 : OHFC BU12\nHome Score: 3\nAway Score: 1
END:VEVENT
END:VCALENDAR
