BEGIN:VCALENDAR
VERSION:2.0
PRODID:-//EZFacility.com, Inc.//EZL 2.5.5.28621
BEGIN:VEVENT
UID:16075236@ezleagues.ezfacility.com
DTSTAMP:20260426T034932Z
CREATED:20260426T034932Z
DTSTART:20241203T005000Z
DTEND:20241203T014000Z
LOCATION:Car Stereo One Big Field
CONTACT:McNutt
SUMMARY:TCFC Nemeziz Sub-15 VS. AW United
DESCRIPTION:League Name: 2024/25 Maumee CS1 Big Field Boys U15/16 Session 2
 \nGame Type: Regular\nGame Status: Complete\nHome Team: TCFC Nemeziz Sub-1
 5\nAway Team: AW United\nHome Score: 17\nAway Score: 3
END:VEVENT
BEGIN:VEVENT
UID:16075228@ezleagues.ezfacility.com
DTSTAMP:20260426T034932Z
CREATED:20260426T034932Z
DTSTART:20241219T210000Z
DTEND:20241219T215000Z
LOCATION:Car Stereo One Big Field
CONTACT:France
SUMMARY:TCFC Nemeziz Sub-15 VS. Elite 09
DESCRIPTION:League Name: 2024/25 Maumee CS1 Big Field Boys U15/16 Session 2
 \nGame Type: Regular\nGame Status: Complete\nHome Team: TCFC Nemeziz Sub-1
 5\nAway Team: Elite 09\nHome Score: 3\nAway Score: 5
END:VEVENT
BEGIN:VEVENT
UID:16075233@ezleagues.ezfacility.com
DTSTAMP:20260426T034932Z
CREATED:20260426T034932Z
DTSTART:20241226T235000Z
DTEND:20241227T004000Z
LOCATION:Car Stereo One Big Field
CONTACT:Allen-A
SUMMARY:TCFC Nemeziz Sub-15 VS. AW United
DESCRIPTION:League Name: 2024/25 Maumee CS1 Big Field Boys U15/16 Session 2
 \nGame Type: Regular\nGame Status: Complete\nHome Team: TCFC Nemeziz Sub-1
 5\nAway Team: AW United\nHome Score: 3\nAway Score: 0
END:VEVENT
BEGIN:VEVENT
UID:16075222@ezleagues.ezfacility.com
DTSTAMP:20260426T034932Z
CREATED:20260426T034932Z
DTSTART:20241230T203000Z
DTEND:20241230T212000Z
LOCATION:Car Stereo One Big Field
CONTACT:
SUMMARY:TCFC Predator Sub-15 VS. TCFC Nemeziz Sub-15
DESCRIPTION:League Name: 2024/25 Maumee CS1 Big Field Boys U15/16 Session 2
 \nGame Type: Regular\nGame Status: Complete\nHome Team: TCFC Predator Sub-
 15\nAway Team: TCFC Nemeziz Sub-15\nHome Score: 9\nAway Score: 2
END:VEVENT
BEGIN:VEVENT
UID:16075237@ezleagues.ezfacility.com
DTSTAMP:20260426T034932Z
CREATED:20260426T034932Z
DTSTART:20250103T004000Z
DTEND:20250103T013000Z
LOCATION:Car Stereo One Big Field
CONTACT:France
SUMMARY:United VS. TCFC Nemeziz Sub-15
DESCRIPTION:League Name: 2024/25 Maumee CS1 Big Field Boys U15/16 Session 2
 \nGame Type: Regular\nGame Status: Complete\nHome Team: United\nAway Team:
  TCFC Nemeziz Sub-15\nHome Score: 4\nAway Score: 6
END:VEVENT
BEGIN:VEVENT
UID:16075240@ezleagues.ezfacility.com
DTSTAMP:20260426T034932Z
CREATED:20260426T034932Z
DTSTART:20250107T015000Z
DTEND:20250107T024000Z
LOCATION:Car Stereo One Big Field
CONTACT:Ohene-Larbi
SUMMARY:Sylvania Utd U14/15 VS. TCFC Nemeziz Sub-15
DESCRIPTION:League Name: 2024/25 Maumee CS1 Big Field Boys U15/16 Session 2
 \nGame Type: Regular\nGame Status: Complete\nHome Team: Sylvania Utd U14/1
 5\nAway Team: TCFC Nemeziz Sub-15\nHome Score: 4\nAway Score: 10
END:VEVENT
BEGIN:VEVENT
UID:16075248@ezleagues.ezfacility.com
DTSTAMP:20260426T034932Z
CREATED:20260426T034932Z
DTSTART:20250127T004000Z
DTEND:20250127T013000Z
LOCATION:Car Stereo One Big Field
CONTACT:Kistler
SUMMARY:Lenawee Utd FC BU15 VS. TCFC Nemeziz Sub-15
DESCRIPTION:League Name: 2024/25 Maumee CS1 Big Field Boys U15/16 Session 2
 \nGame Type: Regular\nGame Status: Complete\nHome Team: Lenawee Utd FC BU1
 5\nAway Team: TCFC Nemeziz Sub-15\nHome Score: 0\nAway Score: 9
END:VEVENT
BEGIN:VEVENT
UID:16075243@ezleagues.ezfacility.com
DTSTAMP:20260426T034932Z
CREATED:20260426T034932Z
DTSTART:20250209T171000Z
DTEND:20250209T180000Z
LOCATION:Car Stereo One Big Field
CONTACT:Mead - C
SUMMARY:Lenawee Utd FC BU15 VS. TCFC Nemeziz Sub-15
DESCRIPTION:League Name: 2024/25 Maumee CS1 Big Field Boys U15/16 Session 2
 \nGame Type: Regular\nGame Status: Complete\nHome Team: Lenawee Utd FC BU1
 5\nAway Team: TCFC Nemeziz Sub-15\nHome Score: 4\nAway Score: 7
END:VEVENT
END:VCALENDAR
