BEGIN:VCALENDAR
VERSION:2.0
PRODID:-//EZFacility.com, Inc.//EZL 2.5.5.28621
BEGIN:VEVENT
UID:16075571@ezleagues.ezfacility.com
DTSTAMP:20260426T034110Z
CREATED:20260426T034110Z
DTSTART:20241215T121000Z
DTEND:20241215T130000Z
LOCATION:Car Stereo One Big Field
CONTACT:McNutt
SUMMARY:SV VS. Toledo Legends
DESCRIPTION:League Name: 2024/25 Maumee CS1 Big Field Girls HS Session 2\nG
 ame Type: Regular\nGame Status: Complete\nHome Team: SV\nAway Team: Toledo
  Legends\nHome Score: 5\nAway Score: 4
END:VEVENT
BEGIN:VEVENT
UID:16075576@ezleagues.ezfacility.com
DTSTAMP:20260426T034110Z
CREATED:20260426T034110Z
DTSTART:20241222T153000Z
DTEND:20241222T162000Z
LOCATION:Car Stereo One Big Field
CONTACT:France
SUMMARY:Orange Kickers VS. Toledo Legends
DESCRIPTION:League Name: 2024/25 Maumee CS1 Big Field Girls HS Session 2\nG
 ame Type: Regular\nGame Status: Complete\nHome Team: Orange Kickers\nAway 
 Team: Toledo Legends\nHome Score: 8\nAway Score: 7
END:VEVENT
BEGIN:VEVENT
UID:16086739@ezleagues.ezfacility.com
DTSTAMP:20260426T034110Z
CREATED:20260426T034110Z
DTSTART:20250102T212000Z
DTEND:20250102T221000Z
LOCATION:Car Stereo One Big Field
CONTACT:Abodeely
SUMMARY:BGSC VS. Toledo Legends
DESCRIPTION:League Name: 2024/25 Maumee CS1 Big Field Girls HS Session 2\nG
 ame Type: Regular\nGame Status: Complete\nHome Team: BGSC\nAway Team: Tole
 do Legends\nHome Score: 4\nAway Score: 6
END:VEVENT
BEGIN:VEVENT
UID:16075586@ezleagues.ezfacility.com
DTSTAMP:20260426T034110Z
CREATED:20260426T034110Z
DTSTART:20250105T135000Z
DTEND:20250105T144000Z
LOCATION:Car Stereo One Big Field
CONTACT:France
SUMMARY:Toledo Legends VS. BG Bobcats
DESCRIPTION:League Name: 2024/25 Maumee CS1 Big Field Girls HS Session 2\nG
 ame Type: Regular\nGame Status: Complete\nHome Team: Toledo Legends\nAway 
 Team: BG Bobcats\nHome Score: 7\nAway Score: 3
END:VEVENT
BEGIN:VEVENT
UID:16075593@ezleagues.ezfacility.com
DTSTAMP:20260426T034110Z
CREATED:20260426T034110Z
DTSTART:20250112T153000Z
DTEND:20250112T162000Z
LOCATION:Car Stereo One Big Field
CONTACT:McFee
SUMMARY:Toledo Legends VS. Oak Harbor
DESCRIPTION:League Name: 2024/25 Maumee CS1 Big Field Girls HS Session 2\nG
 ame Type: Regular\nGame Status: Complete\nHome Team: Toledo Legends\nAway 
 Team: Oak Harbor\nHome Score: 2\nAway Score: 2
END:VEVENT
BEGIN:VEVENT
UID:16075600@ezleagues.ezfacility.com
DTSTAMP:20260426T034110Z
CREATED:20260426T034110Z
DTSTART:20250119T121000Z
DTEND:20250119T130000Z
LOCATION:Car Stereo One Big Field
CONTACT:McNutt
SUMMARY:Toledo Legends VS. Lenawee
DESCRIPTION:League Name: 2024/25 Maumee CS1 Big Field Girls HS Session 2\nG
 ame Type: Regular\nGame Status: Complete\nHome Team: Toledo Legends\nAway 
 Team: Lenawee\nHome Score: 5\nAway Score: 6
END:VEVENT
BEGIN:VEVENT
UID:16075607@ezleagues.ezfacility.com
DTSTAMP:20260426T034110Z
CREATED:20260426T034110Z
DTSTART:20250126T135000Z
DTEND:20250126T144000Z
LOCATION:Car Stereo One Big Field
CONTACT:McNutt
SUMMARY:Toledo Legends VS. NWO All Stars
DESCRIPTION:League Name: 2024/25 Maumee CS1 Big Field Girls HS Session 2\nG
 ame Type: Regular\nGame Status: Complete\nHome Team: Toledo Legends\nAway 
 Team: NWO All Stars\nHome Score: 8\nAway Score: 1
END:VEVENT
BEGIN:VEVENT
UID:16075566@ezleagues.ezfacility.com
DTSTAMP:20260426T034110Z
CREATED:20260426T034110Z
DTSTART:20250211T022000Z
DTEND:20250211T031000Z
LOCATION:Car Stereo One Big Field
CONTACT:McNutt
SUMMARY:Springfield White VS. Toledo Legends
DESCRIPTION:League Name: 2024/25 Maumee CS1 Big Field Girls HS Session 2\nG
 ame Type: Regular\nGame Status: Complete\nHome Team: Springfield White\nAw
 ay Team: Toledo Legends\nHome Score: 2\nAway Score: 5
END:VEVENT
END:VCALENDAR
