BEGIN:VCALENDAR
VERSION:2.0
PRODID:-//EZFacility.com, Inc.//EZL 2.5.5.28621
BEGIN:VEVENT
UID:16081706@ezleagues.ezfacility.com
DTSTAMP:20260420T015307Z
CREATED:20260420T015307Z
DTSTART:20241214T222000Z
DTEND:20241214T231000Z
LOCATION:Car Stereo One Small Field
CONTACT:Allen-M
SUMMARY:Chippy FC VS. Thunder
DESCRIPTION:League Name: 2024/25 Maumee CS1 Small Field Coed 9/10 Session2\
 nGame Type: Regular\nGame Status: Pending\nHome Team: Chippy FC\nAway Team
 : Thunder\n
END:VEVENT
BEGIN:VEVENT
UID:16081711@ezleagues.ezfacility.com
DTSTAMP:20260420T015307Z
CREATED:20260420T015307Z
DTSTART:20241221T203000Z
DTEND:20241221T212000Z
LOCATION:Car Stereo One Small Field
CONTACT:Sweinhagen-D
SUMMARY:Chippy FC VS. Armadillos
DESCRIPTION:League Name: 2024/25 Maumee CS1 Small Field Coed 9/10 Session2\
 nGame Type: Regular\nGame Status: Complete\nHome Team: Chippy FC\nAway Tea
 m: Armadillos\nHome Score: 1\nAway Score: 21
END:VEVENT
BEGIN:VEVENT
UID:16081715@ezleagues.ezfacility.com
DTSTAMP:20260420T015307Z
CREATED:20260420T015307Z
DTSTART:20241228T203000Z
DTEND:20241228T212000Z
LOCATION:Car Stereo One Small Field
CONTACT:Price
SUMMARY:Wolfpack VS. Chippy FC
DESCRIPTION:League Name: 2024/25 Maumee CS1 Small Field Coed 9/10 Session2\
 nGame Type: Regular\nGame Status: Complete\nHome Team: Wolfpack\nAway Team
 : Chippy FC\nHome Score: 3\nAway Score: 0
END:VEVENT
BEGIN:VEVENT
UID:16081718@ezleagues.ezfacility.com
DTSTAMP:20260420T015307Z
CREATED:20260420T015307Z
DTSTART:20250104T221000Z
DTEND:20250104T230000Z
LOCATION:Car Stereo One Small Field
CONTACT:Price
SUMMARY:SFC Lemonheads VS. Chippy FC
DESCRIPTION:League Name: 2024/25 Maumee CS1 Small Field Coed 9/10 Session2\
 nGame Type: Regular\nGame Status: Complete\nHome Team: SFC Lemonheads\nAwa
 y Team: Chippy FC\nHome Score: 30\nAway Score: 2
END:VEVENT
BEGIN:VEVENT
UID:16081721@ezleagues.ezfacility.com
DTSTAMP:20260420T015307Z
CREATED:20260420T015307Z
DTSTART:20250111T235000Z
DTEND:20250112T004000Z
LOCATION:Car Stereo One Small Field
CONTACT:Mead - C
SUMMARY:SFC Skittles VS. Chippy FC
DESCRIPTION:League Name: 2024/25 Maumee CS1 Small Field Coed 9/10 Session2\
 nGame Type: Regular\nGame Status: Complete\nHome Team: SFC Skittles\nAway 
 Team: Chippy FC\nHome Score: 15\nAway Score: 4
END:VEVENT
BEGIN:VEVENT
UID:16081724@ezleagues.ezfacility.com
DTSTAMP:20260420T015307Z
CREATED:20260420T015307Z
DTSTART:20250118T221000Z
DTEND:20250118T230000Z
LOCATION:Car Stereo One Small Field
CONTACT:Czerniakowski
SUMMARY:Chippy FC VS. The Shakes
DESCRIPTION:League Name: 2024/25 Maumee CS1 Small Field Coed 9/10 Session2\
 nGame Type: Regular\nGame Status: Complete\nHome Team: Chippy FC\nAway Tea
 m: The Shakes\nHome Score: 10\nAway Score: 26
END:VEVENT
BEGIN:VEVENT
UID:16081729@ezleagues.ezfacility.com
DTSTAMP:20260420T015307Z
CREATED:20260420T015307Z
DTSTART:20250126T162000Z
DTEND:20250126T171000Z
LOCATION:Car Stereo One Small Field
CONTACT:Sweinhagen-D
SUMMARY:Chippy FC VS. Trailblazers
DESCRIPTION:League Name: 2024/25 Maumee CS1 Small Field Coed 9/10 Session2\
 nGame Type: Regular\nGame Status: Complete\nHome Team: Chippy FC\nAway Tea
 m: Trailblazers\nHome Score: 2\nAway Score: 17
END:VEVENT
BEGIN:VEVENT
UID:16081701@ezleagues.ezfacility.com
DTSTAMP:20260420T015307Z
CREATED:20260420T015307Z
DTSTART:20250201T230000Z
DTEND:20250201T235000Z
LOCATION:Car Stereo One Small Field
CONTACT:Sweinhagen-D
SUMMARY:Trailblazers VS. Chippy FC
DESCRIPTION:League Name: 2024/25 Maumee CS1 Small Field Coed 9/10 Session2\
 nGame Type: Regular\nGame Status: Complete\nHome Team: Trailblazers\nAway 
 Team: Chippy FC\nHome Score: 18\nAway Score: 8
END:VEVENT
END:VCALENDAR
