BEGIN:VCALENDAR
VERSION:2.0
PRODID:-//EZFacility.com, Inc.//EZL 2.5.5.28621
BEGIN:VEVENT
UID:16081740@ezleagues.ezfacility.com
DTSTAMP:20260426T035010Z
CREATED:20260426T035010Z
DTSTART:20241207T205000Z
DTEND:20241207T214000Z
LOCATION:Car Stereo One Small Field
CONTACT:Allen-A
SUMMARY:SFC Warheads VS. Team Dino Nuggets
DESCRIPTION:League Name: 2024/25 Maumee CS1 Small Field Coed 11/12/13 S2\nG
 ame Type: Regular\nGame Status: Complete\nHome Team: SFC Warheads\nAway Te
 am: Team Dino Nuggets\nHome Score: 5\nAway Score: 12
END:VEVENT
BEGIN:VEVENT
UID:16081744@ezleagues.ezfacility.com
DTSTAMP:20260426T035010Z
CREATED:20260426T035010Z
DTSTART:20241215T214000Z
DTEND:20241215T223000Z
LOCATION:Car Stereo One Small Field
CONTACT:Abodeely
SUMMARY:United 1 VS. Team Dino Nuggets
DESCRIPTION:League Name: 2024/25 Maumee CS1 Small Field Coed 11/12/13 S2\nG
 ame Type: Regular\nGame Status: Complete\nHome Team: United 1\nAway Team: 
 Team Dino Nuggets\nHome Score: 20\nAway Score: 3
END:VEVENT
BEGIN:VEVENT
UID:16081747@ezleagues.ezfacility.com
DTSTAMP:20260426T035010Z
CREATED:20260426T035010Z
DTSTART:20241222T203000Z
DTEND:20241222T212000Z
LOCATION:Car Stereo One Small Field
CONTACT:Sweinhagen-D
SUMMARY:Team Dino Nuggets VS. United 2
DESCRIPTION:League Name: 2024/25 Maumee CS1 Small Field Coed 11/12/13 S2\nG
 ame Type: Regular\nGame Status: Complete\nHome Team: Team Dino Nuggets\nAw
 ay Team: United 2\nHome Score: 10\nAway Score: 13
END:VEVENT
BEGIN:VEVENT
UID:16081751@ezleagues.ezfacility.com
DTSTAMP:20260426T035010Z
CREATED:20260426T035010Z
DTSTART:20250105T221000Z
DTEND:20250105T230000Z
LOCATION:Car Stereo One Small Field
CONTACT:
SUMMARY:Team Dino Nuggets VS. The Misfits
DESCRIPTION:League Name: 2024/25 Maumee CS1 Small Field Coed 11/12/13 S2\nG
 ame Type: Regular\nGame Status: Complete\nHome Team: Team Dino Nuggets\nAw
 ay Team: The Misfits\nHome Score: 11\nAway Score: 16
END:VEVENT
BEGIN:VEVENT
UID:16081755@ezleagues.ezfacility.com
DTSTAMP:20260426T035010Z
CREATED:20260426T035010Z
DTSTART:20250112T152000Z
DTEND:20250112T161000Z
LOCATION:Car Stereo One Small Field
CONTACT:
SUMMARY:Team Dino Nuggets VS. SFC Warheads
DESCRIPTION:League Name: 2024/25 Maumee CS1 Small Field Coed 11/12/13 S2\nG
 ame Type: Regular\nGame Status: Complete\nHome Team: Team Dino Nuggets\nAw
 ay Team: SFC Warheads\nHome Score: 16\nAway Score: 9
END:VEVENT
BEGIN:VEVENT
UID:16081749@ezleagues.ezfacility.com
DTSTAMP:20260426T035010Z
CREATED:20260426T035010Z
DTSTART:20250117T230000Z
DTEND:20250117T235000Z
LOCATION:Car Stereo One Small Field
CONTACT:Abodeely
SUMMARY:Thunder VS. Team Dino Nuggets
DESCRIPTION:League Name: 2024/25 Maumee CS1 Small Field Coed 11/12/13 S2\nG
 ame Type: Regular\nGame Status: Complete\nHome Team: Thunder\nAway Team: T
 eam Dino Nuggets\nHome Score: 8\nAway Score: 9
END:VEVENT
BEGIN:VEVENT
UID:16081759@ezleagues.ezfacility.com
DTSTAMP:20260426T035010Z
CREATED:20260426T035010Z
DTSTART:20250119T230000Z
DTEND:20250119T235000Z
LOCATION:Car Stereo One Small Field
CONTACT:Mead - C
SUMMARY:Team Dino Nuggets VS. United 1
DESCRIPTION:League Name: 2024/25 Maumee CS1 Small Field Coed 11/12/13 S2\nG
 ame Type: Regular\nGame Status: Complete\nHome Team: Team Dino Nuggets\nAw
 ay Team: United 1\nHome Score: 8\nAway Score: 11
END:VEVENT
BEGIN:VEVENT
UID:16081762@ezleagues.ezfacility.com
DTSTAMP:20260426T035010Z
CREATED:20260426T035010Z
DTSTART:20250126T144000Z
DTEND:20250126T153000Z
LOCATION:Car Stereo One Small Field
CONTACT:
SUMMARY:United 2 VS. Team Dino Nuggets
DESCRIPTION:League Name: 2024/25 Maumee CS1 Small Field Coed 11/12/13 S2\nG
 ame Type: Regular\nGame Status: Complete\nHome Team: United 2\nAway Team: 
 Team Dino Nuggets\nHome Score: 7\nAway Score: 9
END:VEVENT
END:VCALENDAR
