BEGIN:VCALENDAR
VERSION:2.0
PRODID:-//EZFacility.com, Inc.//EZL 2.5.5.28621
BEGIN:VEVENT
UID:16077106@ezleagues.ezfacility.com
DTSTAMP:20260420T072459Z
CREATED:20260420T072459Z
DTSTART:20241126T020000Z
DTEND:20241126T024000Z
LOCATION:Back Field
CONTACT:
SUMMARY:Unathletico Madrid VS. Retired FC
DESCRIPTION:League Name: DSA Winter - 2024-25 Turf Adult Soccer League - GO
 LD Men's Open League\nGame Type: Regular\nGame Status: Complete\nHome Team
 : Unathletico Madrid\nAway Team: Retired FC\nHome Score: 1\nAway Score: 4
END:VEVENT
BEGIN:VEVENT
UID:16077113@ezleagues.ezfacility.com
DTSTAMP:20260420T072459Z
CREATED:20260420T072459Z
DTSTART:20241210T020000Z
DTEND:20241210T024000Z
LOCATION:Back Field
CONTACT:
SUMMARY:Tank VS. Retired FC
DESCRIPTION:League Name: DSA Winter - 2024-25 Turf Adult Soccer League - GO
 LD Men's Open League\nGame Type: Regular\nGame Status: Complete\nHome Team
 : Tank\nAway Team: Retired FC\nHome Score: 4\nAway Score: 3
END:VEVENT
BEGIN:VEVENT
UID:16077123@ezleagues.ezfacility.com
DTSTAMP:20260420T072459Z
CREATED:20260420T072459Z
DTSTART:20241224T023000Z
DTEND:20241224T031000Z
LOCATION:Front Field
CONTACT:
SUMMARY:Retired FC VS. Pipelayers
DESCRIPTION:League Name: DSA Winter - 2024-25 Turf Adult Soccer League - GO
 LD Men's Open League\nGame Type: Regular\nGame Status: Complete\nHome Team
 : Retired FC\nAway Team: Pipelayers\nHome Score: 8\nAway Score: 7
END:VEVENT
BEGIN:VEVENT
UID:16077187@ezleagues.ezfacility.com
DTSTAMP:20260420T072459Z
CREATED:20260420T072459Z
DTSTART:20250121T020000Z
DTEND:20250121T024000Z
LOCATION:Front Field
CONTACT:
SUMMARY:Trash On Grass VS. Retired FC
DESCRIPTION:League Name: DSA Winter - 2024-25 Turf Adult Soccer League - GO
 LD Men's Open League\nGame Type: Regular\nGame Status: Complete\nHome Team
 : Trash On Grass\nAway Team: Retired FC\nHome Score: 5\nAway Score: 6
END:VEVENT
BEGIN:VEVENT
UID:16077221@ezleagues.ezfacility.com
DTSTAMP:20260420T072459Z
CREATED:20260420T072459Z
DTSTART:20250204T024500Z
DTEND:20250204T032500Z
LOCATION:Front Field
CONTACT:
SUMMARY:Retired FC VS. Ball busters fc
DESCRIPTION:League Name: DSA Winter - 2024-25 Turf Adult Soccer League - GO
 LD Men's Open League\nGame Type: Regular\nGame Status: Complete\nHome Team
 : Retired FC\nAway Team: Ball busters fc\nHome Score: 9\nAway Score: 4
END:VEVENT
BEGIN:VEVENT
UID:16077225@ezleagues.ezfacility.com
DTSTAMP:20260420T072459Z
CREATED:20260420T072459Z
DTSTART:20250211T024500Z
DTEND:20250211T032500Z
LOCATION:Back Field
CONTACT:
SUMMARY:Runners VS. Retired FC
DESCRIPTION:League Name: DSA Winter - 2024-25 Turf Adult Soccer League - GO
 LD Men's Open League\nGame Type: Regular\nGame Status: Complete\nHome Team
 : Runners\nAway Team: Retired FC\nHome Score: 3\nAway Score: 7
END:VEVENT
BEGIN:VEVENT
UID:16077174@ezleagues.ezfacility.com
DTSTAMP:20260420T072459Z
CREATED:20260420T072459Z
DTSTART:20250225T024500Z
DTEND:20250225T033000Z
LOCATION:Front Field
CONTACT:
SUMMARY:Retired FC VS. Aktive FC
DESCRIPTION:League Name: DSA Winter - 2024-25 Turf Adult Soccer League - GO
 LD Men's Open League\nGame Type: Regular\nGame Status: Complete\nHome Team
 : Retired FC\nAway Team: Aktive FC\nHome Score: 3\nAway Score: 3
END:VEVENT
BEGIN:VEVENT
UID:16077023@ezleagues.ezfacility.com
DTSTAMP:20260420T072459Z
CREATED:20260420T072459Z
DTSTART:20250311T004500Z
DTEND:20250311T013000Z
LOCATION:Back Field
CONTACT:
SUMMARY:Retired FC VS. Shooting Stars
DESCRIPTION:League Name: DSA Winter - 2024-25 Turf Adult Soccer League - GO
 LD Men's Open League\nGame Type: Postseason\nGame Status: Complete\nHome T
 eam: Retired FC\nAway Team: Shooting Stars\nHome Score: 4\nAway Score: 5
END:VEVENT
END:VCALENDAR
