BEGIN:VCALENDAR
VERSION:2.0
PRODID:-//EZFacility.com, Inc.//EZL 2.5.5.28621
BEGIN:VEVENT
UID:16076586@ezleagues.ezfacility.com
DTSTAMP:20260425T213219Z
CREATED:20260425T213219Z
DTSTART:20241205T004500Z
DTEND:20241205T012500Z
LOCATION:Front Field
CONTACT:
SUMMARY:Shake n Bake VS. Annihilators
DESCRIPTION:League Name: DSA Winter - 2024-25 Turf Adult Soccer League - GO
 LD COED League\nGame Type: Regular\nGame Status: Complete\nHome Team: Shak
 e n Bake\nAway Team: Annihilators\nHome Score: 7\nAway Score: 6
END:VEVENT
BEGIN:VEVENT
UID:16076593@ezleagues.ezfacility.com
DTSTAMP:20260425T213219Z
CREATED:20260425T213219Z
DTSTART:20241212T021500Z
DTEND:20241212T025500Z
LOCATION:Front Field
CONTACT:
SUMMARY:Ottershine FC VS. Shake n Bake
DESCRIPTION:League Name: DSA Winter - 2024-25 Turf Adult Soccer League - GO
 LD COED League\nGame Type: Regular\nGame Status: Complete\nHome Team: Otte
 rshine FC\nAway Team: Shake n Bake\nHome Score: 12\nAway Score: 3
END:VEVENT
BEGIN:VEVENT
UID:16076672@ezleagues.ezfacility.com
DTSTAMP:20260425T213219Z
CREATED:20260425T213219Z
DTSTART:20241212T030000Z
DTEND:20241212T034000Z
LOCATION:Front Field
CONTACT:
SUMMARY:Shake n Bake VS. Icy Hots
DESCRIPTION:League Name: DSA Winter - 2024-25 Turf Adult Soccer League - GO
 LD COED League\nGame Type: Regular\nGame Status: Complete\nHome Team: Shak
 e n Bake\nAway Team: Icy Hots\nHome Score: 16\nAway Score: 4
END:VEVENT
BEGIN:VEVENT
UID:16076676@ezleagues.ezfacility.com
DTSTAMP:20260425T213219Z
CREATED:20260425T213219Z
DTSTART:20241219T021500Z
DTEND:20241219T025500Z
LOCATION:Front Field
CONTACT:
SUMMARY:Noodle Wagon FC VS. Shake n Bake
DESCRIPTION:League Name: DSA Winter - 2024-25 Turf Adult Soccer League - GO
 LD COED League\nGame Type: Regular\nGame Status: Complete\nHome Team: Nood
 le Wagon FC\nAway Team: Shake n Bake\nHome Score: 1\nAway Score: 4
END:VEVENT
BEGIN:VEVENT
UID:16076681@ezleagues.ezfacility.com
DTSTAMP:20260425T213219Z
CREATED:20260425T213219Z
DTSTART:20250116T023000Z
DTEND:20250116T031000Z
LOCATION:Front Field
CONTACT:
SUMMARY:Shake n Bake VS. Annihilators
DESCRIPTION:League Name: DSA Winter - 2024-25 Turf Adult Soccer League - GO
 LD COED League\nGame Type: Regular\nGame Status: Complete\nHome Team: Shak
 e n Bake\nAway Team: Annihilators\nHome Score: 7\nAway Score: 4
END:VEVENT
BEGIN:VEVENT
UID:16076689@ezleagues.ezfacility.com
DTSTAMP:20260425T213219Z
CREATED:20260425T213219Z
DTSTART:20250130T033000Z
DTEND:20250130T041000Z
LOCATION:Back Field
CONTACT:
SUMMARY:Sacks and Racks VS. Shake n Bake
DESCRIPTION:League Name: DSA Winter - 2024-25 Turf Adult Soccer League - GO
 LD COED League\nGame Type: Regular\nGame Status: Complete\nHome Team: Sack
 s and Racks\nAway Team: Shake n Bake\nHome Score: 5\nAway Score: 4
END:VEVENT
BEGIN:VEVENT
UID:16076693@ezleagues.ezfacility.com
DTSTAMP:20260425T213219Z
CREATED:20260425T213219Z
DTSTART:20250213T023000Z
DTEND:20250213T031000Z
LOCATION:Soccer Field Front
CONTACT:
SUMMARY:Shake n Bake VS. Turf Sharks
DESCRIPTION:League Name: DSA Winter - 2024-25 Turf Adult Soccer League - GO
 LD COED League\nGame Type: Regular\nGame Status: Complete\nHome Team: Shak
 e n Bake\nAway Team: Turf Sharks\nHome Score: 3\nAway Score: 3
END:VEVENT
BEGIN:VEVENT
UID:16076701@ezleagues.ezfacility.com
DTSTAMP:20260425T213219Z
CREATED:20260425T213219Z
DTSTART:20250306T030000Z
DTEND:20250306T034000Z
LOCATION:Back Field
CONTACT:
SUMMARY:Shake n Bake VS. JUST JAY
DESCRIPTION:League Name: DSA Winter - 2024-25 Turf Adult Soccer League - GO
 LD COED League\nGame Type: Postseason\nGame Status: Complete\nHome Team: S
 hake n Bake\nAway Team: JUST JAY\nHome Score: 1\nAway Score: 2
END:VEVENT
END:VCALENDAR
