BEGIN:VCALENDAR
VERSION:2.0
PRODID:-//EZFacility.com, Inc.//EZL 2.5.5.28621
BEGIN:VEVENT
UID:16076705@ezleagues.ezfacility.com
DTSTAMP:20260420T234832Z
CREATED:20260420T234832Z
DTSTART:20241121T003000Z
DTEND:20241121T011000Z
LOCATION:Front Field
CONTACT:
SUMMARY:Ballbusters TT VS. David
DESCRIPTION:League Name: DSA Winter - 2024-25 Turf Adult Soccer League - SI
 LVER COED League\nGame Type: Regular\nGame Status: Complete\nHome Team: Ba
 llbusters TT\nAway Team: David\nHome Score: 7\nAway Score: 7
END:VEVENT
BEGIN:VEVENT
UID:16076719@ezleagues.ezfacility.com
DTSTAMP:20260420T234832Z
CREATED:20260420T234832Z
DTSTART:20241205T021500Z
DTEND:20241205T025500Z
LOCATION:Front Field
CONTACT:
SUMMARY:David VS. Purple Haze
DESCRIPTION:League Name: DSA Winter - 2024-25 Turf Adult Soccer League - SI
 LVER COED League\nGame Type: Regular\nGame Status: Complete\nHome Team: Da
 vid\nAway Team: Purple Haze\nHome Score: 3\nAway Score: 5
END:VEVENT
BEGIN:VEVENT
UID:16076734@ezleagues.ezfacility.com
DTSTAMP:20260420T234832Z
CREATED:20260420T234832Z
DTSTART:20241219T000000Z
DTEND:20241219T004000Z
LOCATION:Back Field
CONTACT:
SUMMARY:IKB VS. David
DESCRIPTION:League Name: DSA Winter - 2024-25 Turf Adult Soccer League - SI
 LVER COED League\nGame Type: Regular\nGame Status: Complete\nHome Team: IK
 B\nAway Team: David\nHome Score: 12\nAway Score: 5
END:VEVENT
BEGIN:VEVENT
UID:16076738@ezleagues.ezfacility.com
DTSTAMP:20260420T234832Z
CREATED:20260420T234832Z
DTSTART:20250109T023000Z
DTEND:20250109T031000Z
LOCATION:Front Field
CONTACT:
SUMMARY:David VS. Team Trifecta
DESCRIPTION:League Name: DSA Winter - 2024-25 Turf Adult Soccer League - SI
 LVER COED League\nGame Type: Regular\nGame Status: Complete\nHome Team: Da
 vid\nAway Team: Team Trifecta\nHome Score: 1\nAway Score: 6
END:VEVENT
BEGIN:VEVENT
UID:16076748@ezleagues.ezfacility.com
DTSTAMP:20260420T234832Z
CREATED:20260420T234832Z
DTSTART:20250123T033000Z
DTEND:20250123T041000Z
LOCATION:Back Field
CONTACT:
SUMMARY:Hucklee Boys VS. David
DESCRIPTION:League Name: DSA Winter - 2024-25 Turf Adult Soccer League - SI
 LVER COED League\nGame Type: Regular\nGame Status: Complete\nHome Team: Hu
 cklee Boys\nAway Team: David\nHome Score: 5\nAway Score: 8
END:VEVENT
BEGIN:VEVENT
UID:16076756@ezleagues.ezfacility.com
DTSTAMP:20260420T234832Z
CREATED:20260420T234832Z
DTSTART:20250206T031500Z
DTEND:20250206T035500Z
LOCATION:Front Field
CONTACT:
SUMMARY:David VS. Del Grove FC
DESCRIPTION:League Name: DSA Winter - 2024-25 Turf Adult Soccer League - SI
 LVER COED League\nGame Type: Regular\nGame Status: Complete\nHome Team: Da
 vid\nAway Team: Del Grove FC\nHome Score: 7\nAway Score: 5
END:VEVENT
BEGIN:VEVENT
UID:16076773@ezleagues.ezfacility.com
DTSTAMP:20260420T234832Z
CREATED:20260420T234832Z
DTSTART:20250220T024500Z
DTEND:20250220T032500Z
LOCATION:Back Field
CONTACT:
SUMMARY:Kicking Assets VS. David
DESCRIPTION:League Name: DSA Winter - 2024-25 Turf Adult Soccer League - SI
 LVER COED League\nGame Type: Regular\nGame Status: Complete\nHome Team: Ki
 cking Assets\nAway Team: David\nHome Score: 2\nAway Score: 11
END:VEVENT
BEGIN:VEVENT
UID:16076782@ezleagues.ezfacility.com
DTSTAMP:20260420T234832Z
CREATED:20260420T234832Z
DTSTART:20250306T013000Z
DTEND:20250306T021000Z
LOCATION:Front Field
CONTACT:
SUMMARY:Team Trifecta VS. David
DESCRIPTION:League Name: DSA Winter - 2024-25 Turf Adult Soccer League - SI
 LVER COED League\nGame Type: Postseason\nGame Status: Complete\nHome Team:
  Team Trifecta\nAway Team: David\nHome Score: 9\nAway Score: 6
END:VEVENT
END:VCALENDAR
