BEGIN:VCALENDAR
VERSION:2.0
PRODID:-//EZFacility.com, Inc.//EZL 2.5.5.28621
BEGIN:VEVENT
UID:16076709@ezleagues.ezfacility.com
DTSTAMP:20260422T030049Z
CREATED:20260422T030049Z
DTSTART:20241121T024500Z
DTEND:20241121T032500Z
LOCATION:Back Field
CONTACT:
SUMMARY:Del Grove FC VS. Dyslexia Untied
DESCRIPTION:League Name: DSA Winter - 2024-25 Turf Adult Soccer League - SI
 LVER COED League\nGame Type: Regular\nGame Status: Complete\nHome Team: De
 l Grove FC\nAway Team: Dyslexia Untied\nHome Score: 0\nAway Score: 3
END:VEVENT
BEGIN:VEVENT
UID:16076721@ezleagues.ezfacility.com
DTSTAMP:20260422T030049Z
CREATED:20260422T030049Z
DTSTART:20241205T030000Z
DTEND:20241205T034000Z
LOCATION:Front Field
CONTACT:
SUMMARY:Ballbusters TT VS. Del Grove FC
DESCRIPTION:League Name: DSA Winter - 2024-25 Turf Adult Soccer League - SI
 LVER COED League\nGame Type: Regular\nGame Status: Complete\nHome Team: Ba
 llbusters TT\nAway Team: Del Grove FC\nHome Score: 7\nAway Score: 2
END:VEVENT
BEGIN:VEVENT
UID:16076735@ezleagues.ezfacility.com
DTSTAMP:20260422T030049Z
CREATED:20260422T030049Z
DTSTART:20241219T004500Z
DTEND:20241219T012500Z
LOCATION:Back Field
CONTACT:
SUMMARY:Del Grove FC VS. Purple Haze
DESCRIPTION:League Name: DSA Winter - 2024-25 Turf Adult Soccer League - SI
 LVER COED League\nGame Type: Regular\nGame Status: Complete\nHome Team: De
 l Grove FC\nAway Team: Purple Haze\nHome Score: 4\nAway Score: 9
END:VEVENT
BEGIN:VEVENT
UID:16076737@ezleagues.ezfacility.com
DTSTAMP:20260422T030049Z
CREATED:20260422T030049Z
DTSTART:20241219T021500Z
DTEND:20241219T025500Z
LOCATION:Back Field
CONTACT:
SUMMARY:IKB VS. Del Grove FC
DESCRIPTION:League Name: DSA Winter - 2024-25 Turf Adult Soccer League - SI
 LVER COED League\nGame Type: Regular\nGame Status: Complete\nHome Team: IK
 B\nAway Team: Del Grove FC\nHome Score: 9\nAway Score: 2
END:VEVENT
BEGIN:VEVENT
UID:16076749@ezleagues.ezfacility.com
DTSTAMP:20260422T030049Z
CREATED:20260422T030049Z
DTSTART:20250130T023000Z
DTEND:20250130T031000Z
LOCATION:Front Field
CONTACT:
SUMMARY:Del Grove FC VS. Team Trifecta
DESCRIPTION:League Name: DSA Winter - 2024-25 Turf Adult Soccer League - SI
 LVER COED League\nGame Type: Regular\nGame Status: Complete\nHome Team: De
 l Grove FC\nAway Team: Team Trifecta\nHome Score: 0\nAway Score: 5
END:VEVENT
BEGIN:VEVENT
UID:16076756@ezleagues.ezfacility.com
DTSTAMP:20260422T030049Z
CREATED:20260422T030049Z
DTSTART:20250206T031500Z
DTEND:20250206T035500Z
LOCATION:Front Field
CONTACT:
SUMMARY:David VS. Del Grove FC
DESCRIPTION:League Name: DSA Winter - 2024-25 Turf Adult Soccer League - SI
 LVER COED League\nGame Type: Regular\nGame Status: Complete\nHome Team: Da
 vid\nAway Team: Del Grove FC\nHome Score: 7\nAway Score: 5
END:VEVENT
BEGIN:VEVENT
UID:16076779@ezleagues.ezfacility.com
DTSTAMP:20260422T030049Z
CREATED:20260422T030049Z
DTSTART:20250227T024500Z
DTEND:20250227T032500Z
LOCATION:Back Field
CONTACT:
SUMMARY:Del Grove FC VS. Hucklee Boys
DESCRIPTION:League Name: DSA Winter - 2024-25 Turf Adult Soccer League - SI
 LVER COED League\nGame Type: Regular\nGame Status: Complete\nHome Team: De
 l Grove FC\nAway Team: Hucklee Boys\nHome Score: 3\nAway Score: 9
END:VEVENT
BEGIN:VEVENT
UID:16076780@ezleagues.ezfacility.com
DTSTAMP:20260422T030049Z
CREATED:20260422T030049Z
DTSTART:20250306T000000Z
DTEND:20250306T004000Z
LOCATION:Front Field
CONTACT:
SUMMARY:Del Grove FC VS. Kicking Assets
DESCRIPTION:League Name: DSA Winter - 2024-25 Turf Adult Soccer League - SI
 LVER COED League\nGame Type: Friendly\nGame Status: Complete\nHome Team: D
 el Grove FC\nAway Team: Kicking Assets\nHome Score: 11\nAway Score: 5
END:VEVENT
END:VCALENDAR
