BEGIN:VCALENDAR
VERSION:2.0
PRODID:-//EZFacility.com, Inc.//EZL 2.5.5.28621
BEGIN:VEVENT
UID:16080764@ezleagues.ezfacility.com
DTSTAMP:20260423T160848Z
CREATED:20260423T160848Z
DTSTART:20241130T200000Z
DTEND:20241130T210000Z
LOCATION:Masia 1
CONTACT:
SUMMARY:United White 1 VS. Maryland International 
DESCRIPTION:League Name: 2014/2013 Boys Winter Futsal 24\nGame Type: Regula
 r\nGame Status: Complete\nHome Team: United White 1\nAway Team: Maryland I
 nternational \nHome Score: 3\nAway Score: 10
END:VEVENT
BEGIN:VEVENT
UID:16080768@ezleagues.ezfacility.com
DTSTAMP:20260423T160848Z
CREATED:20260423T160848Z
DTSTART:20241207T200000Z
DTEND:20241207T210000Z
LOCATION:Masia 2
CONTACT:
SUMMARY:Maryland International  VS. UES Medrano
DESCRIPTION:League Name: 2014/2013 Boys Winter Futsal 24\nGame Type: Regula
 r\nGame Status: Complete\nHome Team: Maryland International \nAway Team: U
 ES Medrano\nHome Score: 6\nAway Score: 6
END:VEVENT
BEGIN:VEVENT
UID:16080770@ezleagues.ezfacility.com
DTSTAMP:20260423T160848Z
CREATED:20260423T160848Z
DTSTART:20241214T210000Z
DTEND:20241214T220000Z
LOCATION:Masia 1
CONTACT:
SUMMARY:United White 1 VS. Maryland International 
DESCRIPTION:League Name: 2014/2013 Boys Winter Futsal 24\nGame Type: Regula
 r\nGame Status: Complete\nHome Team: United White 1\nAway Team: Maryland I
 nternational \nHome Score: 3\nAway Score: 13
END:VEVENT
BEGIN:VEVENT
UID:16080774@ezleagues.ezfacility.com
DTSTAMP:20260423T160848Z
CREATED:20260423T160848Z
DTSTART:20241221T200000Z
DTEND:20241221T210000Z
LOCATION:Masia 2
CONTACT:
SUMMARY:Maryland International  VS. United White 2
DESCRIPTION:League Name: 2014/2013 Boys Winter Futsal 24\nGame Type: Regula
 r\nGame Status: Complete\nHome Team: Maryland International \nAway Team: U
 nited White 2\nHome Score: 13\nAway Score: 8
END:VEVENT
BEGIN:VEVENT
UID:16080778@ezleagues.ezfacility.com
DTSTAMP:20260423T160848Z
CREATED:20260423T160848Z
DTSTART:20241228T200000Z
DTEND:20241228T210000Z
LOCATION:Masia 1
CONTACT:
SUMMARY:Maryland International  VS. Thunder Arsenal Red
DESCRIPTION:League Name: 2014/2013 Boys Winter Futsal 24\nGame Type: Regula
 r\nGame Status: Complete\nHome Team: Maryland International \nAway Team: T
 hunder Arsenal Red\nHome Score: 5\nAway Score: 3
END:VEVENT
BEGIN:VEVENT
UID:16080781@ezleagues.ezfacility.com
DTSTAMP:20260423T160848Z
CREATED:20260423T160848Z
DTSTART:20250104T200000Z
DTEND:20250104T210000Z
LOCATION:Masia 1
CONTACT:
SUMMARY:Freedom Fury VS. Maryland International 
DESCRIPTION:League Name: 2014/2013 Boys Winter Futsal 24\nGame Type: Regula
 r\nGame Status: Complete\nHome Team: Freedom Fury\nAway Team: Maryland Int
 ernational \nHome Score: 6\nAway Score: 7
END:VEVENT
BEGIN:VEVENT
UID:16080783@ezleagues.ezfacility.com
DTSTAMP:20260423T160848Z
CREATED:20260423T160848Z
DTSTART:20250111T210000Z
DTEND:20250111T220000Z
LOCATION:Masia 1
CONTACT:
SUMMARY:UES Medrano VS. Maryland International 
DESCRIPTION:League Name: 2014/2013 Boys Winter Futsal 24\nGame Type: Regula
 r\nGame Status: Complete\nHome Team: UES Medrano\nAway Team: Maryland Inte
 rnational \nHome Score: 2\nAway Score: 4
END:VEVENT
END:VCALENDAR
