BEGIN:VCALENDAR
VERSION:2.0
PRODID:-//EZFacility.com, Inc.//EZL 2.5.5.28621
BEGIN:VEVENT
UID:16081967@ezleagues.ezfacility.com
DTSTAMP:20260424T030349Z
CREATED:20260424T030349Z
DTSTART:20241207T181000Z
DTEND:20241207T190000Z
LOCATION:Indoor Field
CONTACT:
SUMMARY:FCD 2012s  VS. Wolves FC
DESCRIPTION:League Name: 2013/2012 Boys Winter 2024\nGame Type: Regular\nGa
 me Status: Complete\nHome Team: FCD 2012s \nAway Team: Wolves FC\nHome Sco
 re: 7\nAway Score: 4
END:VEVENT
BEGIN:VEVENT
UID:16081971@ezleagues.ezfacility.com
DTSTAMP:20260424T030349Z
CREATED:20260424T030349Z
DTSTART:20241208T005000Z
DTEND:20241208T014000Z
LOCATION:Indoor Field
CONTACT:
SUMMARY:Wolves FC VS. DKSC ETX 12B Ortiz
DESCRIPTION:League Name: 2013/2012 Boys Winter 2024\nGame Type: Regular\nGa
 me Status: Complete\nHome Team: Wolves FC\nAway Team: DKSC ETX 12B Ortiz\n
 Home Score: 3\nAway Score: 12
END:VEVENT
BEGIN:VEVENT
UID:16081979@ezleagues.ezfacility.com
DTSTAMP:20260424T030349Z
CREATED:20260424T030349Z
DTSTART:20241222T014000Z
DTEND:20241222T023000Z
LOCATION:Indoor Field
CONTACT:
SUMMARY:Cobras  VS. Wolves FC
DESCRIPTION:League Name: 2013/2012 Boys Winter 2024\nGame Type: Regular\nGa
 me Status: Complete\nHome Team: Cobras \nAway Team: Wolves FC\nHome Score:
  1\nAway Score: 25
END:VEVENT
BEGIN:VEVENT
UID:16081991@ezleagues.ezfacility.com
DTSTAMP:20260424T030349Z
CREATED:20260424T030349Z
DTSTART:20250105T014000Z
DTEND:20250105T023000Z
LOCATION:Indoor Field
CONTACT:
SUMMARY:ETU Blue  VS. Wolves FC
DESCRIPTION:League Name: 2013/2012 Boys Winter 2024\nGame Type: Regular\nGa
 me Status: Complete\nHome Team: ETU Blue \nAway Team: Wolves FC\nHome Scor
 e: 1\nAway Score: 16
END:VEVENT
BEGIN:VEVENT
UID:16081975@ezleagues.ezfacility.com
DTSTAMP:20260424T030349Z
CREATED:20260424T030349Z
DTSTART:20250118T190000Z
DTEND:20250118T195000Z
LOCATION:Indoor Field
CONTACT:
SUMMARY:ETU White  VS. Wolves FC
DESCRIPTION:League Name: 2013/2012 Boys Winter 2024\nGame Type: Regular\nGa
 me Status: Complete\nHome Team: ETU White \nAway Team: Wolves FC\nHome Sco
 re: 5\nAway Score: 6
END:VEVENT
BEGIN:VEVENT
UID:16081997@ezleagues.ezfacility.com
DTSTAMP:20260424T030349Z
CREATED:20260424T030349Z
DTSTART:20250118T195000Z
DTEND:20250118T204000Z
LOCATION:Indoor Field
CONTACT:
SUMMARY:Wolves FC VS. DKSC LOPEZ
DESCRIPTION:League Name: 2013/2012 Boys Winter 2024\nGame Type: Regular\nGa
 me Status: Complete\nHome Team: Wolves FC\nAway Team: DKSC LOPEZ\nHome Sco
 re: 4\nAway Score: 13
END:VEVENT
BEGIN:VEVENT
UID:16081985@ezleagues.ezfacility.com
DTSTAMP:20260424T030349Z
CREATED:20260424T030349Z
DTSTART:20250126T023000Z
DTEND:20250126T032000Z
LOCATION:Indoor Field
CONTACT:
SUMMARY:Wolves FC VS. MP Rayados
DESCRIPTION:League Name: 2013/2012 Boys Winter 2024\nGame Type: Regular\nGa
 me Status: Complete\nHome Team: Wolves FC\nAway Team: MP Rayados\nHome Sco
 re: 10\nAway Score: 1
END:VEVENT
END:VCALENDAR
