BEGIN:VCALENDAR
VERSION:2.0
PRODID:-//EZFacility.com, Inc.//EZL 2.5.5.28621
BEGIN:VEVENT
UID:16083078@ezleagues.ezfacility.com
DTSTAMP:20260424T044303Z
CREATED:20260424T044303Z
DTSTART:20241126T021500Z
DTEND:20241126T030500Z
LOCATION:Indoor East
CONTACT:
SUMMARY:BALLS-N-DOLLS VS. Arthritico Madrid
DESCRIPTION:League Name: Mon Coed Friendly A\nGame Type: Regular\nGame Stat
 us: Complete\nHome Team: BALLS-N-DOLLS\nAway Team: Arthritico Madrid\nHome
  Score: 3\nAway Score: 0
END:VEVENT
BEGIN:VEVENT
UID:16089330@ezleagues.ezfacility.com
DTSTAMP:20260424T044303Z
CREATED:20260424T044303Z
DTSTART:20241203T063000Z
DTEND:20241203T072000Z
LOCATION:Indoor West
CONTACT:
SUMMARY:BALLS-N-DOLLS VS. Phatter Barrelz
DESCRIPTION:League Name: Mon Coed Friendly A\nGame Type: Regular\nGame Stat
 us: Complete\nHome Team: BALLS-N-DOLLS\nAway Team: Phatter Barrelz\nHome S
 core: 4\nAway Score: 8
END:VEVENT
BEGIN:VEVENT
UID:16089334@ezleagues.ezfacility.com
DTSTAMP:20260424T044303Z
CREATED:20260424T044303Z
DTSTART:20241210T030500Z
DTEND:20241210T035500Z
LOCATION:Indoor East
CONTACT:
SUMMARY:Meg-atron VS. BALLS-N-DOLLS
DESCRIPTION:League Name: Mon Coed Friendly A\nGame Type: Regular\nGame Stat
 us: Complete\nHome Team: Meg-atron\nAway Team: BALLS-N-DOLLS\nHome Score: 
 8\nAway Score: 2
END:VEVENT
BEGIN:VEVENT
UID:16089338@ezleagues.ezfacility.com
DTSTAMP:20260424T044303Z
CREATED:20260424T044303Z
DTSTART:20241217T040500Z
DTEND:20241217T045500Z
LOCATION:Indoor West
CONTACT:
SUMMARY:BALLS-N-DOLLS VS. Adams Team
DESCRIPTION:League Name: Mon Coed Friendly A\nGame Type: Regular\nGame Stat
 us: Complete\nHome Team: BALLS-N-DOLLS\nAway Team: Adams Team\nHome Score:
  5\nAway Score: 12
END:VEVENT
BEGIN:VEVENT
UID:16089342@ezleagues.ezfacility.com
DTSTAMP:20260424T044303Z
CREATED:20260424T044303Z
DTSTART:20241224T045500Z
DTEND:20241224T054500Z
LOCATION:Indoor West
CONTACT:
SUMMARY:Hellfire Club VS. BALLS-N-DOLLS
DESCRIPTION:League Name: Mon Coed Friendly A\nGame Type: Regular\nGame Stat
 us: Complete\nHome Team: Hellfire Club\nAway Team: BALLS-N-DOLLS\nHome Sco
 re: 7\nAway Score: 2
END:VEVENT
BEGIN:VEVENT
UID:16089346@ezleagues.ezfacility.com
DTSTAMP:20260424T044303Z
CREATED:20260424T044303Z
DTSTART:20241231T004500Z
DTEND:20241231T013500Z
LOCATION:Indoor East
CONTACT:
SUMMARY:BALLS-N-DOLLS VS. Tobin Miller and Friends
DESCRIPTION:League Name: Mon Coed Friendly A\nGame Type: Regular\nGame Stat
 us: Complete\nHome Team: BALLS-N-DOLLS\nAway Team: Tobin Miller and Friend
 s\nHome Score: 2\nAway Score: 8
END:VEVENT
BEGIN:VEVENT
UID:16089350@ezleagues.ezfacility.com
DTSTAMP:20260424T044303Z
CREATED:20260424T044303Z
DTSTART:20250107T031000Z
DTEND:20250107T040000Z
LOCATION:Indoor West
CONTACT:
SUMMARY:Cecil's All-Stars VS. BALLS-N-DOLLS
DESCRIPTION:League Name: Mon Coed Friendly A\nGame Type: Regular\nGame Stat
 us: Complete\nHome Team: Cecil's All-Stars\nAway Team: BALLS-N-DOLLS\nHome
  Score: 2\nAway Score: 0
END:VEVENT
BEGIN:VEVENT
UID:16094276@ezleagues.ezfacility.com
DTSTAMP:20260424T044303Z
CREATED:20260424T044303Z
DTSTART:20250114T045500Z
DTEND:20250114T054500Z
LOCATION:Indoor West
CONTACT:
SUMMARY:BALLS-N-DOLLS VS. NimbL
DESCRIPTION:League Name: Mon Coed Friendly A\nGame Type: Regular\nGame Stat
 us: Complete\nHome Team: BALLS-N-DOLLS\nAway Team: NimbL\nHome Score: 2\nA
 way Score: 6
END:VEVENT
END:VCALENDAR
