BEGIN:VCALENDAR
VERSION:2.0
PRODID:-//EZFacility.com, Inc.//EZL 2.5.5.28621
BEGIN:VEVENT
UID:16083078@ezleagues.ezfacility.com
DTSTAMP:20260424T043957Z
CREATED:20260424T043957Z
DTSTART:20241126T021500Z
DTEND:20241126T030500Z
LOCATION:Indoor East
CONTACT:
SUMMARY:BALLS-N-DOLLS VS. Arthritico Madrid
DESCRIPTION:League Name: Mon Coed Friendly A\nGame Type: Regular\nGame Stat
 us: Complete\nHome Team: BALLS-N-DOLLS\nAway Team: Arthritico Madrid\nHome
  Score: 3\nAway Score: 0
END:VEVENT
BEGIN:VEVENT
UID:16089331@ezleagues.ezfacility.com
DTSTAMP:20260424T043957Z
CREATED:20260424T043957Z
DTSTART:20241203T061500Z
DTEND:20241203T070500Z
LOCATION:Indoor East
CONTACT:
SUMMARY:Arthritico Madrid VS. Cecil's All-Stars
DESCRIPTION:League Name: Mon Coed Friendly A\nGame Type: Regular\nGame Stat
 us: Complete\nHome Team: Arthritico Madrid\nAway Team: Cecil's All-Stars\n
 Home Score: 5\nAway Score: 5
END:VEVENT
BEGIN:VEVENT
UID:16089335@ezleagues.ezfacility.com
DTSTAMP:20260424T043957Z
CREATED:20260424T043957Z
DTSTART:20241210T003500Z
DTEND:20241210T012500Z
LOCATION:Indoor East
CONTACT:
SUMMARY:Tobin Miller and Friends VS. Arthritico Madrid
DESCRIPTION:League Name: Mon Coed Friendly A\nGame Type: Regular\nGame Stat
 us: Complete\nHome Team: Tobin Miller and Friends\nAway Team: Arthritico M
 adrid\nHome Score: 6\nAway Score: 12
END:VEVENT
BEGIN:VEVENT
UID:16089339@ezleagues.ezfacility.com
DTSTAMP:20260424T043957Z
CREATED:20260424T043957Z
DTSTART:20241217T021500Z
DTEND:20241217T030500Z
LOCATION:Indoor East
CONTACT:
SUMMARY:Arthritico Madrid VS. Hellfire Club
DESCRIPTION:League Name: Mon Coed Friendly A\nGame Type: Regular\nGame Stat
 us: Complete\nHome Team: Arthritico Madrid\nAway Team: Hellfire Club\nHome
  Score: 7\nAway Score: 5
END:VEVENT
BEGIN:VEVENT
UID:16089343@ezleagues.ezfacility.com
DTSTAMP:20260424T043957Z
CREATED:20260424T043957Z
DTSTART:20241224T053500Z
DTEND:20241224T062500Z
LOCATION:Indoor East
CONTACT:
SUMMARY:Adams Team VS. Arthritico Madrid
DESCRIPTION:League Name: Mon Coed Friendly A\nGame Type: Regular\nGame Stat
 us: Complete\nHome Team: Adams Team\nAway Team: Arthritico Madrid\nHome Sc
 ore: 5\nAway Score: 5
END:VEVENT
BEGIN:VEVENT
UID:16089347@ezleagues.ezfacility.com
DTSTAMP:20260424T043957Z
CREATED:20260424T043957Z
DTSTART:20241231T013500Z
DTEND:20241231T022500Z
LOCATION:Indoor West
CONTACT:
SUMMARY:Arthritico Madrid VS. Phatter Barrelz
DESCRIPTION:League Name: Mon Coed Friendly A\nGame Type: Regular\nGame Stat
 us: Complete\nHome Team: Arthritico Madrid\nAway Team: Phatter Barrelz\nHo
 me Score: 5\nAway Score: 8
END:VEVENT
BEGIN:VEVENT
UID:16089351@ezleagues.ezfacility.com
DTSTAMP:20260424T043957Z
CREATED:20260424T043957Z
DTSTART:20250107T030500Z
DTEND:20250107T035500Z
LOCATION:Indoor East
CONTACT:
SUMMARY:Meg-atron VS. Arthritico Madrid
DESCRIPTION:League Name: Mon Coed Friendly A\nGame Type: Regular\nGame Stat
 us: Complete\nHome Team: Meg-atron\nAway Team: Arthritico Madrid\nHome Sco
 re: 4\nAway Score: 7
END:VEVENT
BEGIN:VEVENT
UID:16094278@ezleagues.ezfacility.com
DTSTAMP:20260424T043957Z
CREATED:20260424T043957Z
DTSTART:20250114T062500Z
DTEND:20250114T071500Z
LOCATION:Indoor East
CONTACT:
SUMMARY:Adams Team VS. Arthritico Madrid
DESCRIPTION:League Name: Mon Coed Friendly A\nGame Type: Regular\nGame Stat
 us: Complete\nHome Team: Adams Team\nAway Team: Arthritico Madrid\nHome Sc
 ore: 4\nAway Score: 8
END:VEVENT
END:VCALENDAR
