BEGIN:VCALENDAR
VERSION:2.0
PRODID:-//EZFacility.com, Inc.//EZL 2.5.5.28621
BEGIN:VEVENT
UID:16084650@ezleagues.ezfacility.com
DTSTAMP:20260425T174534Z
CREATED:20260425T174534Z
DTSTART:20241201T210000Z
DTEND:20241201T220000Z
LOCATION:Field 2
CONTACT:
SUMMARY:AYSA MARK VS. SOBERANO B
DESCRIPTION:League Name: U10 1ST SESSION FALL 2024\nGame Type: Regular\nGam
 e Status: Complete\nHome Team: AYSA MARK\nAway Team: SOBERANO B\nHome Scor
 e: 5\nAway Score: 12
END:VEVENT
BEGIN:VEVENT
UID:16084654@ezleagues.ezfacility.com
DTSTAMP:20260425T174534Z
CREATED:20260425T174534Z
DTSTART:20241208T200000Z
DTEND:20241208T210000Z
LOCATION:Field 2
CONTACT:
SUMMARY:SOBERANO B VS. AYSA ELTON
DESCRIPTION:League Name: U10 1ST SESSION FALL 2024\nGame Type: Regular\nGam
 e Status: Complete\nHome Team: SOBERANO B\nAway Team: AYSA ELTON\nHome Sco
 re: 3\nAway Score: 7
END:VEVENT
BEGIN:VEVENT
UID:16084658@ezleagues.ezfacility.com
DTSTAMP:20260425T174534Z
CREATED:20260425T174534Z
DTSTART:20241215T220000Z
DTEND:20241215T230000Z
LOCATION:Field 2
CONTACT:
SUMMARY:SOBERANO B VS. AFC JACOB
DESCRIPTION:League Name: U10 1ST SESSION FALL 2024\nGame Type: Regular\nGam
 e Status: Complete\nHome Team: SOBERANO B\nAway Team: AFC JACOB\nHome Scor
 e: 2\nAway Score: 22
END:VEVENT
BEGIN:VEVENT
UID:16084664@ezleagues.ezfacility.com
DTSTAMP:20260425T174534Z
CREATED:20260425T174534Z
DTSTART:20241222T180000Z
DTEND:20241222T190000Z
LOCATION:Field 2
CONTACT:
SUMMARY:Bye Game VS. SOBERANO B
DESCRIPTION:League Name: U10 1ST SESSION FALL 2024\nGame Type: Regular\nGam
 e Status: Pending\nHome Team: Bye Game\nAway Team: SOBERANO B\n
END:VEVENT
BEGIN:VEVENT
UID:16084670@ezleagues.ezfacility.com
DTSTAMP:20260425T174534Z
CREATED:20260425T174534Z
DTSTART:20241229T190000Z
DTEND:20241229T200000Z
LOCATION:Field 2
CONTACT:
SUMMARY:SOBERANO B VS. SOBERANO A
DESCRIPTION:League Name: U10 1ST SESSION FALL 2024\nGame Type: Regular\nGam
 e Status: Complete\nHome Team: SOBERANO B\nAway Team: SOBERANO A\nHome Sco
 re: 2\nAway Score: 33
END:VEVENT
BEGIN:VEVENT
UID:16084676@ezleagues.ezfacility.com
DTSTAMP:20260425T174534Z
CREATED:20260425T174534Z
DTSTART:20250105T190000Z
DTEND:20250105T200000Z
LOCATION:Field 2
CONTACT:
SUMMARY:AYSA CRAIG VS. SOBERANO B
DESCRIPTION:League Name: U10 1ST SESSION FALL 2024\nGame Type: Regular\nGam
 e Status: Complete\nHome Team: AYSA CRAIG\nAway Team: SOBERANO B\nHome Sco
 re: 6\nAway Score: 6
END:VEVENT
BEGIN:VEVENT
UID:16084682@ezleagues.ezfacility.com
DTSTAMP:20260425T174534Z
CREATED:20260425T174534Z
DTSTART:20250112T220000Z
DTEND:20250112T230000Z
LOCATION:Field 2
CONTACT:
SUMMARY:SOBERANO B VS. AYSA STEPHANIE
DESCRIPTION:League Name: U10 1ST SESSION FALL 2024\nGame Type: Regular\nGam
 e Status: Complete\nHome Team: SOBERANO B\nAway Team: AYSA STEPHANIE\nHome
  Score: 8\nAway Score: 4
END:VEVENT
BEGIN:VEVENT
UID:16084687@ezleagues.ezfacility.com
DTSTAMP:20260425T174534Z
CREATED:20260425T174534Z
DTSTART:20250119T220000Z
DTEND:20250119T230000Z
LOCATION:Field 2
CONTACT:
SUMMARY:UNION JUVENIL B VS. SOBERANO B
DESCRIPTION:League Name: U10 1ST SESSION FALL 2024\nGame Type: Regular\nGam
 e Status: Complete\nHome Team: UNION JUVENIL B\nAway Team: SOBERANO B\nHom
 e Score: 9\nAway Score: 6
END:VEVENT
END:VCALENDAR
