BEGIN:VCALENDAR
VERSION:2.0
PRODID:-//EZFacility.com, Inc.//EZL 2.5.5.28621
BEGIN:VEVENT
UID:16084851@ezleagues.ezfacility.com
DTSTAMP:20260420T203258Z
CREATED:20260420T203258Z
DTSTART:20241204T000000Z
DTEND:20241204T005000Z
LOCATION:Indoor Field
CONTACT:
SUMMARY:Blue Lightning  VS. ETU Boys Rios 
DESCRIPTION:League Name: 2015/2014 Premier Mixed Winter 2024\nGame Type: Re
 gular\nGame Status: Complete\nHome Team: Blue Lightning \nAway Team: ETU B
 oys Rios \nHome Score: 4\nAway Score: 5
END:VEVENT
BEGIN:VEVENT
UID:16084856@ezleagues.ezfacility.com
DTSTAMP:20260420T203258Z
CREATED:20260420T203258Z
DTSTART:20241211T000000Z
DTEND:20241211T005000Z
LOCATION:Indoor Field
CONTACT:
SUMMARY:Arsenal  VS. ETU Boys Rios 
DESCRIPTION:League Name: 2015/2014 Premier Mixed Winter 2024\nGame Type: Re
 gular\nGame Status: Complete\nHome Team: Arsenal \nAway Team: ETU Boys Rio
 s \nHome Score: 1\nAway Score: 17
END:VEVENT
BEGIN:VEVENT
UID:16084863@ezleagues.ezfacility.com
DTSTAMP:20260420T203258Z
CREATED:20260420T203258Z
DTSTART:20241217T023000Z
DTEND:20241217T032000Z
LOCATION:Indoor Field
CONTACT:
SUMMARY:ETU Boys Rios  VS. Matadors FC Black
DESCRIPTION:League Name: 2015/2014 Premier Mixed Winter 2024\nGame Type: Re
 gular\nGame Status: Complete\nHome Team: ETU Boys Rios \nAway Team: Matado
 rs FC Black\nHome Score: 15\nAway Score: 1
END:VEVENT
BEGIN:VEVENT
UID:16084877@ezleagues.ezfacility.com
DTSTAMP:20260420T203258Z
CREATED:20260420T203258Z
DTSTART:20241231T023000Z
DTEND:20241231T032000Z
LOCATION:Indoor Field
CONTACT:
SUMMARY:ETU Boys Rios  VS. Matadors FC
DESCRIPTION:League Name: 2015/2014 Premier Mixed Winter 2024\nGame Type: Re
 gular\nGame Status: Complete\nHome Team: ETU Boys Rios \nAway Team: Matado
 rs FC\nHome Score: 9\nAway Score: 0
END:VEVENT
BEGIN:VEVENT
UID:16084884@ezleagues.ezfacility.com
DTSTAMP:20260420T203258Z
CREATED:20260420T203258Z
DTSTART:20250107T005000Z
DTEND:20250107T014000Z
LOCATION:Indoor Field
CONTACT:
SUMMARY:ETU Boys Rios  VS. Elite Premier FC 15/16
DESCRIPTION:League Name: 2015/2014 Premier Mixed Winter 2024\nGame Type: Re
 gular\nGame Status: Complete\nHome Team: ETU Boys Rios \nAway Team: Elite 
 Premier FC 15/16\nHome Score: 16\nAway Score: 1
END:VEVENT
BEGIN:VEVENT
UID:16084891@ezleagues.ezfacility.com
DTSTAMP:20260420T203258Z
CREATED:20260420T203258Z
DTSTART:20250114T005000Z
DTEND:20250114T014000Z
LOCATION:Indoor Field
CONTACT:
SUMMARY:ETU Boys Rios  VS. East Texas United 16B
DESCRIPTION:League Name: 2015/2014 Premier Mixed Winter 2024\nGame Type: Re
 gular\nGame Status: Complete\nHome Team: ETU Boys Rios \nAway Team: East T
 exas United 16B\nHome Score: 5\nAway Score: 13
END:VEVENT
BEGIN:VEVENT
UID:16084870@ezleagues.ezfacility.com
DTSTAMP:20260420T203258Z
CREATED:20260420T203258Z
DTSTART:20250121T023000Z
DTEND:20250121T032000Z
LOCATION:Indoor Field
CONTACT:
SUMMARY:Sigma  VS. ETU Boys Rios 
DESCRIPTION:League Name: 2015/2014 Premier Mixed Winter 2024\nGame Type: Re
 gular\nGame Status: Complete\nHome Team: Sigma \nAway Team: ETU Boys Rios 
 \nHome Score: 1\nAway Score: 11
END:VEVENT
BEGIN:VEVENT
UID:16159395@ezleagues.ezfacility.com
DTSTAMP:20260420T203258Z
CREATED:20260420T203258Z
DTSTART:20250204T023000Z
DTEND:20250204T032000Z
LOCATION:Indoor Field
CONTACT:
SUMMARY:ETU Boys Rios  VS. Matadors FC
DESCRIPTION:League Name: 2015/2014 Premier Mixed Winter 2024\nGame Type: Po
 stseason\nGame Status: Pending\nHome Team: ETU Boys Rios \nAway Team: Mata
 dors FC\n
END:VEVENT
BEGIN:VEVENT
UID:16159396@ezleagues.ezfacility.com
DTSTAMP:20260420T203258Z
CREATED:20260420T203258Z
DTSTART:20250211T003000Z
DTEND:20250211T012000Z
LOCATION:Indoor Field
CONTACT:
SUMMARY:East Texas United 16B VS. ETU Boys Rios 
DESCRIPTION:League Name: 2015/2014 Premier Mixed Winter 2024\nGame Type: Po
 stseason\nGame Status: Pending\nHome Team: East Texas United 16B\nAway Tea
 m: ETU Boys Rios \n
END:VEVENT
END:VCALENDAR
