BEGIN:VCALENDAR
VERSION:2.0
PRODID:-//EZFacility.com, Inc.//EZL 2.5.5.28621
BEGIN:VEVENT
UID:16095786@ezleagues.ezfacility.com
DTSTAMP:20260426T034838Z
CREATED:20260426T034838Z
DTSTART:20241231T023500Z
DTEND:20241231T032500Z
LOCATION:Hockey Rink
CONTACT:E\, MA
SUMMARY:Issues VS. Black Magic
DESCRIPTION:League Name: Hockey  Over  40\nGame Type: Regular\nGame Status:
  Complete\nHome Team: Issues\nAway Team: Black Magic\nHome Score: 6\nAway 
 Score: 12
END:VEVENT
BEGIN:VEVENT
UID:16095787@ezleagues.ezfacility.com
DTSTAMP:20260426T034838Z
CREATED:20260426T034838Z
DTSTART:20250107T023500Z
DTEND:20250107T032500Z
LOCATION:Hockey Rink
CONTACT:E\, KS\, MA
SUMMARY:Admirals VS. Issues
DESCRIPTION:League Name: Hockey  Over  40\nGame Type: Regular\nGame Status:
  Complete\nHome Team: Admirals\nAway Team: Issues\nHome Score: 0\nAway Sco
 re: 1
END:VEVENT
BEGIN:VEVENT
UID:16095790@ezleagues.ezfacility.com
DTSTAMP:20260426T034838Z
CREATED:20260426T034838Z
DTSTART:20250114T032500Z
DTEND:20250114T041500Z
LOCATION:Hockey Rink
CONTACT:KS\, M\, MA
SUMMARY:Fury VS. Issues
DESCRIPTION:League Name: Hockey  Over  40\nGame Type: Regular\nGame Status:
  Complete\nHome Team: Fury\nAway Team: Issues\nHome Score: 1\nAway Score: 
 0
END:VEVENT
BEGIN:VEVENT
UID:16095792@ezleagues.ezfacility.com
DTSTAMP:20260426T034838Z
CREATED:20260426T034838Z
DTSTART:20250121T023500Z
DTEND:20250121T032500Z
LOCATION:Hockey Rink
CONTACT:E\, MA
SUMMARY:Issues VS. Black Magic
DESCRIPTION:League Name: Hockey  Over  40\nGame Type: Regular\nGame Status:
  Complete\nHome Team: Issues\nAway Team: Black Magic\nHome Score: 2\nAway 
 Score: 5
END:VEVENT
BEGIN:VEVENT
UID:16095793@ezleagues.ezfacility.com
DTSTAMP:20260426T034838Z
CREATED:20260426T034838Z
DTSTART:20250128T023500Z
DTEND:20250128T032500Z
LOCATION:Hockey Rink
CONTACT:E\, KS\, MA
SUMMARY:Admirals VS. Issues
DESCRIPTION:League Name: Hockey  Over  40\nGame Type: Regular\nGame Status:
  Complete\nHome Team: Admirals\nAway Team: Issues\nHome Score: 3\nAway Sco
 re: 1
END:VEVENT
BEGIN:VEVENT
UID:16095796@ezleagues.ezfacility.com
DTSTAMP:20260426T034838Z
CREATED:20260426T034838Z
DTSTART:20250204T032500Z
DTEND:20250204T041500Z
LOCATION:Hockey Rink
CONTACT:KS\, MA\, M
SUMMARY:Fury VS. Issues
DESCRIPTION:League Name: Hockey  Over  40\nGame Type: Regular\nGame Status:
  Complete\nHome Team: Fury\nAway Team: Issues\nHome Score: 8\nAway Score: 
 5
END:VEVENT
BEGIN:VEVENT
UID:16095798@ezleagues.ezfacility.com
DTSTAMP:20260426T034838Z
CREATED:20260426T034838Z
DTSTART:20250211T023500Z
DTEND:20250211T032500Z
LOCATION:Hockey Rink
CONTACT:KS\, M\, MA
SUMMARY:Black Magic VS. Issues
DESCRIPTION:League Name: Hockey  Over  40\nGame Type: Regular\nGame Status:
  Complete\nHome Team: Black Magic\nAway Team: Issues\nHome Score: 7\nAway 
 Score: 4
END:VEVENT
BEGIN:VEVENT
UID:16095799@ezleagues.ezfacility.com
DTSTAMP:20260426T034838Z
CREATED:20260426T034838Z
DTSTART:20250218T014000Z
DTEND:20250218T023000Z
LOCATION:Hockey Rink
CONTACT:E\, KS\, MA
SUMMARY:Issues VS. Admirals
DESCRIPTION:League Name: Hockey  Over  40\nGame Type: Regular\nGame Status:
  Complete\nHome Team: Issues\nAway Team: Admirals\nHome Score: 4\nAway Sco
 re: 4
END:VEVENT
BEGIN:VEVENT
UID:16095802@ezleagues.ezfacility.com
DTSTAMP:20260426T034838Z
CREATED:20260426T034838Z
DTSTART:20250225T032500Z
DTEND:20250225T041500Z
LOCATION:Hockey Rink
CONTACT:KS\, MA\, M
SUMMARY:Issues VS. Fury
DESCRIPTION:League Name: Hockey  Over  40\nGame Type: Regular\nGame Status:
  Complete\nHome Team: Issues\nAway Team: Fury\nHome Score: 7\nAway Score: 
 4
END:VEVENT
BEGIN:VEVENT
UID:16095804@ezleagues.ezfacility.com
DTSTAMP:20260426T034838Z
CREATED:20260426T034838Z
DTSTART:20250304T023500Z
DTEND:20250304T032500Z
LOCATION:Hockey Rink
CONTACT:KS\, MA\, S
SUMMARY:Black Magic VS. Issues
DESCRIPTION:League Name: Hockey  Over  40\nGame Type: Regular\nGame Status:
  Complete\nHome Team: Black Magic\nAway Team: Issues\nHome Score: 6\nAway 
 Score: 5
END:VEVENT
BEGIN:VEVENT
UID:16095805@ezleagues.ezfacility.com
DTSTAMP:20260426T034838Z
CREATED:20260426T034838Z
DTSTART:20250311T014000Z
DTEND:20250311T023000Z
LOCATION:Hockey Rink
CONTACT:E\, KS\, MA
SUMMARY:Issues VS. Admirals
DESCRIPTION:League Name: Hockey  Over  40\nGame Type: Regular\nGame Status:
  Complete\nHome Team: Issues\nAway Team: Admirals\nHome Score: 5\nAway Sco
 re: 6
END:VEVENT
BEGIN:VEVENT
UID:16095808@ezleagues.ezfacility.com
DTSTAMP:20260426T034838Z
CREATED:20260426T034838Z
DTSTART:20250318T023500Z
DTEND:20250318T032500Z
LOCATION:Hockey Rink
CONTACT:KS\, MA\, M
SUMMARY:Black Magic VS. Issues
DESCRIPTION:League Name: Hockey  Over  40\nGame Type: Postseason\nGame Stat
 us: Complete\nHome Team: Black Magic\nAway Team: Issues\nHome Score: 8\nAw
 ay Score: 1
END:VEVENT
BEGIN:VEVENT
UID:16095809@ezleagues.ezfacility.com
DTSTAMP:20260426T034838Z
CREATED:20260426T034838Z
DTSTART:20250325T023500Z
DTEND:20250325T032500Z
LOCATION:Hockey Rink
CONTACT:E\, KS\, MA
SUMMARY:Admirals VS. Issues
DESCRIPTION:League Name: Hockey  Over  40\nGame Type: Friendly\nGame Status
 : Complete\nHome Team: Admirals\nAway Team: Issues\nHome Score: 9\nAway Sc
 ore: 4
END:VEVENT
END:VCALENDAR
