BEGIN:VCALENDAR
VERSION:2.0
PRODID:-//EZFacility.com, Inc.//EZL 2.5.5.28621
BEGIN:VEVENT
UID:16091249@ezleagues.ezfacility.com
DTSTAMP:20260419T184934Z
CREATED:20260419T184934Z
DTSTART:20241124T200000Z
DTEND:20241124T210000Z
LOCATION:Field 4 BLD
CONTACT:
SUMMARY:Barcelona VS. Lexington FC
DESCRIPTION:League Name: MICHOCANA (11/17)\nGame Type: Regular\nGame Status
 : Complete\nHome Team: Barcelona\nAway Team: Lexington FC\nHome Score: 12\
 nAway Score: 11
END:VEVENT
BEGIN:VEVENT
UID:16105882@ezleagues.ezfacility.com
DTSTAMP:20260419T184934Z
CREATED:20260419T184934Z
DTSTART:20241201T180000Z
DTEND:20241201T190000Z
LOCATION:Field 4 BLD
CONTACT:
SUMMARY:SSR Tziro VS. Barcelona
DESCRIPTION:League Name: MICHOCANA (11/17)\nGame Type: Regular\nGame Status
 : Complete\nHome Team: SSR Tziro\nAway Team: Barcelona\nHome Score: 20\nAw
 ay Score: 20
END:VEVENT
BEGIN:VEVENT
UID:16115254@ezleagues.ezfacility.com
DTSTAMP:20260419T184934Z
CREATED:20260419T184934Z
DTSTART:20241208T190000Z
DTEND:20241208T200000Z
LOCATION:Field 4 BLD
CONTACT:
SUMMARY:Barcelona VS. Linwood FC
DESCRIPTION:League Name: MICHOCANA (11/17)\nGame Type: Regular\nGame Status
 : Complete\nHome Team: Barcelona\nAway Team: Linwood FC\nHome Score: 7\nAw
 ay Score: 8
END:VEVENT
BEGIN:VEVENT
UID:16124247@ezleagues.ezfacility.com
DTSTAMP:20260419T184934Z
CREATED:20260419T184934Z
DTSTART:20241215T190000Z
DTEND:20241215T200000Z
LOCATION:Field 4 BLD
CONTACT:
SUMMARY:Barcelona VS. River Plate
DESCRIPTION:League Name: MICHOCANA (11/17)\nGame Type: Regular\nGame Status
 : Complete\nHome Team: Barcelona\nAway Team: River Plate\nHome Score: 6\nA
 way Score: 10
END:VEVENT
BEGIN:VEVENT
UID:16143259@ezleagues.ezfacility.com
DTSTAMP:20260419T184934Z
CREATED:20260419T184934Z
DTSTART:20241222T190000Z
DTEND:20241222T200000Z
LOCATION:Field 3 BLD
CONTACT:
SUMMARY:Denton FC VS. Barcelona
DESCRIPTION:League Name: MICHOCANA (11/17)\nGame Type: Regular\nGame Status
 : Complete\nHome Team: Denton FC\nAway Team: Barcelona\nHome Score: 10\nAw
 ay Score: 11
END:VEVENT
BEGIN:VEVENT
UID:16147900@ezleagues.ezfacility.com
DTSTAMP:20260419T184934Z
CREATED:20260419T184934Z
DTSTART:20241229T200000Z
DTEND:20241229T210000Z
LOCATION:Field 4 BLD
CONTACT:
SUMMARY:Barcelona VS. Lexington FC
DESCRIPTION:League Name: MICHOCANA (11/17)\nGame Type: Regular\nGame Status
 : Complete\nHome Team: Barcelona\nAway Team: Lexington FC\nHome Score: 13\
 nAway Score: 17
END:VEVENT
BEGIN:VEVENT
UID:16166432@ezleagues.ezfacility.com
DTSTAMP:20260419T184934Z
CREATED:20260419T184934Z
DTSTART:20250105T190000Z
DTEND:20250105T200000Z
LOCATION:Field 4 BLD
CONTACT:
SUMMARY:SSR Tziro VS. Barcelona
DESCRIPTION:League Name: MICHOCANA (11/17)\nGame Type: Regular\nGame Status
 : Complete\nHome Team: SSR Tziro\nAway Team: Barcelona\nHome Score: 19\nAw
 ay Score: 33
END:VEVENT
BEGIN:VEVENT
UID:16198067@ezleagues.ezfacility.com
DTSTAMP:20260419T184934Z
CREATED:20260419T184934Z
DTSTART:20250119T190000Z
DTEND:20250119T200000Z
LOCATION:Field 3 BLD
CONTACT:
SUMMARY:Barcelona VS. Linwood FC
DESCRIPTION:League Name: MICHOCANA (11/17)\nGame Type: Regular\nGame Status
 : Complete\nHome Team: Barcelona\nAway Team: Linwood FC\nHome Score: 21\nA
 way Score: 11
END:VEVENT
BEGIN:VEVENT
UID:16210910@ezleagues.ezfacility.com
DTSTAMP:20260419T184934Z
CREATED:20260419T184934Z
DTSTART:20250126T200000Z
DTEND:20250126T210000Z
LOCATION:Field 3 BLD
CONTACT:
SUMMARY:River Plate VS. Barcelona
DESCRIPTION:League Name: MICHOCANA (11/17)\nGame Type: Regular\nGame Status
 : Complete\nHome Team: River Plate\nAway Team: Barcelona\nHome Score: 9\nA
 way Score: 12
END:VEVENT
END:VCALENDAR
