BEGIN:VCALENDAR
VERSION:2.0
PRODID:-//EZFacility.com, Inc.//EZL 2.5.5.28621
BEGIN:VEVENT
UID:16091270@ezleagues.ezfacility.com
DTSTAMP:20260423T204319Z
CREATED:20260423T204319Z
DTSTART:20241201T020000Z
DTEND:20241201T030000Z
LOCATION:Field 3 BLD
CONTACT:
SUMMARY:Atletico Mesia VS. Fuego FC
DESCRIPTION:League Name: (11/16) SABADO Libre\nGame Type: Regular\nGame Sta
 tus: Complete\nHome Team: Atletico Mesia\nAway Team: Fuego FC\nHome Score:
  10\nAway Score: 11
END:VEVENT
BEGIN:VEVENT
UID:16115244@ezleagues.ezfacility.com
DTSTAMP:20260423T204319Z
CREATED:20260423T204319Z
DTSTART:20241207T220000Z
DTEND:20241207T230000Z
LOCATION:Field 2 BLD
CONTACT:
SUMMARY:Atletico Mesia VS. Deportivo Barra
DESCRIPTION:League Name: (11/16) SABADO Libre\nGame Type: Regular\nGame Sta
 tus: Complete\nHome Team: Atletico Mesia\nAway Team: Deportivo Barra\nHome
  Score: 13\nAway Score: 12
END:VEVENT
BEGIN:VEVENT
UID:16124212@ezleagues.ezfacility.com
DTSTAMP:20260423T204319Z
CREATED:20260423T204319Z
DTSTART:20241215T010000Z
DTEND:20241215T020000Z
LOCATION:Field 2 BLD
CONTACT:
SUMMARY:Atletico Mesia VS. Candidos
DESCRIPTION:League Name: (11/16) SABADO Libre\nGame Type: Regular\nGame Sta
 tus: Complete\nHome Team: Atletico Mesia\nAway Team: Candidos\nHome Score:
  1\nAway Score: 0
END:VEVENT
BEGIN:VEVENT
UID:16143222@ezleagues.ezfacility.com
DTSTAMP:20260423T204319Z
CREATED:20260423T204319Z
DTSTART:20241222T000000Z
DTEND:20241222T010000Z
LOCATION:Field 4 BLD
CONTACT:
SUMMARY:Atletico Mesia VS. CD Real España
DESCRIPTION:League Name: (11/16) SABADO Libre\nGame Type: Regular\nGame Sta
 tus: Complete\nHome Team: Atletico Mesia\nAway Team: CD Real España\nHome
  Score: 20\nAway Score: 12
END:VEVENT
BEGIN:VEVENT
UID:16147623@ezleagues.ezfacility.com
DTSTAMP:20260423T204319Z
CREATED:20260423T204319Z
DTSTART:20241229T020000Z
DTEND:20241229T030000Z
LOCATION:Field 1 BLD
CONTACT:
SUMMARY:Atletico Mesia VS. Atletico Tehuipango
DESCRIPTION:League Name: (11/16) SABADO Libre\nGame Type: Regular\nGame Sta
 tus: Complete\nHome Team: Atletico Mesia\nAway Team: Atletico Tehuipango\n
 Home Score: 12\nAway Score: 13
END:VEVENT
BEGIN:VEVENT
UID:16170704@ezleagues.ezfacility.com
DTSTAMP:20260423T204319Z
CREATED:20260423T204319Z
DTSTART:20250105T014000Z
DTEND:20250105T024000Z
LOCATION:Field 2 BLD
CONTACT:
SUMMARY:Atletico Mesia VS. Los Chapines
DESCRIPTION:League Name: (11/16) SABADO Libre\nGame Type: Regular\nGame Sta
 tus: Complete\nHome Team: Atletico Mesia\nAway Team: Los Chapines\nHome Sc
 ore: 10\nAway Score: 12
END:VEVENT
BEGIN:VEVENT
UID:16198273@ezleagues.ezfacility.com
DTSTAMP:20260423T204319Z
CREATED:20260423T204319Z
DTSTART:20250119T014500Z
DTEND:20250119T024500Z
LOCATION:Field 5 BLD
CONTACT:
SUMMARY:Atletico Mesia VS. Pumas
DESCRIPTION:League Name: (11/16) SABADO Libre\nGame Type: Regular\nGame Sta
 tus: Complete\nHome Team: Atletico Mesia\nAway Team: Pumas\nHome Score: 0\
 nAway Score: 1
END:VEVENT
BEGIN:VEVENT
UID:16198300@ezleagues.ezfacility.com
DTSTAMP:20260423T204319Z
CREATED:20260423T204319Z
DTSTART:20250119T014500Z
DTEND:20250119T024500Z
LOCATION:Field 5 BLD
CONTACT:
SUMMARY:Atletico Mesia VS. Pumas
DESCRIPTION:League Name: (11/16) SABADO Libre\nGame Type: Regular\nGame Sta
 tus: Complete\nHome Team: Atletico Mesia\nAway Team: Pumas\nHome Score: 0\
 nAway Score: 1
END:VEVENT
BEGIN:VEVENT
UID:16211432@ezleagues.ezfacility.com
DTSTAMP:20260423T204319Z
CREATED:20260423T204319Z
DTSTART:20250126T023000Z
DTEND:20250126T033000Z
LOCATION:Field 2 BLD
CONTACT:
SUMMARY:Mocksville VS. Atletico Mesia
DESCRIPTION:League Name: (11/16) SABADO Libre\nGame Type: Regular\nGame Sta
 tus: Complete\nHome Team: Mocksville\nAway Team: Atletico Mesia\nHome Scor
 e: 13\nAway Score: 17
END:VEVENT
BEGIN:VEVENT
UID:16219368@ezleagues.ezfacility.com
DTSTAMP:20260423T204319Z
CREATED:20260423T204319Z
DTSTART:20250202T020000Z
DTEND:20250202T030000Z
LOCATION:Field 3 BLD
CONTACT:
SUMMARY:Los Chamos FC VS. Atletico Mesia
DESCRIPTION:League Name: (11/16) SABADO Libre\nGame Type: Regular\nGame Sta
 tus: Complete\nHome Team: Los Chamos FC\nAway Team: Atletico Mesia\nHome S
 core: 1\nAway Score: 0
END:VEVENT
END:VCALENDAR
