BEGIN:VCALENDAR
VERSION:2.0
PRODID:-//EZFacility.com, Inc.//EZL 2.5.5.28621
BEGIN:VEVENT
UID:16092760@ezleagues.ezfacility.com
DTSTAMP:20260421T020548Z
CREATED:20260421T020548Z
DTSTART:20241214T203000Z
DTEND:20241214T211500Z
LOCATION:Court 3
CONTACT:
SUMMARY:AC Toros U11 Grey VS. Lake Country FC 10UB White
DESCRIPTION:League Name: WINTER LEAGUES 24-25 I-U11-U10/11 BOYS BLUE\nGame 
 Type: Regular\nGame Status: Complete\nHome Team: AC Toros U11 Grey\nAway T
 eam: Lake Country FC 10UB White\nHome Score: 18\nAway Score: 0
END:VEVENT
BEGIN:VEVENT
UID:16092797@ezleagues.ezfacility.com
DTSTAMP:20260421T020548Z
CREATED:20260421T020548Z
DTSTART:20241221T220500Z
DTEND:20241221T225000Z
LOCATION:Court 1
CONTACT:
SUMMARY:Lake Country FC 10UB White VS. Polonia 2014 Boys Grey
DESCRIPTION:League Name: WINTER LEAGUES 24-25 I-U11-U10/11 BOYS BLUE\nGame 
 Type: Regular\nGame Status: Complete\nHome Team: Lake Country FC 10UB Whit
 e\nAway Team: Polonia 2014 Boys Grey\nHome Score: 2\nAway Score: 1
END:VEVENT
BEGIN:VEVENT
UID:16092725@ezleagues.ezfacility.com
DTSTAMP:20260421T020548Z
CREATED:20260421T020548Z
DTSTART:20241228T210000Z
DTEND:20241228T214500Z
LOCATION:Court 1
CONTACT:
SUMMARY:CC 2014BNY VS. Lake Country FC 10UB White
DESCRIPTION:League Name: WINTER LEAGUES 24-25 I-U11-U10/11 BOYS BLUE\nGame 
 Type: Regular\nGame Status: Complete\nHome Team: CC 2014BNY\nAway Team: La
 ke Country FC 10UB White\nHome Score: 20\nAway Score: 0
END:VEVENT
BEGIN:VEVENT
UID:16092871@ezleagues.ezfacility.com
DTSTAMP:20260421T020548Z
CREATED:20260421T020548Z
DTSTART:20250104T224500Z
DTEND:20250104T233000Z
LOCATION:Court 1
CONTACT:
SUMMARY:Lake Country FC 10UB White VS. MSC U11 Boys
DESCRIPTION:League Name: WINTER LEAGUES 24-25 I-U11-U10/11 BOYS BLUE\nGame 
 Type: Regular\nGame Status: Complete\nHome Team: Lake Country FC 10UB Whit
 e\nAway Team: MSC U11 Boys\nHome Score: 2\nAway Score: 17
END:VEVENT
BEGIN:VEVENT
UID:16092908@ezleagues.ezfacility.com
DTSTAMP:20260421T020548Z
CREATED:20260421T020548Z
DTSTART:20250111T222000Z
DTEND:20250111T230500Z
LOCATION:Court 3
CONTACT:
SUMMARY:Lake Country FC 10UB White VS. EBU U11 Classic 3
DESCRIPTION:League Name: WINTER LEAGUES 24-25 I-U11-U10/11 BOYS BLUE\nGame 
 Type: Regular\nGame Status: Complete\nHome Team: Lake Country FC 10UB Whit
 e\nAway Team: EBU U11 Classic 3\nHome Score: 0\nAway Score: 4
END:VEVENT
BEGIN:VEVENT
UID:16092834@ezleagues.ezfacility.com
DTSTAMP:20260421T020548Z
CREATED:20260421T020548Z
DTSTART:20250118T211500Z
DTEND:20250118T220000Z
LOCATION:Court 4
CONTACT:
SUMMARY:SC Wave WCW Academy 2015 Boys Elite Yellow VS. Lake Country FC 10UB
  White
DESCRIPTION:League Name: WINTER LEAGUES 24-25 I-U11-U10/11 BOYS BLUE\nGame 
 Type: Regular\nGame Status: Complete\nHome Team: SC Wave WCW Academy 2015 
 Boys Elite Yellow\nAway Team: Lake Country FC 10UB White\nHome Score: 17\n
 Away Score: 0
END:VEVENT
BEGIN:VEVENT
UID:16190675@ezleagues.ezfacility.com
DTSTAMP:20260421T020548Z
CREATED:20260421T020548Z
DTSTART:20250125T170000Z
DTEND:20250125T174500Z
LOCATION:Court 4
CONTACT:
SUMMARY:Lake Country FC 10UB White VS. Polonia 2014 Boys Grey
DESCRIPTION:League Name: WINTER LEAGUES 24-25 I-U11-U10/11 BOYS BLUE\nGame 
 Type: Postseason\nGame Status: Pending\nHome Team: Lake Country FC 10UB Wh
 ite\nAway Team: Polonia 2014 Boys Grey\n
END:VEVENT
END:VCALENDAR
