BEGIN:VCALENDAR
VERSION:2.0
PRODID:-//EZFacility.com, Inc.//EZL 2.5.5.28621
BEGIN:VEVENT
UID:16092715@ezleagues.ezfacility.com
DTSTAMP:20260424T043941Z
CREATED:20260424T043941Z
DTSTART:20241207T191500Z
DTEND:20241207T200000Z
LOCATION:Court 4
CONTACT:
SUMMARY:U11G Rush Union Red VS. SC Wave 2014 Girls Juniors
DESCRIPTION:League Name: WINTER LEAGUES 24-25 I-U11-U11 GIRLS RED\nGame Typ
 e: Regular\nGame Status: Complete\nHome Team: U11G Rush Union Red\nAway Te
 am: SC Wave 2014 Girls Juniors\nHome Score: 1\nAway Score: 4
END:VEVENT
BEGIN:VEVENT
UID:16092751@ezleagues.ezfacility.com
DTSTAMP:20260424T043941Z
CREATED:20260424T043941Z
DTSTART:20241214T170000Z
DTEND:20241214T174500Z
LOCATION:Court 1
CONTACT:
SUMMARY:EBU 11u Girl's Elite Rampa VS. SC Wave 2014 Girls Juniors
DESCRIPTION:League Name: WINTER LEAGUES 24-25 I-U11-U11 GIRLS RED\nGame Typ
 e: Regular\nGame Status: Complete\nHome Team: EBU 11u Girl's Elite Rampa\n
 Away Team: SC Wave 2014 Girls Juniors\nHome Score: 3\nAway Score: 0
END:VEVENT
BEGIN:VEVENT
UID:16092786@ezleagues.ezfacility.com
DTSTAMP:20260424T043941Z
CREATED:20260424T043941Z
DTSTART:20241221T190500Z
DTEND:20241221T195000Z
LOCATION:Court 1
CONTACT:
SUMMARY:U11G Rush Union Blue VS. SC Wave 2014 Girls Juniors
DESCRIPTION:League Name: WINTER LEAGUES 24-25 I-U11-U11 GIRLS RED\nGame Typ
 e: Regular\nGame Status: Complete\nHome Team: U11G Rush Union Blue\nAway T
 eam: SC Wave 2014 Girls Juniors\nHome Score: 4\nAway Score: 7
END:VEVENT
BEGIN:VEVENT
UID:16092858@ezleagues.ezfacility.com
DTSTAMP:20260424T043941Z
CREATED:20260424T043941Z
DTSTART:20250104T190000Z
DTEND:20250104T194500Z
LOCATION:Court 1
CONTACT:
SUMMARY:SC Wave 2014 Girls Juniors VS. Polonia 2014 U11 Girls Red
DESCRIPTION:League Name: WINTER LEAGUES 24-25 I-U11-U11 GIRLS RED\nGame Typ
 e: Regular\nGame Status: Complete\nHome Team: SC Wave 2014 Girls Juniors\n
 Away Team: Polonia 2014 U11 Girls Red\nHome Score: 6\nAway Score: 3
END:VEVENT
BEGIN:VEVENT
UID:16092895@ezleagues.ezfacility.com
DTSTAMP:20260424T043941Z
CREATED:20260424T043941Z
DTSTART:20250111T182000Z
DTEND:20250111T190500Z
LOCATION:Court 4
CONTACT:
SUMMARY:SC Wave 2014 Girls Juniors VS. U11G Rush Union Red
DESCRIPTION:League Name: WINTER LEAGUES 24-25 I-U11-U11 GIRLS RED\nGame Typ
 e: Regular\nGame Status: Complete\nHome Team: SC Wave 2014 Girls Juniors\n
 Away Team: U11G Rush Union Red\nHome Score: 6\nAway Score: 2
END:VEVENT
BEGIN:VEVENT
UID:16092821@ezleagues.ezfacility.com
DTSTAMP:20260424T043941Z
CREATED:20260424T043941Z
DTSTART:20250118T192000Z
DTEND:20250118T200500Z
LOCATION:Court 3
CONTACT:
SUMMARY:SC Wave 2014 Girls Juniors VS. CC 2014GN
DESCRIPTION:League Name: WINTER LEAGUES 24-25 I-U11-U11 GIRLS RED\nGame Typ
 e: Regular\nGame Status: Complete\nHome Team: SC Wave 2014 Girls Juniors\n
 Away Team: CC 2014GN\nHome Score: 4\nAway Score: 13
END:VEVENT
BEGIN:VEVENT
UID:16191856@ezleagues.ezfacility.com
DTSTAMP:20260424T043941Z
CREATED:20260424T043941Z
DTSTART:20250125T211500Z
DTEND:20250125T220000Z
LOCATION:Court 1
CONTACT:
SUMMARY:SC Wave 2014 Girls Juniors VS. Polonia 2014 U11 Girls Red
DESCRIPTION:League Name: WINTER LEAGUES 24-25 I-U11-U11 GIRLS RED\nGame Typ
 e: Postseason\nGame Status: Pending\nHome Team: SC Wave 2014 Girls Juniors
 \nAway Team: Polonia 2014 U11 Girls Red\n
END:VEVENT
END:VCALENDAR
