BEGIN:VCALENDAR
VERSION:2.0
PRODID:-//EZFacility.com, Inc.//EZL 2.5.5.28621
BEGIN:VEVENT
UID:16092714@ezleagues.ezfacility.com
DTSTAMP:20260424T044126Z
CREATED:20260424T044126Z
DTSTART:20241207T185000Z
DTEND:20241207T193500Z
LOCATION:Court 3
CONTACT:
SUMMARY:U11G Rush Union Blue VS. EBU 11u Girl's Elite Rampa
DESCRIPTION:League Name: WINTER LEAGUES 24-25 I-U11-U11 GIRLS RED\nGame Typ
 e: Regular\nGame Status: Complete\nHome Team: U11G Rush Union Blue\nAway T
 eam: EBU 11u Girl's Elite Rampa\nHome Score: 5\nAway Score: 5
END:VEVENT
BEGIN:VEVENT
UID:16092786@ezleagues.ezfacility.com
DTSTAMP:20260424T044126Z
CREATED:20260424T044126Z
DTSTART:20241221T190500Z
DTEND:20241221T195000Z
LOCATION:Court 1
CONTACT:
SUMMARY:U11G Rush Union Blue VS. SC Wave 2014 Girls Juniors
DESCRIPTION:League Name: WINTER LEAGUES 24-25 I-U11-U11 GIRLS RED\nGame Typ
 e: Regular\nGame Status: Complete\nHome Team: U11G Rush Union Blue\nAway T
 eam: SC Wave 2014 Girls Juniors\nHome Score: 4\nAway Score: 7
END:VEVENT
BEGIN:VEVENT
UID:16092749@ezleagues.ezfacility.com
DTSTAMP:20260424T044126Z
CREATED:20260424T044126Z
DTSTART:20241228T153000Z
DTEND:20241228T161500Z
LOCATION:Court 1
CONTACT:
SUMMARY:CC 2014GN VS. U11G Rush Union Blue
DESCRIPTION:League Name: WINTER LEAGUES 24-25 I-U11-U11 GIRLS RED\nGame Typ
 e: Regular\nGame Status: Complete\nHome Team: CC 2014GN\nAway Team: U11G R
 ush Union Blue\nHome Score: 10\nAway Score: 0
END:VEVENT
BEGIN:VEVENT
UID:16092859@ezleagues.ezfacility.com
DTSTAMP:20260424T044126Z
CREATED:20260424T044126Z
DTSTART:20250105T003000Z
DTEND:20250105T011500Z
LOCATION:Court 4
CONTACT:
SUMMARY:U11G Rush Union Red VS. U11G Rush Union Blue
DESCRIPTION:League Name: WINTER LEAGUES 24-25 I-U11-U11 GIRLS RED\nGame Typ
 e: Regular\nGame Status: Complete\nHome Team: U11G Rush Union Red\nAway Te
 am: U11G Rush Union Blue\nHome Score: 2\nAway Score: 0
END:VEVENT
BEGIN:VEVENT
UID:16092894@ezleagues.ezfacility.com
DTSTAMP:20260424T044126Z
CREATED:20260424T044126Z
DTSTART:20250111T180500Z
DTEND:20250111T185000Z
LOCATION:Court 1
CONTACT:
SUMMARY:EBU 11u Girl's Elite Rampa VS. U11G Rush Union Blue
DESCRIPTION:League Name: WINTER LEAGUES 24-25 I-U11-U11 GIRLS RED\nGame Typ
 e: Regular\nGame Status: Complete\nHome Team: EBU 11u Girl's Elite Rampa\n
 Away Team: U11G Rush Union Blue\nHome Score: 6\nAway Score: 4
END:VEVENT
BEGIN:VEVENT
UID:16092823@ezleagues.ezfacility.com
DTSTAMP:20260424T044126Z
CREATED:20260424T044126Z
DTSTART:20250118T181500Z
DTEND:20250118T190000Z
LOCATION:Court 4
CONTACT:
SUMMARY:U11G Rush Union Blue VS. Polonia 2014 U11 Girls Red
DESCRIPTION:League Name: WINTER LEAGUES 24-25 I-U11-U11 GIRLS RED\nGame Typ
 e: Regular\nGame Status: Complete\nHome Team: U11G Rush Union Blue\nAway T
 eam: Polonia 2014 U11 Girls Red\nHome Score: 1\nAway Score: 3
END:VEVENT
BEGIN:VEVENT
UID:16191855@ezleagues.ezfacility.com
DTSTAMP:20260424T044126Z
CREATED:20260424T044126Z
DTSTART:20250125T194500Z
DTEND:20250125T203000Z
LOCATION:Court 1
CONTACT:
SUMMARY:U11G Rush Union Red VS. U11G Rush Union Blue
DESCRIPTION:League Name: WINTER LEAGUES 24-25 I-U11-U11 GIRLS RED\nGame Typ
 e: Postseason\nGame Status: Pending\nHome Team: U11G Rush Union Red\nAway 
 Team: U11G Rush Union Blue\n
END:VEVENT
END:VCALENDAR
