BEGIN:VCALENDAR
VERSION:2.0
PRODID:-//EZFacility.com, Inc.//EZL 2.5.5.28621
BEGIN:VEVENT
UID:16139865@ezleagues.ezfacility.com
DTSTAMP:20260424T044216Z
CREATED:20260424T044216Z
DTSTART:20250108T010000Z
DTEND:20250108T015500Z
LOCATION:Hockey Rink
CONTACT:EH\, KK\, M
SUMMARY:Yetis VS. Dust Bunnies
DESCRIPTION:League Name: Hockey  Tuesday D5\nGame Type: Regular\nGame Statu
 s: Complete\nHome Team: Yetis\nAway Team: Dust Bunnies\nHome Score: 1\nAwa
 y Score: 6
END:VEVENT
BEGIN:VEVENT
UID:16139867@ezleagues.ezfacility.com
DTSTAMP:20260424T044216Z
CREATED:20260424T044216Z
DTSTART:20250115T010000Z
DTEND:20250115T015500Z
LOCATION:Hockey Rink
CONTACT:EH\, KK\, M
SUMMARY:2s D Squad VS. Dust Bunnies
DESCRIPTION:League Name: Hockey  Tuesday D5\nGame Type: Regular\nGame Statu
 s: Complete\nHome Team: 2s D Squad\nAway Team: Dust Bunnies\nHome Score: 2
 \nAway Score: 4
END:VEVENT
BEGIN:VEVENT
UID:16139871@ezleagues.ezfacility.com
DTSTAMP:20260424T044216Z
CREATED:20260424T044216Z
DTSTART:20250122T010000Z
DTEND:20250122T015500Z
LOCATION:Hockey Rink
CONTACT:EH\, M\, MA
SUMMARY:Moo Crew VS. Dust Bunnies
DESCRIPTION:League Name: Hockey  Tuesday D5\nGame Type: Regular\nGame Statu
 s: Complete\nHome Team: Moo Crew\nAway Team: Dust Bunnies\nHome Score: 3\n
 Away Score: 7
END:VEVENT
BEGIN:VEVENT
UID:16139874@ezleagues.ezfacility.com
DTSTAMP:20260424T044216Z
CREATED:20260424T044216Z
DTSTART:20250129T010000Z
DTEND:20250129T015500Z
LOCATION:Hockey Rink
CONTACT:EH\, M\, MA
SUMMARY:Dust Bunnies VS. Stingers
DESCRIPTION:League Name: Hockey  Tuesday D5\nGame Type: Regular\nGame Statu
 s: Complete\nHome Team: Dust Bunnies\nAway Team: Stingers\nHome Score: 6\n
 Away Score: 3
END:VEVENT
BEGIN:VEVENT
UID:16139876@ezleagues.ezfacility.com
DTSTAMP:20260424T044216Z
CREATED:20260424T044216Z
DTSTART:20250205T010000Z
DTEND:20250205T015500Z
LOCATION:Hockey Rink
CONTACT:EH\, M
SUMMARY:2s D Squad VS. Dust Bunnies
DESCRIPTION:League Name: Hockey  Tuesday D5\nGame Type: Regular\nGame Statu
 s: Complete\nHome Team: 2s D Squad\nAway Team: Dust Bunnies\nHome Score: 2
 \nAway Score: 1
END:VEVENT
BEGIN:VEVENT
UID:16139880@ezleagues.ezfacility.com
DTSTAMP:20260424T044216Z
CREATED:20260424T044216Z
DTSTART:20250212T010000Z
DTEND:20250212T015500Z
LOCATION:Hockey Rink
CONTACT:EH\, M\, MA
SUMMARY:Dust Bunnies VS. Yetis
DESCRIPTION:League Name: Hockey  Tuesday D5\nGame Type: Regular\nGame Statu
 s: Complete\nHome Team: Dust Bunnies\nAway Team: Yetis\nHome Score: 4\nAwa
 y Score: 5
END:VEVENT
BEGIN:VEVENT
UID:16139878@ezleagues.ezfacility.com
DTSTAMP:20260424T044216Z
CREATED:20260424T044216Z
DTSTART:20250212T015000Z
DTEND:20250212T024500Z
LOCATION:Hockey Rink
CONTACT:EH\, M\, MA
SUMMARY:Dust Bunnies VS. Stingers
DESCRIPTION:League Name: Hockey  Tuesday D5\nGame Type: Regular\nGame Statu
 s: Complete\nHome Team: Dust Bunnies\nAway Team: Stingers\nHome Score: 7\n
 Away Score: 7
END:VEVENT
BEGIN:VEVENT
UID:16139883@ezleagues.ezfacility.com
DTSTAMP:20260424T044216Z
CREATED:20260424T044216Z
DTSTART:20250219T010000Z
DTEND:20250219T015500Z
LOCATION:Hockey Rink
CONTACT:EH\, KK\, M
SUMMARY:Dust Bunnies VS. Yetis
DESCRIPTION:League Name: Hockey  Tuesday D5\nGame Type: Regular\nGame Statu
 s: Complete\nHome Team: Dust Bunnies\nAway Team: Yetis\nHome Score: 5\nAwa
 y Score: 4
END:VEVENT
BEGIN:VEVENT
UID:16139886@ezleagues.ezfacility.com
DTSTAMP:20260424T044216Z
CREATED:20260424T044216Z
DTSTART:20250226T010000Z
DTEND:20250226T015500Z
LOCATION:Hockey Rink
CONTACT:EH\, M\, MA
SUMMARY:Moo Crew VS. Dust Bunnies
DESCRIPTION:League Name: Hockey  Tuesday D5\nGame Type: Regular\nGame Statu
 s: Complete\nHome Team: Moo Crew\nAway Team: Dust Bunnies\nHome Score: 5\n
 Away Score: 5
END:VEVENT
BEGIN:VEVENT
UID:16139887@ezleagues.ezfacility.com
DTSTAMP:20260424T044216Z
CREATED:20260424T044216Z
DTSTART:20250305T010000Z
DTEND:20250305T015500Z
LOCATION:Hockey Rink
CONTACT:BF\, EH\, MA
SUMMARY:Stingers VS. Dust Bunnies
DESCRIPTION:League Name: Hockey  Tuesday D5\nGame Type: Regular\nGame Statu
 s: Complete\nHome Team: Stingers\nAway Team: Dust Bunnies\nHome Score: 5\n
 Away Score: 4
END:VEVENT
BEGIN:VEVENT
UID:16139890@ezleagues.ezfacility.com
DTSTAMP:20260424T044216Z
CREATED:20260424T044216Z
DTSTART:20250312T010000Z
DTEND:20250312T015500Z
LOCATION:Hockey Rink
CONTACT:EH\, M\, MA
SUMMARY:Yetis VS. Dust Bunnies
DESCRIPTION:League Name: Hockey  Tuesday D5\nGame Type: Regular\nGame Statu
 s: Complete\nHome Team: Yetis\nAway Team: Dust Bunnies\nHome Score: 2\nAwa
 y Score: 6
END:VEVENT
BEGIN:VEVENT
UID:16139891@ezleagues.ezfacility.com
DTSTAMP:20260424T044216Z
CREATED:20260424T044216Z
DTSTART:20250312T015000Z
DTEND:20250312T024500Z
LOCATION:Hockey Rink
CONTACT:EH\, M\, MA
SUMMARY:2s D Squad VS. Dust Bunnies
DESCRIPTION:League Name: Hockey  Tuesday D5\nGame Type: Regular\nGame Statu
 s: Complete\nHome Team: 2s D Squad\nAway Team: Dust Bunnies\nHome Score: 5
 \nAway Score: 8
END:VEVENT
BEGIN:VEVENT
UID:16139893@ezleagues.ezfacility.com
DTSTAMP:20260424T044216Z
CREATED:20260424T044216Z
DTSTART:20250319T024000Z
DTEND:20250319T033500Z
LOCATION:Hockey Rink
CONTACT:EH\, M\, MA
SUMMARY:Dust Bunnies VS. 2s D Squad
DESCRIPTION:League Name: Hockey  Tuesday D5\nGame Type: Postseason\nGame St
 atus: Complete\nHome Team: Dust Bunnies\nAway Team: 2s D Squad\nHome Score
 : 6\nAway Score: 5
END:VEVENT
BEGIN:VEVENT
UID:16139896@ezleagues.ezfacility.com
DTSTAMP:20260424T044216Z
CREATED:20260424T044216Z
DTSTART:20250326T024500Z
DTEND:20250326T034000Z
LOCATION:Hockey Rink
CONTACT:EH\, MA\, BF
SUMMARY:Dust Bunnies VS. Moo Crew
DESCRIPTION:League Name: Hockey  Tuesday D5\nGame Type: Postseason\nGame St
 atus: Complete\nHome Team: Dust Bunnies\nAway Team: Moo Crew\nHome Score: 
 3\nAway Score: 4
END:VEVENT
END:VCALENDAR
