BEGIN:VCALENDAR
VERSION:2.0
PRODID:-//EZFacility.com, Inc.//EZL 2.5.5.28621
BEGIN:VEVENT
UID:16102219@ezleagues.ezfacility.com
DTSTAMP:20260422T182842Z
CREATED:20260422T182842Z
DTSTART:20241228T130000Z
DTEND:20241228T134500Z
LOCATION:Back Field
CONTACT:
SUMMARY:Pittsgrove Prime 2016 VS. Pittsgrove Predators
DESCRIPTION:League Name: Winter Turf Youth League - 2017/16 - U8/U9 Premier
  Boys Division\nGame Type: Regular\nGame Status: Complete\nHome Team: Pitt
 sgrove Prime 2016\nAway Team: Pittsgrove Predators\nHome Score: 17\nAway S
 core: 0
END:VEVENT
BEGIN:VEVENT
UID:16102222@ezleagues.ezfacility.com
DTSTAMP:20260422T182842Z
CREATED:20260422T182842Z
DTSTART:20241228T134500Z
DTEND:20241228T143000Z
LOCATION:Back Field
CONTACT:
SUMMARY:Monroe united boys 2017 VS. Pittsgrove Prime 2016
DESCRIPTION:League Name: Winter Turf Youth League - 2017/16 - U8/U9 Premier
  Boys Division\nGame Type: Regular\nGame Status: Complete\nHome Team: Monr
 oe united boys 2017\nAway Team: Pittsgrove Prime 2016\nHome Score: 2\nAway
  Score: 7
END:VEVENT
BEGIN:VEVENT
UID:16102233@ezleagues.ezfacility.com
DTSTAMP:20260422T182842Z
CREATED:20260422T182842Z
DTSTART:20250111T134500Z
DTEND:20250111T143000Z
LOCATION:Back Field
CONTACT:
SUMMARY:Gateway United Thunder VS. Pittsgrove Prime 2016
DESCRIPTION:League Name: Winter Turf Youth League - 2017/16 - U8/U9 Premier
  Boys Division\nGame Type: Regular\nGame Status: Complete\nHome Team: Gate
 way United Thunder\nAway Team: Pittsgrove Prime 2016\nHome Score: 1\nAway 
 Score: 5
END:VEVENT
BEGIN:VEVENT
UID:16102234@ezleagues.ezfacility.com
DTSTAMP:20260422T182842Z
CREATED:20260422T182842Z
DTSTART:20250118T134500Z
DTEND:20250118T143000Z
LOCATION:Back Field
CONTACT:
SUMMARY:Pittsgrove Prime 2016 VS. Monroe united boys 2017
DESCRIPTION:League Name: Winter Turf Youth League - 2017/16 - U8/U9 Premier
  Boys Division\nGame Type: Regular\nGame Status: Complete\nHome Team: Pitt
 sgrove Prime 2016\nAway Team: Monroe united boys 2017\nHome Score: 8\nAway
  Score: 3
END:VEVENT
BEGIN:VEVENT
UID:16102236@ezleagues.ezfacility.com
DTSTAMP:20260422T182842Z
CREATED:20260422T182842Z
DTSTART:20250125T134500Z
DTEND:20250125T143000Z
LOCATION:Front Field
CONTACT:
SUMMARY:Pittsgrove Prime 2016 VS. Malrton Soccer  Club - 2017-Luber
DESCRIPTION:League Name: Winter Turf Youth League - 2017/16 - U8/U9 Premier
  Boys Division\nGame Type: Regular\nGame Status: Complete\nHome Team: Pitt
 sgrove Prime 2016\nAway Team: Malrton Soccer  Club - 2017-Luber\nHome Scor
 e: 14\nAway Score: 1
END:VEVENT
BEGIN:VEVENT
UID:16102240@ezleagues.ezfacility.com
DTSTAMP:20260422T182842Z
CREATED:20260422T182842Z
DTSTART:20250208T134500Z
DTEND:20250208T143000Z
LOCATION:Front Field
CONTACT:
SUMMARY:Pittsgrove Prime 2016 VS. United Boys 2017
DESCRIPTION:League Name: Winter Turf Youth League - 2017/16 - U8/U9 Premier
  Boys Division\nGame Type: Regular\nGame Status: Complete\nHome Team: Pitt
 sgrove Prime 2016\nAway Team: United Boys 2017\nHome Score: 11\nAway Score
 : 1
END:VEVENT
BEGIN:VEVENT
UID:16102242@ezleagues.ezfacility.com
DTSTAMP:20260422T182842Z
CREATED:20260422T182842Z
DTSTART:20250215T130000Z
DTEND:20250215T134500Z
LOCATION:Back Field
CONTACT:
SUMMARY:Pittsgrove Prime 2016 VS. Gateway United Thunder
DESCRIPTION:League Name: Winter Turf Youth League - 2017/16 - U8/U9 Premier
  Boys Division\nGame Type: Regular\nGame Status: Complete\nHome Team: Pitt
 sgrove Prime 2016\nAway Team: Gateway United Thunder\nHome Score: 11\nAway
  Score: 0
END:VEVENT
BEGIN:VEVENT
UID:16102248@ezleagues.ezfacility.com
DTSTAMP:20260422T182842Z
CREATED:20260422T182842Z
DTSTART:20250308T134500Z
DTEND:20250308T143000Z
LOCATION:Front Field
CONTACT:
SUMMARY:Pittsgrove Predators VS. Pittsgrove Prime 2016
DESCRIPTION:League Name: Winter Turf Youth League - 2017/16 - U8/U9 Premier
  Boys Division\nGame Type: Regular\nGame Status: Complete\nHome Team: Pitt
 sgrove Predators\nAway Team: Pittsgrove Prime 2016\nHome Score: 8\nAway Sc
 ore: 6
END:VEVENT
END:VCALENDAR
