BEGIN:VCALENDAR
VERSION:2.0
PRODID:-//EZFacility.com, Inc.//EZL 2.5.5.28621
BEGIN:VEVENT
UID:16099688@ezleagues.ezfacility.com
DTSTAMP:20260426T035151Z
CREATED:20260426T035151Z
DTSTART:20241215T161500Z
DTEND:20241215T171500Z
LOCATION:Premier Sports Court 2
CONTACT:
SUMMARY:Premier Orange VS. HI IQ
DESCRIPTION:League Name: 2024 Premier Basketball Boys 6th Grade Winter Leag
 \nGame Type: Regular\nGame Status: Complete\nHome Team: Premier Orange\nAw
 ay Team: HI IQ\nHome Score: 41\nAway Score: 35
END:VEVENT
BEGIN:VEVENT
UID:16111422@ezleagues.ezfacility.com
DTSTAMP:20260426T035151Z
CREATED:20260426T035151Z
DTSTART:20241221T140000Z
DTEND:20241221T150000Z
LOCATION:Premier Sports Court 2
CONTACT:
SUMMARY:Premier Orange VS. Cheat Code Black
DESCRIPTION:League Name: 2024 Premier Basketball Boys 6th Grade Winter Leag
 \nGame Type: Regular\nGame Status: Complete\nHome Team: Premier Orange\nAw
 ay Team: Cheat Code Black\nHome Score: 37\nAway Score: 15
END:VEVENT
BEGIN:VEVENT
UID:16125081@ezleagues.ezfacility.com
DTSTAMP:20260426T035151Z
CREATED:20260426T035151Z
DTSTART:20250105T150500Z
DTEND:20250105T160500Z
LOCATION:Premier Sports Court 2
CONTACT:
SUMMARY:RTG Jackson VS. Premier Orange
DESCRIPTION:League Name: 2024 Premier Basketball Boys 6th Grade Winter Leag
 \nGame Type: Regular\nGame Status: Complete\nHome Team: RTG Jackson\nAway 
 Team: Premier Orange\nHome Score: 9\nAway Score: 33
END:VEVENT
BEGIN:VEVENT
UID:16135800@ezleagues.ezfacility.com
DTSTAMP:20260426T035151Z
CREATED:20260426T035151Z
DTSTART:20250111T172000Z
DTEND:20250111T182000Z
LOCATION:Premier Sports Court 1
CONTACT:
SUMMARY:Premier Orange VS. Team Purpose Lee
DESCRIPTION:League Name: 2024 Premier Basketball Boys 6th Grade Winter Leag
 \nGame Type: Regular\nGame Status: Complete\nHome Team: Premier Orange\nAw
 ay Team: Team Purpose Lee\nHome Score: 13\nAway Score: 38
END:VEVENT
BEGIN:VEVENT
UID:16156222@ezleagues.ezfacility.com
DTSTAMP:20260426T035151Z
CREATED:20260426T035151Z
DTSTART:20250118T182500Z
DTEND:20250118T192500Z
LOCATION:Premier Sports Court 2
CONTACT:
SUMMARY:Empire Shy VS. Premier Orange
DESCRIPTION:League Name: 2024 Premier Basketball Boys 6th Grade Winter Leag
 \nGame Type: Regular\nGame Status: Complete\nHome Team: Empire Shy\nAway T
 eam: Premier Orange\nHome Score: 44\nAway Score: 15
END:VEVENT
BEGIN:VEVENT
UID:16157759@ezleagues.ezfacility.com
DTSTAMP:20260426T035151Z
CREATED:20260426T035151Z
DTSTART:20250125T182500Z
DTEND:20250125T192500Z
LOCATION:Premier Sports Court 1
CONTACT:
SUMMARY:Premier Orange VS. Cheat Code Orange
DESCRIPTION:League Name: 2024 Premier Basketball Boys 6th Grade Winter Leag
 \nGame Type: Regular\nGame Status: Complete\nHome Team: Premier Orange\nAw
 ay Team: Cheat Code Orange\nHome Score: 30\nAway Score: 35
END:VEVENT
BEGIN:VEVENT
UID:16168667@ezleagues.ezfacility.com
DTSTAMP:20260426T035151Z
CREATED:20260426T035151Z
DTSTART:20250202T161500Z
DTEND:20250202T171500Z
LOCATION:Premier Sports Court 3
CONTACT:
SUMMARY:Premier Orange VS. Compound Purple
DESCRIPTION:League Name: 2024 Premier Basketball Boys 6th Grade Winter Leag
 \nGame Type: Regular\nGame Status: Complete\nHome Team: Premier Orange\nAw
 ay Team: Compound Purple\nHome Score: 31\nAway Score: 37
END:VEVENT
BEGIN:VEVENT
UID:16223659@ezleagues.ezfacility.com
DTSTAMP:20260426T035151Z
CREATED:20260426T035151Z
DTSTART:20250301T182500Z
DTEND:20250301T192500Z
LOCATION:Premier Sports Court 2
CONTACT:
SUMMARY:Team Breakdown  VS. Premier Orange
DESCRIPTION:League Name: 2024 Premier Basketball Boys 6th Grade Winter Leag
 \nGame Type: Regular\nGame Status: Complete\nHome Team: Team Breakdown \nA
 way Team: Premier Orange\nHome Score: 38\nAway Score: 36
END:VEVENT
END:VCALENDAR
