BEGIN:VCALENDAR
VERSION:2.0
PRODID:-//EZFacility.com, Inc.//EZL 2.5.5.28621
BEGIN:VEVENT
UID:16099683@ezleagues.ezfacility.com
DTSTAMP:20260426T035037Z
CREATED:20260426T035037Z
DTSTART:20241214T172000Z
DTEND:20241214T182000Z
LOCATION:Premier Sports Court 2
CONTACT:
SUMMARY:Cheat Code Black VS. Spartans Gottesman
DESCRIPTION:League Name: 2024 Premier Basketball Boys 6th Grade Winter Leag
 \nGame Type: Regular\nGame Status: Complete\nHome Team: Cheat Code Black\n
 Away Team: Spartans Gottesman\nHome Score: 40\nAway Score: 37
END:VEVENT
BEGIN:VEVENT
UID:16111420@ezleagues.ezfacility.com
DTSTAMP:20260426T035037Z
CREATED:20260426T035037Z
DTSTART:20241221T150500Z
DTEND:20241221T160500Z
LOCATION:Premier Sports Court 3
CONTACT:
SUMMARY:Premier Grey VS. Spartans Gottesman
DESCRIPTION:League Name: 2024 Premier Basketball Boys 6th Grade Winter Leag
 \nGame Type: Regular\nGame Status: Complete\nHome Team: Premier Grey\nAway
  Team: Spartans Gottesman\nHome Score: 22\nAway Score: 19
END:VEVENT
BEGIN:VEVENT
UID:16124973@ezleagues.ezfacility.com
DTSTAMP:20260426T035037Z
CREATED:20260426T035037Z
DTSTART:20250104T182500Z
DTEND:20250104T192500Z
LOCATION:Premier Sports Court 1
CONTACT:
SUMMARY:Compound Green VS. Spartans Gottesman
DESCRIPTION:League Name: 2024 Premier Basketball Boys 6th Grade Winter Leag
 \nGame Type: Regular\nGame Status: Complete\nHome Team: Compound Green\nAw
 ay Team: Spartans Gottesman\nHome Score: 16\nAway Score: 28
END:VEVENT
BEGIN:VEVENT
UID:16135852@ezleagues.ezfacility.com
DTSTAMP:20260426T035037Z
CREATED:20260426T035037Z
DTSTART:20250112T224000Z
DTEND:20250112T234000Z
LOCATION:Premier Sports Court 2
CONTACT:
SUMMARY:RTG Jackson VS. Spartans Gottesman
DESCRIPTION:League Name: 2024 Premier Basketball Boys 6th Grade Winter Leag
 \nGame Type: Regular\nGame Status: Complete\nHome Team: RTG Jackson\nAway 
 Team: Spartans Gottesman\nHome Score: 39\nAway Score: 29
END:VEVENT
BEGIN:VEVENT
UID:16156226@ezleagues.ezfacility.com
DTSTAMP:20260426T035037Z
CREATED:20260426T035037Z
DTSTART:20250119T172000Z
DTEND:20250119T182000Z
LOCATION:Premier Sports Court 2
CONTACT:
SUMMARY:Mecca VS. Spartans Gottesman
DESCRIPTION:League Name: 2024 Premier Basketball Boys 6th Grade Winter Leag
 \nGame Type: Regular\nGame Status: Complete\nHome Team: Mecca\nAway Team: 
 Spartans Gottesman\nHome Score: 30\nAway Score: 26
END:VEVENT
BEGIN:VEVENT
UID:16168665@ezleagues.ezfacility.com
DTSTAMP:20260426T035037Z
CREATED:20260426T035037Z
DTSTART:20250202T161500Z
DTEND:20250202T171500Z
LOCATION:Premier Sports Court 2
CONTACT:
SUMMARY:Spartans Gottesman VS. RTG Harrison
DESCRIPTION:League Name: 2024 Premier Basketball Boys 6th Grade Winter Leag
 \nGame Type: Regular\nGame Status: Complete\nHome Team: Spartans Gottesman
 \nAway Team: RTG Harrison\nHome Score: 19\nAway Score: 45
END:VEVENT
BEGIN:VEVENT
UID:16186595@ezleagues.ezfacility.com
DTSTAMP:20260426T035037Z
CREATED:20260426T035037Z
DTSTART:20250208T214000Z
DTEND:20250208T224000Z
LOCATION:Premier Sports Court 2
CONTACT:
SUMMARY:Spartans Gottesman VS. Team Breakdown 
DESCRIPTION:League Name: 2024 Premier Basketball Boys 6th Grade Winter Leag
 \nGame Type: Regular\nGame Status: Complete\nHome Team: Spartans Gottesman
 \nAway Team: Team Breakdown \nHome Score: 13\nAway Score: 55
END:VEVENT
BEGIN:VEVENT
UID:16223661@ezleagues.ezfacility.com
DTSTAMP:20260426T035037Z
CREATED:20260426T035037Z
DTSTART:20250302T161000Z
DTEND:20250302T171000Z
LOCATION:Premier Sports Court 1
CONTACT:
SUMMARY:Premier Grey VS. Spartans Gottesman
DESCRIPTION:League Name: 2024 Premier Basketball Boys 6th Grade Winter Leag
 \nGame Type: Regular\nGame Status: Complete\nHome Team: Premier Grey\nAway
  Team: Spartans Gottesman\nHome Score: 20\nAway Score: 17
END:VEVENT
END:VCALENDAR
