BEGIN:VCALENDAR
VERSION:2.0
PRODID:-//EZFacility.com, Inc.//EZL 2.5.5.28621
BEGIN:VEVENT
UID:16098412@ezleagues.ezfacility.com
DTSTAMP:20260422T145028Z
CREATED:20260422T145028Z
DTSTART:20241212T020000Z
DTEND:20241212T030000Z
LOCATION:Sand Court 2
CONTACT:
SUMMARY:Martin\, Harris\, Berkshire  VS. ONDASH SQUARED
DESCRIPTION:League Name: Wednesday Women's 2's AA Winter 25\nGame Type: Reg
 ular\nGame Status: Complete\nHome Team: Martin, Harris, Berkshire \nAway T
 eam: ONDASH SQUARED\nHome Score: 1\nAway Score: 2
END:VEVENT
BEGIN:VEVENT
UID:16098417@ezleagues.ezfacility.com
DTSTAMP:20260422T145028Z
CREATED:20260422T145028Z
DTSTART:20241219T010000Z
DTEND:20241219T020000Z
LOCATION:Sand Court 2
CONTACT:
SUMMARY:BECCA/BRIDGET VS. ONDASH SQUARED
DESCRIPTION:League Name: Wednesday Women's 2's AA Winter 25\nGame Type: Reg
 ular\nGame Status: Complete\nHome Team: BECCA/BRIDGET\nAway Team: ONDASH S
 QUARED\nHome Score: 0\nAway Score: 3
END:VEVENT
BEGIN:VEVENT
UID:16098432@ezleagues.ezfacility.com
DTSTAMP:20260422T145028Z
CREATED:20260422T145028Z
DTSTART:20250109T010000Z
DTEND:20250109T020000Z
LOCATION:Sand Court 2
CONTACT:
SUMMARY:ONDASH SQUARED VS. NO MORR LITMAN
DESCRIPTION:League Name: Wednesday Women's 2's AA Winter 25\nGame Type: Reg
 ular\nGame Status: Complete\nHome Team: ONDASH SQUARED\nAway Team: NO MORR
  LITMAN\nHome Score: 1\nAway Score: 2
END:VEVENT
BEGIN:VEVENT
UID:16098436@ezleagues.ezfacility.com
DTSTAMP:20260422T145028Z
CREATED:20260422T145028Z
DTSTART:20250116T030000Z
DTEND:20250116T040000Z
LOCATION:Sand Court 2
CONTACT:
SUMMARY:ONDASH SQUARED VS. JO/MO
DESCRIPTION:League Name: Wednesday Women's 2's AA Winter 25\nGame Type: Reg
 ular\nGame Status: Complete\nHome Team: ONDASH SQUARED\nAway Team: JO/MO\n
 Home Score: 0\nAway Score: 3
END:VEVENT
BEGIN:VEVENT
UID:16098442@ezleagues.ezfacility.com
DTSTAMP:20260422T145028Z
CREATED:20260422T145028Z
DTSTART:20250123T020000Z
DTEND:20250123T030000Z
LOCATION:Sand Court 2
CONTACT:
SUMMARY:ONDASH SQUARED VS. DANIELLE/HOPE
DESCRIPTION:League Name: Wednesday Women's 2's AA Winter 25\nGame Type: Reg
 ular\nGame Status: Complete\nHome Team: ONDASH SQUARED\nAway Team: DANIELL
 E/HOPE\nHome Score: 2\nAway Score: 1
END:VEVENT
BEGIN:VEVENT
UID:16098448@ezleagues.ezfacility.com
DTSTAMP:20260422T145028Z
CREATED:20260422T145028Z
DTSTART:20250130T020000Z
DTEND:20250130T030000Z
LOCATION:Sand Court 2
CONTACT:
SUMMARY:ONDASH SQUARED VS. MEOW KITTY
DESCRIPTION:League Name: Wednesday Women's 2's AA Winter 25\nGame Type: Reg
 ular\nGame Status: Complete\nHome Team: ONDASH SQUARED\nAway Team: MEOW KI
 TTY\nHome Score: 3\nAway Score: 0
END:VEVENT
BEGIN:VEVENT
UID:16098453@ezleagues.ezfacility.com
DTSTAMP:20260422T145028Z
CREATED:20260422T145028Z
DTSTART:20250206T010000Z
DTEND:20250206T020000Z
LOCATION:Sand Court 2
CONTACT:
SUMMARY:STEPH/KAT VS. ONDASH SQUARED
DESCRIPTION:League Name: Wednesday Women's 2's AA Winter 25\nGame Type: Reg
 ular\nGame Status: Complete\nHome Team: STEPH/KAT\nAway Team: ONDASH SQUAR
 ED\nHome Score: 1\nAway Score: 2
END:VEVENT
BEGIN:VEVENT
UID:16098422@ezleagues.ezfacility.com
DTSTAMP:20260422T145028Z
CREATED:20260422T145028Z
DTSTART:20250213T020000Z
DTEND:20250213T030000Z
LOCATION:Sand Court 2
CONTACT:
SUMMARY:Maddi/Monica VS. ONDASH SQUARED
DESCRIPTION:League Name: Wednesday Women's 2's AA Winter 25\nGame Type: Reg
 ular\nGame Status: Complete\nHome Team: Maddi/Monica\nAway Team: ONDASH SQ
 UARED\nHome Score: 0\nAway Score: 3
END:VEVENT
BEGIN:VEVENT
UID:16098427@ezleagues.ezfacility.com
DTSTAMP:20260422T145028Z
CREATED:20260422T145028Z
DTSTART:20250220T010000Z
DTEND:20250220T020000Z
LOCATION:Sand Court 2
CONTACT:
SUMMARY:ONDASH SQUARED VS. Ally/Kat
DESCRIPTION:League Name: Wednesday Women's 2's AA Winter 25\nGame Type: Reg
 ular\nGame Status: Complete\nHome Team: ONDASH SQUARED\nAway Team: Ally/Ka
 t\nHome Score: 3\nAway Score: 0
END:VEVENT
BEGIN:VEVENT
UID:16247891@ezleagues.ezfacility.com
DTSTAMP:20260422T145028Z
CREATED:20260422T145028Z
DTSTART:20250227T011500Z
DTEND:20250227T020000Z
LOCATION:Sand Court 2
CONTACT:
SUMMARY:ONDASH SQUARED VS. Ally/Kat
DESCRIPTION:League Name: Wednesday Women's 2's AA Winter 25\nGame Type: Pos
 tseason\nGame Status: Complete\nHome Team: ONDASH SQUARED\nAway Team: Ally
 /Kat\nHome Score: 2\nAway Score: 0
END:VEVENT
BEGIN:VEVENT
UID:16265875@ezleagues.ezfacility.com
DTSTAMP:20260422T145028Z
CREATED:20260422T145028Z
DTSTART:20250305T234500Z
DTEND:20250306T003000Z
LOCATION:Sand Court 2
CONTACT:
SUMMARY:ONDASH SQUARED VS. BECCA/BRIDGET
DESCRIPTION:League Name: Wednesday Women's 2's AA Winter 25\nGame Type: Pos
 tseason\nGame Status: Complete\nHome Team: ONDASH SQUARED\nAway Team: BECC
 A/BRIDGET\nHome Score: 0\nAway Score: 2
END:VEVENT
END:VCALENDAR
