BEGIN:VCALENDAR
VERSION:2.0
PRODID:-//EZFacility.com, Inc.//EZL 2.5.5.28621
BEGIN:VEVENT
UID:16098602@ezleagues.ezfacility.com
DTSTAMP:20260423T192440Z
CREATED:20260423T192440Z
DTSTART:20241211T230000Z
DTEND:20241212T000000Z
LOCATION:Sand Court 1
CONTACT:
SUMMARY:BEN/JUAN VS. CALDWELL/MANNING
DESCRIPTION:League Name: Wednesday Men's 2's Open Winter 25\nGame Type: Reg
 ular\nGame Status: Complete\nHome Team: BEN/JUAN\nAway Team: CALDWELL/MANN
 ING\nHome Score: 3\nAway Score: 0
END:VEVENT
BEGIN:VEVENT
UID:16098608@ezleagues.ezfacility.com
DTSTAMP:20260423T192440Z
CREATED:20260423T192440Z
DTSTART:20241219T000000Z
DTEND:20241219T010000Z
LOCATION:Sand Court 1
CONTACT:
SUMMARY:CALDWELL/MANNING VS. I WANNA BLOCK SOMEBODY
DESCRIPTION:League Name: Wednesday Men's 2's Open Winter 25\nGame Type: Reg
 ular\nGame Status: Complete\nHome Team: CALDWELL/MANNING\nAway Team: I WAN
 NA BLOCK SOMEBODY\nHome Score: 3\nAway Score: 0
END:VEVENT
BEGIN:VEVENT
UID:16098626@ezleagues.ezfacility.com
DTSTAMP:20260423T192440Z
CREATED:20260423T192440Z
DTSTART:20250109T020000Z
DTEND:20250109T030000Z
LOCATION:Sand Court 1
CONTACT:
SUMMARY:CALDWELL/MANNING VS. BRIAN/MILLS
DESCRIPTION:League Name: Wednesday Men's 2's Open Winter 25\nGame Type: Reg
 ular\nGame Status: Complete\nHome Team: CALDWELL/MANNING\nAway Team: BRIAN
 /MILLS\nHome Score: 3\nAway Score: 0
END:VEVENT
BEGIN:VEVENT
UID:16098631@ezleagues.ezfacility.com
DTSTAMP:20260423T192440Z
CREATED:20260423T192440Z
DTSTART:20250116T030000Z
DTEND:20250116T040000Z
LOCATION:Sand Court 1
CONTACT:
SUMMARY:DAYTON RULES VS. CALDWELL/MANNING
DESCRIPTION:League Name: Wednesday Men's 2's Open Winter 25\nGame Type: Reg
 ular\nGame Status: Complete\nHome Team: DAYTON RULES\nAway Team: CALDWELL/
 MANNING\nHome Score: 2\nAway Score: 1
END:VEVENT
BEGIN:VEVENT
UID:16098635@ezleagues.ezfacility.com
DTSTAMP:20260423T192440Z
CREATED:20260423T192440Z
DTSTART:20250123T020000Z
DTEND:20250123T030000Z
LOCATION:Sand Court 1
CONTACT:
SUMMARY:Lee/Alejandro VS. CALDWELL/MANNING
DESCRIPTION:League Name: Wednesday Men's 2's Open Winter 25\nGame Type: Reg
 ular\nGame Status: Complete\nHome Team: Lee/Alejandro\nAway Team: CALDWELL
 /MANNING\nHome Score: 0\nAway Score: 3
END:VEVENT
BEGIN:VEVENT
UID:16098639@ezleagues.ezfacility.com
DTSTAMP:20260423T192440Z
CREATED:20260423T192440Z
DTSTART:20250130T000000Z
DTEND:20250130T010000Z
LOCATION:Sand Court 1
CONTACT:
SUMMARY:Justin/Stephen VS. CALDWELL/MANNING
DESCRIPTION:League Name: Wednesday Men's 2's Open Winter 25\nGame Type: Reg
 ular\nGame Status: Complete\nHome Team: Justin/Stephen\nAway Team: CALDWEL
 L/MANNING\nHome Score: 0\nAway Score: 3
END:VEVENT
BEGIN:VEVENT
UID:16098643@ezleagues.ezfacility.com
DTSTAMP:20260423T192440Z
CREATED:20260423T192440Z
DTSTART:20250205T230000Z
DTEND:20250206T000000Z
LOCATION:Sand Court 1
CONTACT:
SUMMARY:CONRAD/CALVIN VS. CALDWELL/MANNING
DESCRIPTION:League Name: Wednesday Men's 2's Open Winter 25\nGame Type: Reg
 ular\nGame Status: Complete\nHome Team: CONRAD/CALVIN\nAway Team: CALDWELL
 /MANNING\nHome Score: 3\nAway Score: 0
END:VEVENT
BEGIN:VEVENT
UID:16098614@ezleagues.ezfacility.com
DTSTAMP:20260423T192440Z
CREATED:20260423T192440Z
DTSTART:20250213T010000Z
DTEND:20250213T020000Z
LOCATION:Sand Court 1
CONTACT:
SUMMARY:CALDWELL/MANNING VS. Spence/Mcgrath
DESCRIPTION:League Name: Wednesday Men's 2's Open Winter 25\nGame Type: Reg
 ular\nGame Status: Complete\nHome Team: CALDWELL/MANNING\nAway Team: Spenc
 e/Mcgrath\nHome Score: 3\nAway Score: 0
END:VEVENT
BEGIN:VEVENT
UID:16098620@ezleagues.ezfacility.com
DTSTAMP:20260423T192440Z
CREATED:20260423T192440Z
DTSTART:20250220T010000Z
DTEND:20250220T020000Z
LOCATION:Sand Court 1
CONTACT:
SUMMARY:CALDWELL/MANNING VS. GEOFF/DUSTIN
DESCRIPTION:League Name: Wednesday Men's 2's Open Winter 25\nGame Type: Reg
 ular\nGame Status: Complete\nHome Team: CALDWELL/MANNING\nAway Team: GEOFF
 /DUSTIN\nHome Score: 2\nAway Score: 1
END:VEVENT
BEGIN:VEVENT
UID:16247910@ezleagues.ezfacility.com
DTSTAMP:20260423T192440Z
CREATED:20260423T192440Z
DTSTART:20250227T024500Z
DTEND:20250227T033000Z
LOCATION:Sand Court 1
CONTACT:
SUMMARY:CALDWELL/MANNING VS. Lee/Alejandro
DESCRIPTION:League Name: Wednesday Men's 2's Open Winter 25\nGame Type: Pos
 tseason\nGame Status: Complete\nHome Team: CALDWELL/MANNING\nAway Team: Le
 e/Alejandro\nHome Score: 2\nAway Score: 0
END:VEVENT
BEGIN:VEVENT
UID:16265872@ezleagues.ezfacility.com
DTSTAMP:20260423T192440Z
CREATED:20260423T192440Z
DTSTART:20250305T234500Z
DTEND:20250306T003000Z
LOCATION:Sand Court 1
CONTACT:
SUMMARY:CALDWELL/MANNING VS. CONRAD/CALVIN
DESCRIPTION:League Name: Wednesday Men's 2's Open Winter 25\nGame Type: Pos
 tseason\nGame Status: Complete\nHome Team: CALDWELL/MANNING\nAway Team: CO
 NRAD/CALVIN\nHome Score: 2\nAway Score: 1
END:VEVENT
END:VCALENDAR
