BEGIN:VCALENDAR
VERSION:2.0
PRODID:-//EZFacility.com, Inc.//EZL 2.5.5.28621
BEGIN:VEVENT
UID:16107440@ezleagues.ezfacility.com
DTSTAMP:20260426T004042Z
CREATED:20260426T004042Z
DTSTART:20250104T031500Z
DTEND:20250104T041500Z
LOCATION:8v8 Field 3
CONTACT:
SUMMARY:Lakeview VS. Patriots
DESCRIPTION:League Name: Winter 2024/25- Travel Non-Boarded- High School Gi
 rls\nGame Type: Regular\nGame Status: Complete\nHome Team: Lakeview\nAway 
 Team: Patriots\nHome Score: 2\nAway Score: 3
END:VEVENT
BEGIN:VEVENT
UID:16107446@ezleagues.ezfacility.com
DTSTAMP:20260426T004042Z
CREATED:20260426T004042Z
DTSTART:20250112T021500Z
DTEND:20250112T031500Z
LOCATION:8v8 Field 3
CONTACT:
SUMMARY:Lakeview VS. Fraser
DESCRIPTION:League Name: Winter 2024/25- Travel Non-Boarded- High School Gi
 rls\nGame Type: Regular\nGame Status: Complete\nHome Team: Lakeview\nAway 
 Team: Fraser\nHome Score: 9\nAway Score: 0
END:VEVENT
BEGIN:VEVENT
UID:16107445@ezleagues.ezfacility.com
DTSTAMP:20260426T004042Z
CREATED:20260426T004042Z
DTSTART:20250118T031500Z
DTEND:20250118T041500Z
LOCATION:8v8 Field 3
CONTACT:
SUMMARY:Lakeview VS. WWT Lady Titans
DESCRIPTION:League Name: Winter 2024/25- Travel Non-Boarded- High School Gi
 rls\nGame Type: Regular\nGame Status: Complete\nHome Team: Lakeview\nAway 
 Team: WWT Lady Titans\nHome Score: 2\nAway Score: 0
END:VEVENT
BEGIN:VEVENT
UID:16107447@ezleagues.ezfacility.com
DTSTAMP:20260426T004042Z
CREATED:20260426T004042Z
DTSTART:20250125T031500Z
DTEND:20250125T041500Z
LOCATION:8v8 Field 3
CONTACT:
SUMMARY:Lakeview VS. Patriots
DESCRIPTION:League Name: Winter 2024/25- Travel Non-Boarded- High School Gi
 rls\nGame Type: Regular\nGame Status: Complete\nHome Team: Lakeview\nAway 
 Team: Patriots\nHome Score: 4\nAway Score: 1
END:VEVENT
BEGIN:VEVENT
UID:16107444@ezleagues.ezfacility.com
DTSTAMP:20260426T004042Z
CREATED:20260426T004042Z
DTSTART:20250201T041500Z
DTEND:20250201T051500Z
LOCATION:8v8 Field 3
CONTACT:
SUMMARY:Lakeview VS. WWT Lady Titans
DESCRIPTION:League Name: Winter 2024/25- Travel Non-Boarded- High School Gi
 rls\nGame Type: Regular\nGame Status: Complete\nHome Team: Lakeview\nAway 
 Team: WWT Lady Titans\nHome Score: 3\nAway Score: 4
END:VEVENT
BEGIN:VEVENT
UID:16107443@ezleagues.ezfacility.com
DTSTAMP:20260426T004042Z
CREATED:20260426T004042Z
DTSTART:20250208T031500Z
DTEND:20250208T041500Z
LOCATION:8v8 Field 3
CONTACT:
SUMMARY:Lakeview VS. Magic HSGs
DESCRIPTION:League Name: Winter 2024/25- Travel Non-Boarded- High School Gi
 rls\nGame Type: Regular\nGame Status: Complete\nHome Team: Lakeview\nAway 
 Team: Magic HSGs\nHome Score: 2\nAway Score: 3
END:VEVENT
BEGIN:VEVENT
UID:16107437@ezleagues.ezfacility.com
DTSTAMP:20260426T004042Z
CREATED:20260426T004042Z
DTSTART:20250222T031500Z
DTEND:20250222T041500Z
LOCATION:8v8 Field 3
CONTACT:
SUMMARY:GPS VS. Lakeview
DESCRIPTION:League Name: Winter 2024/25- Travel Non-Boarded- High School Gi
 rls\nGame Type: Regular\nGame Status: Complete\nHome Team: GPS\nAway Team:
  Lakeview\nHome Score: 4\nAway Score: 11
END:VEVENT
BEGIN:VEVENT
UID:16107441@ezleagues.ezfacility.com
DTSTAMP:20260426T004042Z
CREATED:20260426T004042Z
DTSTART:20250223T041500Z
DTEND:20250223T051500Z
LOCATION:8v8 Field 3
CONTACT:
SUMMARY:Lakeview VS. Shorians
DESCRIPTION:League Name: Winter 2024/25- Travel Non-Boarded- High School Gi
 rls\nGame Type: Regular\nGame Status: Complete\nHome Team: Lakeview\nAway 
 Team: Shorians\nHome Score: 10\nAway Score: 1
END:VEVENT
END:VCALENDAR
