BEGIN:VCALENDAR
VERSION:2.0
PRODID:-//EZFacility.com, Inc.//EZL 2.5.5.28621
BEGIN:VEVENT
UID:16109211@ezleagues.ezfacility.com
DTSTAMP:20260420T084618Z
CREATED:20260420T084618Z
DTSTART:20241211T020000Z
DTEND:20241211T024500Z
LOCATION:ATX Futsal Court 1
CONTACT:
SUMMARY:Alo and Her Sidekicks VS. Black Panthers
DESCRIPTION:League Name: Winter Co-ED A \nGame Type: Regular\nGame Status: 
 Complete\nHome Team: Alo and Her Sidekicks\nAway Team: Black Panthers\nHom
 e Score: 22\nAway Score: 24
END:VEVENT
BEGIN:VEVENT
UID:16161207@ezleagues.ezfacility.com
DTSTAMP:20260420T084618Z
CREATED:20260420T084618Z
DTSTART:20250108T030000Z
DTEND:20250108T034500Z
LOCATION:ATX Futsal Court 1
CONTACT:
SUMMARY:Alo and Her Sidekicks VS. Game Cancelled
DESCRIPTION:League Name: Winter Co-ED A \nGame Type: Regular\nGame Status: 
 Complete\nHome Team: Alo and Her Sidekicks\nAway Team: Game Cancelled\nHom
 e Score: 24\nAway Score: 30
END:VEVENT
BEGIN:VEVENT
UID:16181540@ezleagues.ezfacility.com
DTSTAMP:20260420T084618Z
CREATED:20260420T084618Z
DTSTART:20250115T040000Z
DTEND:20250115T044500Z
LOCATION:ATX Futsal Court 1
CONTACT:
SUMMARY:Stellar FC VS. Alo and Her Sidekicks
DESCRIPTION:League Name: Winter Co-ED A \nGame Type: Regular\nGame Status: 
 Complete\nHome Team: Stellar FC\nAway Team: Alo and Her Sidekicks\nHome Sc
 ore: 33\nAway Score: 32
END:VEVENT
BEGIN:VEVENT
UID:16186750@ezleagues.ezfacility.com
DTSTAMP:20260420T084618Z
CREATED:20260420T084618Z
DTSTART:20250129T031500Z
DTEND:20250129T040000Z
LOCATION:ATX Futsal Court 1
CONTACT:
SUMMARY:Black Panthers VS. Alo and Her Sidekicks
DESCRIPTION:League Name: Winter Co-ED A \nGame Type: Regular\nGame Status: 
 Complete\nHome Team: Black Panthers\nAway Team: Alo and Her Sidekicks\nHom
 e Score: 17\nAway Score: 21
END:VEVENT
BEGIN:VEVENT
UID:16213453@ezleagues.ezfacility.com
DTSTAMP:20260420T084618Z
CREATED:20260420T084618Z
DTSTART:20250205T040000Z
DTEND:20250205T044500Z
LOCATION:ATX Futsal Court 1
CONTACT:
SUMMARY:Last Minute VS. Alo and Her Sidekicks
DESCRIPTION:League Name: Winter Co-ED A \nGame Type: Regular\nGame Status: 
 Complete\nHome Team: Last Minute\nAway Team: Alo and Her Sidekicks\nHome S
 core: 32\nAway Score: 37
END:VEVENT
BEGIN:VEVENT
UID:16227564@ezleagues.ezfacility.com
DTSTAMP:20260420T084618Z
CREATED:20260420T084618Z
DTSTART:20250212T031500Z
DTEND:20250212T040000Z
LOCATION:ATX Futsal Court 1
CONTACT:
SUMMARY:Game Cancelled VS. Alo and Her Sidekicks
DESCRIPTION:League Name: Winter Co-ED A \nGame Type: Regular\nGame Status: 
 Complete\nHome Team: Game Cancelled\nAway Team: Alo and Her Sidekicks\nHom
 e Score: 26\nAway Score: 24
END:VEVENT
END:VCALENDAR
