BEGIN:VCALENDAR
VERSION:2.0
PRODID:-//EZFacility.com, Inc.//EZL 2.5.5.28621
BEGIN:VEVENT
UID:16113194@ezleagues.ezfacility.com
DTSTAMP:20260423T085318Z
CREATED:20260423T085318Z
DTSTART:20250106T012000Z
DTEND:20250106T023500Z
LOCATION:Rink B
CONTACT:
SUMMARY:Hitmen SS VS. Legion SS
DESCRIPTION:League Name: IVAHL SS25\nGame Type: Regular\nGame Status: Pendi
 ng\nHome Team: Hitmen SS\nAway Team: Legion SS\n
END:VEVENT
BEGIN:VEVENT
UID:16113198@ezleagues.ezfacility.com
DTSTAMP:20260423T085318Z
CREATED:20260423T085318Z
DTSTART:20250117T035500Z
DTEND:20250117T051000Z
LOCATION:Rink A
CONTACT:
SUMMARY:Legion SS VS. Bulldawgs
DESCRIPTION:League Name: IVAHL SS25\nGame Type: Regular\nGame Status: Pendi
 ng\nHome Team: Legion SS\nAway Team: Bulldawgs\n
END:VEVENT
BEGIN:VEVENT
UID:16113202@ezleagues.ezfacility.com
DTSTAMP:20260423T085318Z
CREATED:20260423T085318Z
DTSTART:20250124T035500Z
DTEND:20250124T051000Z
LOCATION:Rink A
CONTACT:
SUMMARY:Legion SS VS. Twisted Teaze
DESCRIPTION:League Name: IVAHL SS25\nGame Type: Regular\nGame Status: Pendi
 ng\nHome Team: Legion SS\nAway Team: Twisted Teaze\n
END:VEVENT
BEGIN:VEVENT
UID:16113206@ezleagues.ezfacility.com
DTSTAMP:20260423T085318Z
CREATED:20260423T085318Z
DTSTART:20250127T020500Z
DTEND:20250127T032000Z
LOCATION:Rink B
CONTACT:
SUMMARY:Legion SS VS. Dead Presidents SS
DESCRIPTION:League Name: IVAHL SS25\nGame Type: Regular\nGame Status: Pendi
 ng\nHome Team: Legion SS\nAway Team: Dead Presidents SS\n
END:VEVENT
BEGIN:VEVENT
UID:16113210@ezleagues.ezfacility.com
DTSTAMP:20260423T085318Z
CREATED:20260423T085318Z
DTSTART:20250203T004000Z
DTEND:20250203T015500Z
LOCATION:Rink B
CONTACT:
SUMMARY:Fireballs SS VS. Legion SS
DESCRIPTION:League Name: IVAHL SS25\nGame Type: Regular\nGame Status: Pendi
 ng\nHome Team: Fireballs SS\nAway Team: Legion SS\n
END:VEVENT
BEGIN:VEVENT
UID:16113214@ezleagues.ezfacility.com
DTSTAMP:20260423T085318Z
CREATED:20260423T085318Z
DTSTART:20250214T035500Z
DTEND:20250214T051000Z
LOCATION:Rink A
CONTACT:
SUMMARY:Skeletor SS VS. Legion SS
DESCRIPTION:League Name: IVAHL SS25\nGame Type: Regular\nGame Status: Pendi
 ng\nHome Team: Skeletor SS\nAway Team: Legion SS\n
END:VEVENT
BEGIN:VEVENT
UID:16113218@ezleagues.ezfacility.com
DTSTAMP:20260423T085318Z
CREATED:20260423T085318Z
DTSTART:20250221T035500Z
DTEND:20250221T051000Z
LOCATION:Rink A
CONTACT:
SUMMARY:Beer Money SS VS. Legion SS
DESCRIPTION:League Name: IVAHL SS25\nGame Type: Regular\nGame Status: Pendi
 ng\nHome Team: Beer Money SS\nAway Team: Legion SS\n
END:VEVENT
BEGIN:VEVENT
UID:16113222@ezleagues.ezfacility.com
DTSTAMP:20260423T085318Z
CREATED:20260423T085318Z
DTSTART:20250224T020500Z
DTEND:20250224T032000Z
LOCATION:Rink B
CONTACT:
SUMMARY:Legion SS VS. Hitmen SS
DESCRIPTION:League Name: IVAHL SS25\nGame Type: Regular\nGame Status: Pendi
 ng\nHome Team: Legion SS\nAway Team: Hitmen SS\n
END:VEVENT
BEGIN:VEVENT
UID:16113226@ezleagues.ezfacility.com
DTSTAMP:20260423T085318Z
CREATED:20260423T085318Z
DTSTART:20250303T004000Z
DTEND:20250303T015500Z
LOCATION:Rink B
CONTACT:
SUMMARY:Bulldawgs VS. Legion SS
DESCRIPTION:League Name: IVAHL SS25\nGame Type: Regular\nGame Status: Pendi
 ng\nHome Team: Bulldawgs\nAway Team: Legion SS\n
END:VEVENT
BEGIN:VEVENT
UID:16113230@ezleagues.ezfacility.com
DTSTAMP:20260423T085318Z
CREATED:20260423T085318Z
DTSTART:20250314T025500Z
DTEND:20250314T041000Z
LOCATION:Rink A
CONTACT:
SUMMARY:Twisted Teaze VS. Legion SS
DESCRIPTION:League Name: IVAHL SS25\nGame Type: Regular\nGame Status: Pendi
 ng\nHome Team: Twisted Teaze\nAway Team: Legion SS\n
END:VEVENT
BEGIN:VEVENT
UID:16113234@ezleagues.ezfacility.com
DTSTAMP:20260423T085318Z
CREATED:20260423T085318Z
DTSTART:20250321T025500Z
DTEND:20250321T041000Z
LOCATION:Rink A
CONTACT:
SUMMARY:Dead Presidents SS VS. Legion SS
DESCRIPTION:League Name: IVAHL SS25\nGame Type: Regular\nGame Status: Pendi
 ng\nHome Team: Dead Presidents SS\nAway Team: Legion SS\n
END:VEVENT
BEGIN:VEVENT
UID:16113238@ezleagues.ezfacility.com
DTSTAMP:20260423T085318Z
CREATED:20260423T085318Z
DTSTART:20250324T010500Z
DTEND:20250324T022000Z
LOCATION:Rink B
CONTACT:
SUMMARY:Legion SS VS. Fireballs SS
DESCRIPTION:League Name: IVAHL SS25\nGame Type: Regular\nGame Status: Pendi
 ng\nHome Team: Legion SS\nAway Team: Fireballs SS\n
END:VEVENT
BEGIN:VEVENT
UID:16113242@ezleagues.ezfacility.com
DTSTAMP:20260423T085318Z
CREATED:20260423T085318Z
DTSTART:20250404T025500Z
DTEND:20250404T041000Z
LOCATION:Rink A
CONTACT:
SUMMARY:Legion SS VS. Skeletor SS
DESCRIPTION:League Name: IVAHL SS25\nGame Type: Regular\nGame Status: Pendi
 ng\nHome Team: Legion SS\nAway Team: Skeletor SS\n
END:VEVENT
BEGIN:VEVENT
UID:16113246@ezleagues.ezfacility.com
DTSTAMP:20260423T085318Z
CREATED:20260423T085318Z
DTSTART:20250411T025500Z
DTEND:20250411T041000Z
LOCATION:Rink A
CONTACT:
SUMMARY:Legion SS VS. Beer Money SS
DESCRIPTION:League Name: IVAHL SS25\nGame Type: Regular\nGame Status: Pendi
 ng\nHome Team: Legion SS\nAway Team: Beer Money SS\n
END:VEVENT
BEGIN:VEVENT
UID:16113250@ezleagues.ezfacility.com
DTSTAMP:20260423T085318Z
CREATED:20260423T085318Z
DTSTART:20250413T234000Z
DTEND:20250414T005500Z
LOCATION:Rink B
CONTACT:
SUMMARY:Legion SS VS. Hitmen SS
DESCRIPTION:League Name: IVAHL SS25\nGame Type: Regular\nGame Status: Pendi
 ng\nHome Team: Legion SS\nAway Team: Hitmen SS\n
END:VEVENT
BEGIN:VEVENT
UID:16113258@ezleagues.ezfacility.com
DTSTAMP:20260423T085318Z
CREATED:20260423T085318Z
DTSTART:20250428T010500Z
DTEND:20250428T022000Z
LOCATION:Rink B
CONTACT:
SUMMARY:Twisted Teaze VS. Legion SS
DESCRIPTION:League Name: IVAHL SS25\nGame Type: Regular\nGame Status: Pendi
 ng\nHome Team: Twisted Teaze\nAway Team: Legion SS\n
END:VEVENT
BEGIN:VEVENT
UID:16113262@ezleagues.ezfacility.com
DTSTAMP:20260423T085318Z
CREATED:20260423T085318Z
DTSTART:20250509T025500Z
DTEND:20250509T041000Z
LOCATION:Rink A
CONTACT:
SUMMARY:Dead Presidents SS VS. Legion SS
DESCRIPTION:League Name: IVAHL SS25\nGame Type: Regular\nGame Status: Pendi
 ng\nHome Team: Dead Presidents SS\nAway Team: Legion SS\n
END:VEVENT
BEGIN:VEVENT
UID:16113254@ezleagues.ezfacility.com
DTSTAMP:20260423T085318Z
CREATED:20260423T085318Z
DTSTART:20250511T153000Z
DTEND:20250511T164500Z
LOCATION:Rink A
CONTACT:
SUMMARY:Bulldawgs VS. Legion SS
DESCRIPTION:League Name: IVAHL SS25\nGame Type: Regular\nGame Status: Pendi
 ng\nHome Team: Bulldawgs\nAway Team: Legion SS\n
END:VEVENT
BEGIN:VEVENT
UID:16113266@ezleagues.ezfacility.com
DTSTAMP:20260423T085318Z
CREATED:20260423T085318Z
DTSTART:20250512T010500Z
DTEND:20250512T022000Z
LOCATION:Rink B
CONTACT:
SUMMARY:Legion SS VS. Fireballs SS
DESCRIPTION:League Name: IVAHL SS25\nGame Type: Regular\nGame Status: Pendi
 ng\nHome Team: Legion SS\nAway Team: Fireballs SS\n
END:VEVENT
BEGIN:VEVENT
UID:16113270@ezleagues.ezfacility.com
DTSTAMP:20260423T085318Z
CREATED:20260423T085318Z
DTSTART:20250523T025500Z
DTEND:20250523T041000Z
LOCATION:Rink A
CONTACT:
SUMMARY:Legion SS VS. Skeletor SS
DESCRIPTION:League Name: IVAHL SS25\nGame Type: Regular\nGame Status: Pendi
 ng\nHome Team: Legion SS\nAway Team: Skeletor SS\n
END:VEVENT
END:VCALENDAR
