BEGIN:VCALENDAR
VERSION:2.0
PRODID:-//EZFacility.com, Inc.//EZL 2.5.5.28621
BEGIN:VEVENT
UID:16164699@ezleagues.ezfacility.com
DTSTAMP:20260421T120142Z
CREATED:20260421T120142Z
DTSTART:20250111T223000Z
DTEND:20250111T233000Z
LOCATION:6v6 Field 2
CONTACT:
SUMMARY:TS Renegades VS. TS Tornadoes
DESCRIPTION:League Name: 2nd Session 2025- Recreation- U12 Coed Boarded Whi
 te\nGame Type: Regular\nGame Status: Complete\nHome Team: TS Renegades\nAw
 ay Team: TS Tornadoes\nHome Score: 11\nAway Score: 10
END:VEVENT
BEGIN:VEVENT
UID:16164703@ezleagues.ezfacility.com
DTSTAMP:20260421T120142Z
CREATED:20260421T120142Z
DTSTART:20250118T123000Z
DTEND:20250118T133000Z
LOCATION:6v6 Field 2
CONTACT:
SUMMARY:Stealers VS. TS Tornadoes
DESCRIPTION:League Name: 2nd Session 2025- Recreation- U12 Coed Boarded Whi
 te\nGame Type: Regular\nGame Status: Complete\nHome Team: Stealers\nAway T
 eam: TS Tornadoes\nHome Score: 0\nAway Score: 10
END:VEVENT
BEGIN:VEVENT
UID:16164706@ezleagues.ezfacility.com
DTSTAMP:20260421T120142Z
CREATED:20260421T120142Z
DTSTART:20250125T223000Z
DTEND:20250125T233000Z
LOCATION:6v6 Field 2
CONTACT:
SUMMARY:TS Tornadoes VS. TS Underdogs
DESCRIPTION:League Name: 2nd Session 2025- Recreation- U12 Coed Boarded Whi
 te\nGame Type: Regular\nGame Status: Complete\nHome Team: TS Tornadoes\nAw
 ay Team: TS Underdogs\nHome Score: 4\nAway Score: 10
END:VEVENT
BEGIN:VEVENT
UID:16164712@ezleagues.ezfacility.com
DTSTAMP:20260421T120142Z
CREATED:20260421T120142Z
DTSTART:20250208T123000Z
DTEND:20250208T133000Z
LOCATION:6v6 Field 2
CONTACT:
SUMMARY:Rhinos  VS. TS Tornadoes
DESCRIPTION:League Name: 2nd Session 2025- Recreation- U12 Coed Boarded Whi
 te\nGame Type: Regular\nGame Status: Complete\nHome Team: Rhinos \nAway Te
 am: TS Tornadoes\nHome Score: 5\nAway Score: 8
END:VEVENT
BEGIN:VEVENT
UID:16164717@ezleagues.ezfacility.com
DTSTAMP:20260421T120142Z
CREATED:20260421T120142Z
DTSTART:20250215T220000Z
DTEND:20250215T230000Z
LOCATION:6v6 Field 1
CONTACT:
SUMMARY:TS Tornadoes VS. Howler Monkeys
DESCRIPTION:League Name: 2nd Session 2025- Recreation- U12 Coed Boarded Whi
 te\nGame Type: Regular\nGame Status: Complete\nHome Team: TS Tornadoes\nAw
 ay Team: Howler Monkeys\nHome Score: 10\nAway Score: 4
END:VEVENT
BEGIN:VEVENT
UID:16164722@ezleagues.ezfacility.com
DTSTAMP:20260421T120142Z
CREATED:20260421T120142Z
DTSTART:20250223T213000Z
DTEND:20250223T223000Z
LOCATION:6v6 Field 2
CONTACT:
SUMMARY:Howler Monkeys VS. TS Tornadoes
DESCRIPTION:League Name: 2nd Session 2025- Recreation- U12 Coed Boarded Whi
 te\nGame Type: Regular\nGame Status: Complete\nHome Team: Howler Monkeys\n
 Away Team: TS Tornadoes\nHome Score: 12\nAway Score: 4
END:VEVENT
BEGIN:VEVENT
UID:16164727@ezleagues.ezfacility.com
DTSTAMP:20260421T120142Z
CREATED:20260421T120142Z
DTSTART:20250301T220000Z
DTEND:20250301T230000Z
LOCATION:6v6 Field 1
CONTACT:
SUMMARY:TS Tornadoes VS. TS Renegades
DESCRIPTION:League Name: 2nd Session 2025- Recreation- U12 Coed Boarded Whi
 te\nGame Type: Regular\nGame Status: Complete\nHome Team: TS Tornadoes\nAw
 ay Team: TS Renegades\nHome Score: 9\nAway Score: 11
END:VEVENT
BEGIN:VEVENT
UID:16164694@ezleagues.ezfacility.com
DTSTAMP:20260421T120142Z
CREATED:20260421T120142Z
DTSTART:20250308T200000Z
DTEND:20250308T210000Z
LOCATION:6v6 Field 1
CONTACT:
SUMMARY:TS Tornadoes VS. TS Stars
DESCRIPTION:League Name: 2nd Session 2025- Recreation- U12 Coed Boarded Whi
 te\nGame Type: Regular\nGame Status: Complete\nHome Team: TS Tornadoes\nAw
 ay Team: TS Stars\nHome Score: 2\nAway Score: 10
END:VEVENT
END:VCALENDAR
