BEGIN:VCALENDAR
VERSION:2.0
PRODID:-//EZFacility.com, Inc.//EZL 2.5.5.28621
BEGIN:VEVENT
UID:16114543@ezleagues.ezfacility.com
DTSTAMP:20260424T214215Z
CREATED:20260424T214215Z
DTSTART:20250105T203000Z
DTEND:20250105T213000Z
LOCATION:6v6 Field 2
CONTACT:
SUMMARY:TS Goonies VS. TS Wolfpack
DESCRIPTION:League Name: 2nd Session 2025- Recreation- U14/15 Girls Boarded
  Red\nGame Type: Regular\nGame Status: Complete\nHome Team: TS Goonies\nAw
 ay Team: TS Wolfpack\nHome Score: 4\nAway Score: 8
END:VEVENT
BEGIN:VEVENT
UID:16114542@ezleagues.ezfacility.com
DTSTAMP:20260424T214215Z
CREATED:20260424T214215Z
DTSTART:20250112T220000Z
DTEND:20250112T230000Z
LOCATION:6v6 Field 1
CONTACT:
SUMMARY:TS Lady Stingrays VS. TS Goonies
DESCRIPTION:League Name: 2nd Session 2025- Recreation- U14/15 Girls Boarded
  Red\nGame Type: Regular\nGame Status: Complete\nHome Team: TS Lady Stingr
 ays\nAway Team: TS Goonies\nHome Score: 1\nAway Score: 4
END:VEVENT
BEGIN:VEVENT
UID:16114547@ezleagues.ezfacility.com
DTSTAMP:20260424T214215Z
CREATED:20260424T214215Z
DTSTART:20250113T230000Z
DTEND:20250114T000000Z
LOCATION:6v6 Field 1
CONTACT:
SUMMARY:TS Sharks VS. TS Goonies
DESCRIPTION:League Name: 2nd Session 2025- Recreation- U14/15 Girls Boarded
  Red\nGame Type: Regular\nGame Status: Complete\nHome Team: TS Sharks\nAwa
 y Team: TS Goonies\nHome Score: 3\nAway Score: 3
END:VEVENT
BEGIN:VEVENT
UID:16114550@ezleagues.ezfacility.com
DTSTAMP:20260424T214215Z
CREATED:20260424T214215Z
DTSTART:20250119T210000Z
DTEND:20250119T220000Z
LOCATION:6v6 Field 1
CONTACT:
SUMMARY:TS Lady Stingrays VS. TS Goonies
DESCRIPTION:League Name: 2nd Session 2025- Recreation- U14/15 Girls Boarded
  Red\nGame Type: Regular\nGame Status: Complete\nHome Team: TS Lady Stingr
 ays\nAway Team: TS Goonies\nHome Score: 0\nAway Score: 7
END:VEVENT
BEGIN:VEVENT
UID:16114554@ezleagues.ezfacility.com
DTSTAMP:20260424T214215Z
CREATED:20260424T214215Z
DTSTART:20250202T220000Z
DTEND:20250202T230000Z
LOCATION:6v6 Field 1
CONTACT:
SUMMARY:TS Goonies VS. TS Fire
DESCRIPTION:League Name: 2nd Session 2025- Recreation- U14/15 Girls Boarded
  Red\nGame Type: Regular\nGame Status: Complete\nHome Team: TS Goonies\nAw
 ay Team: TS Fire\nHome Score: 2\nAway Score: 2
END:VEVENT
BEGIN:VEVENT
UID:16114560@ezleagues.ezfacility.com
DTSTAMP:20260424T214215Z
CREATED:20260424T214215Z
DTSTART:20250216T203000Z
DTEND:20250216T213000Z
LOCATION:6v6 Field 2
CONTACT:
SUMMARY:TS Wolfpack VS. TS Goonies
DESCRIPTION:League Name: 2nd Session 2025- Recreation- U14/15 Girls Boarded
  Red\nGame Type: Regular\nGame Status: Complete\nHome Team: TS Wolfpack\nA
 way Team: TS Goonies\nHome Score: 10\nAway Score: 10
END:VEVENT
BEGIN:VEVENT
UID:16114562@ezleagues.ezfacility.com
DTSTAMP:20260424T214215Z
CREATED:20260424T214215Z
DTSTART:20250224T230000Z
DTEND:20250225T000000Z
LOCATION:6v6 Field 1
CONTACT:
SUMMARY:TS Goonies VS. TS Sharks
DESCRIPTION:League Name: 2nd Session 2025- Recreation- U14/15 Girls Boarded
  Red\nGame Type: Regular\nGame Status: Complete\nHome Team: TS Goonies\nAw
 ay Team: TS Sharks\nHome Score: 12\nAway Score: 2
END:VEVENT
BEGIN:VEVENT
UID:16114569@ezleagues.ezfacility.com
DTSTAMP:20260424T214215Z
CREATED:20260424T214215Z
DTSTART:20250309T180000Z
DTEND:20250309T190000Z
LOCATION:6v6 Field 1
CONTACT:
SUMMARY:TS Fire VS. TS Goonies
DESCRIPTION:League Name: 2nd Session 2025- Recreation- U14/15 Girls Boarded
  Red\nGame Type: Regular\nGame Status: Complete\nHome Team: TS Fire\nAway 
 Team: TS Goonies\nHome Score: 5\nAway Score: 1
END:VEVENT
END:VCALENDAR
