BEGIN:VCALENDAR
VERSION:2.0
PRODID:-//EZFacility.com, Inc.//EZL 2.5.5.28621
BEGIN:VEVENT
UID:16117982@ezleagues.ezfacility.com
DTSTAMP:20260422T000450Z
CREATED:20260422T000450Z
DTSTART:20241215T030000Z
DTEND:20241215T034500Z
LOCATION:North Field
CONTACT:
SUMMARY:Veracruz VS. Morazon
DESCRIPTION:League Name: Centro America WInter 2025-Segunda 'B'\nGame Type:
  Regular\nGame Status: Complete\nHome Team: Veracruz\nAway Team: Morazon\n
 Home Score: 1\nAway Score: 4
END:VEVENT
BEGIN:VEVENT
UID:16117994@ezleagues.ezfacility.com
DTSTAMP:20260422T000450Z
CREATED:20260422T000450Z
DTSTART:20241222T034500Z
DTEND:20241222T043000Z
LOCATION:North Field
CONTACT:
SUMMARY:Fabricadores  VS. Veracruz
DESCRIPTION:League Name: Centro America WInter 2025-Segunda 'B'\nGame Type:
  Regular\nGame Status: Complete\nHome Team: Fabricadores \nAway Team: Vera
 cruz\nHome Score: 0\nAway Score: 11
END:VEVENT
BEGIN:VEVENT
UID:16118005@ezleagues.ezfacility.com
DTSTAMP:20260422T000450Z
CREATED:20260422T000450Z
DTSTART:20241229T014500Z
DTEND:20241229T023000Z
LOCATION:South Field
CONTACT:
SUMMARY:P.C.F.C. VS. Veracruz
DESCRIPTION:League Name: Centro America WInter 2025-Segunda 'B'\nGame Type:
  Regular\nGame Status: Complete\nHome Team: P.C.F.C.\nAway Team: Veracruz\
 nHome Score: 0\nAway Score: 4
END:VEVENT
BEGIN:VEVENT
UID:16118015@ezleagues.ezfacility.com
DTSTAMP:20260422T000450Z
CREATED:20260422T000450Z
DTSTART:20250105T023000Z
DTEND:20250105T031500Z
LOCATION:North Field
CONTACT:
SUMMARY:Veracruz VS. Esteli Fc
DESCRIPTION:League Name: Centro America WInter 2025-Segunda 'B'\nGame Type:
  Regular\nGame Status: Complete\nHome Team: Veracruz\nAway Team: Esteli Fc
 \nHome Score: 1\nAway Score: 6
END:VEVENT
BEGIN:VEVENT
UID:16118025@ezleagues.ezfacility.com
DTSTAMP:20260422T000450Z
CREATED:20260422T000450Z
DTSTART:20250112T004500Z
DTEND:20250112T013000Z
LOCATION:North Field
CONTACT:
SUMMARY:Niupi  FC VS. Veracruz
DESCRIPTION:League Name: Centro America WInter 2025-Segunda 'B'\nGame Type:
  Regular\nGame Status: Complete\nHome Team: Niupi  FC\nAway Team: Veracruz
 \nHome Score: 1\nAway Score: 2
END:VEVENT
BEGIN:VEVENT
UID:16118035@ezleagues.ezfacility.com
DTSTAMP:20260422T000450Z
CREATED:20260422T000450Z
DTSTART:20250119T010000Z
DTEND:20250119T014500Z
LOCATION:North Field
CONTACT:
SUMMARY:Veracruz VS. New Age Cryo
DESCRIPTION:League Name: Centro America WInter 2025-Segunda 'B'\nGame Type:
  Regular\nGame Status: Complete\nHome Team: Veracruz\nAway Team: New Age C
 ryo\nHome Score: 10\nAway Score: 3
END:VEVENT
BEGIN:VEVENT
UID:16200169@ezleagues.ezfacility.com
DTSTAMP:20260422T000450Z
CREATED:20260422T000450Z
DTSTART:20250126T034500Z
DTEND:20250126T043000Z
LOCATION:North Field
CONTACT:
SUMMARY:Veracruz VS. Rio Lindo City
DESCRIPTION:League Name: Centro America WInter 2025-Segunda 'B'\nGame Type:
  Regular\nGame Status: Complete\nHome Team: Veracruz\nAway Team: Rio Lindo
  City\nHome Score: 4\nAway Score: 1
END:VEVENT
BEGIN:VEVENT
UID:16118059@ezleagues.ezfacility.com
DTSTAMP:20260422T000450Z
CREATED:20260422T000450Z
DTSTART:20250202T030000Z
DTEND:20250202T034500Z
LOCATION:North Field
CONTACT:
SUMMARY:Guamiles Fc VS. Veracruz
DESCRIPTION:League Name: Centro America WInter 2025-Segunda 'B'\nGame Type:
  Regular\nGame Status: Complete\nHome Team: Guamiles Fc\nAway Team: Veracr
 uz\nHome Score: 3\nAway Score: 3
END:VEVENT
BEGIN:VEVENT
UID:16225469@ezleagues.ezfacility.com
DTSTAMP:20260422T000450Z
CREATED:20260422T000450Z
DTSTART:20250209T023000Z
DTEND:20250209T031500Z
LOCATION:South Field
CONTACT:
SUMMARY:FabTech  Fc VS. Veracruz
DESCRIPTION:League Name: Centro America WInter 2025-Segunda 'B'\nGame Type:
  Postseason\nGame Status: Complete\nHome Team: FabTech  Fc\nAway Team: Ver
 acruz\nHome Score: 4\nAway Score: 3
END:VEVENT
END:VCALENDAR
