BEGIN:VCALENDAR
VERSION:2.0
PRODID:-//EZFacility.com, Inc.//EZL 2.5.5.28621
BEGIN:VEVENT
UID:16120175@ezleagues.ezfacility.com
DTSTAMP:20260426T033714Z
CREATED:20260426T033714Z
DTSTART:20250105T130000Z
DTEND:20250105T140000Z
LOCATION:Mini Field 
CONTACT:
SUMMARY:Ferndale 8B VS. United FC 17 B GR
DESCRIPTION:League Name: U8 Boys Red 2nd session '25\nGame Type: Regular\nG
 ame Status: Complete\nHome Team: Ferndale 8B\nAway Team: United FC 17 B GR
 \nHome Score: 6\nAway Score: 8
END:VEVENT
BEGIN:VEVENT
UID:16120177@ezleagues.ezfacility.com
DTSTAMP:20260426T033714Z
CREATED:20260426T033714Z
DTSTART:20250112T003000Z
DTEND:20250112T013000Z
LOCATION:Mini Field 
CONTACT:
SUMMARY:Messi's Magicians VS. United FC 17 B GR
DESCRIPTION:League Name: U8 Boys Red 2nd session '25\nGame Type: Regular\nG
 ame Status: Complete\nHome Team: Messi's Magicians\nAway Team: United FC 1
 7 B GR\nHome Score: 6\nAway Score: 10
END:VEVENT
BEGIN:VEVENT
UID:16120181@ezleagues.ezfacility.com
DTSTAMP:20260426T033714Z
CREATED:20260426T033714Z
DTSTART:20250118T233000Z
DTEND:20250119T003000Z
LOCATION:Mini Field 
CONTACT:
SUMMARY:United FC 17 B GR VS. RO Rockers
DESCRIPTION:League Name: U8 Boys Red 2nd session '25\nGame Type: Regular\nG
 ame Status: Complete\nHome Team: United FC 17 B GR\nAway Team: RO Rockers\
 nHome Score: 10\nAway Score: 6
END:VEVENT
BEGIN:VEVENT
UID:16120185@ezleagues.ezfacility.com
DTSTAMP:20260426T033714Z
CREATED:20260426T033714Z
DTSTART:20250125T233000Z
DTEND:20250126T003000Z
LOCATION:Mini Field 
CONTACT:
SUMMARY:Warriors SC 2017 B Red VS. United FC 17 B GR
DESCRIPTION:League Name: U8 Boys Red 2nd session '25\nGame Type: Regular\nG
 ame Status: Complete\nHome Team: Warriors SC 2017 B Red\nAway Team: United
  FC 17 B GR\nHome Score: 1\nAway Score: 5
END:VEVENT
BEGIN:VEVENT
UID:16120190@ezleagues.ezfacility.com
DTSTAMP:20260426T033714Z
CREATED:20260426T033714Z
DTSTART:20250208T233000Z
DTEND:20250209T003000Z
LOCATION:Mini Field 
CONTACT:
SUMMARY:United FC 17 B GR VS. Ferndale 8B
DESCRIPTION:League Name: U8 Boys Red 2nd session '25\nGame Type: Regular\nG
 ame Status: Complete\nHome Team: United FC 17 B GR\nAway Team: Ferndale 8B
 \nHome Score: 8\nAway Score: 5
END:VEVENT
BEGIN:VEVENT
UID:16120192@ezleagues.ezfacility.com
DTSTAMP:20260426T033714Z
CREATED:20260426T033714Z
DTSTART:20250216T130000Z
DTEND:20250216T140000Z
LOCATION:Mini Field 
CONTACT:
SUMMARY:United FC 17 B GR VS. Messi's Magicians
DESCRIPTION:League Name: U8 Boys Red 2nd session '25\nGame Type: Regular\nG
 ame Status: Complete\nHome Team: United FC 17 B GR\nAway Team: Messi's Mag
 icians\nHome Score: 9\nAway Score: 5
END:VEVENT
BEGIN:VEVENT
UID:16120196@ezleagues.ezfacility.com
DTSTAMP:20260426T033714Z
CREATED:20260426T033714Z
DTSTART:20250222T233000Z
DTEND:20250223T003000Z
LOCATION:Mini Field 
CONTACT:
SUMMARY:RO Rockers VS. United FC 17 B GR
DESCRIPTION:League Name: U8 Boys Red 2nd session '25\nGame Type: Regular\nG
 ame Status: Complete\nHome Team: RO Rockers\nAway Team: United FC 17 B GR\
 nHome Score: 7\nAway Score: 9
END:VEVENT
BEGIN:VEVENT
UID:16120200@ezleagues.ezfacility.com
DTSTAMP:20260426T033714Z
CREATED:20260426T033714Z
DTSTART:20250302T003000Z
DTEND:20250302T013000Z
LOCATION:Mini Field 
CONTACT:
SUMMARY:United FC 17 B GR VS. Warriors SC 2017 B Red
DESCRIPTION:League Name: U8 Boys Red 2nd session '25\nGame Type: Regular\nG
 ame Status: Complete\nHome Team: United FC 17 B GR\nAway Team: Warriors SC
  2017 B Red\nHome Score: 7\nAway Score: 3
END:VEVENT
END:VCALENDAR
