BEGIN:VCALENDAR
VERSION:2.0
PRODID:-//EZFacility.com, Inc.//EZL 2.5.5.28621
BEGIN:VEVENT
UID:16123341@ezleagues.ezfacility.com
DTSTAMP:20260425T023142Z
CREATED:20260425T023142Z
DTSTART:20250104T220500Z
DTEND:20250104T230000Z
LOCATION:Main Field 
CONTACT:
SUMMARY:United FC '15b White VS. Troy Nationals 2016 Black
DESCRIPTION:League Name: U10 Boys White 2nd 2025\nGame Type: Regular\nGame 
 Status: Complete\nHome Team: United FC '15b White\nAway Team: Troy Nationa
 ls 2016 Black\nHome Score: 3\nAway Score: 3
END:VEVENT
BEGIN:VEVENT
UID:16123344@ezleagues.ezfacility.com
DTSTAMP:20260425T023142Z
CREATED:20260425T023142Z
DTSTART:20250113T222500Z
DTEND:20250113T232000Z
LOCATION:Main Field 
CONTACT:
SUMMARY:United FC '16 Green VS. Troy Nationals 2016 Black
DESCRIPTION:League Name: U10 Boys White 2nd 2025\nGame Type: Regular\nGame 
 Status: Complete\nHome Team: United FC '16 Green\nAway Team: Troy National
 s 2016 Black\nHome Score: 5\nAway Score: 1
END:VEVENT
BEGIN:VEVENT
UID:16123355@ezleagues.ezfacility.com
DTSTAMP:20260425T023142Z
CREATED:20260425T023142Z
DTSTART:20250127T213000Z
DTEND:20250127T222500Z
LOCATION:Main Field 
CONTACT:
SUMMARY:Royal Oak FC 2015 Boys Black #1 VS. Troy Nationals 2016 Black
DESCRIPTION:League Name: U10 Boys White 2nd 2025\nGame Type: Regular\nGame 
 Status: Complete\nHome Team: Royal Oak FC 2015 Boys Black #1\nAway Team: T
 roy Nationals 2016 Black\nHome Score: 5\nAway Score: 3
END:VEVENT
BEGIN:VEVENT
UID:16123359@ezleagues.ezfacility.com
DTSTAMP:20260425T023142Z
CREATED:20260425T023142Z
DTSTART:20250201T220500Z
DTEND:20250201T230000Z
LOCATION:Main Field 
CONTACT:
SUMMARY:Troy Nationals 2016 Black VS. Royal Oak FC 2015 Boys Black #2
DESCRIPTION:League Name: U10 Boys White 2nd 2025\nGame Type: Regular\nGame 
 Status: Complete\nHome Team: Troy Nationals 2016 Black\nAway Team: Royal O
 ak FC 2015 Boys Black #2\nHome Score: 6\nAway Score: 2
END:VEVENT
BEGIN:VEVENT
UID:16123363@ezleagues.ezfacility.com
DTSTAMP:20260425T023142Z
CREATED:20260425T023142Z
DTSTART:20250208T144500Z
DTEND:20250208T154000Z
LOCATION:Main Field 
CONTACT:
SUMMARY:Troy Nationals 2016 Black VS. Warriors
DESCRIPTION:League Name: U10 Boys White 2nd 2025\nGame Type: Regular\nGame 
 Status: Complete\nHome Team: Troy Nationals 2016 Black\nAway Team: Warrior
 s\nHome Score: 4\nAway Score: 5
END:VEVENT
BEGIN:VEVENT
UID:16123366@ezleagues.ezfacility.com
DTSTAMP:20260425T023142Z
CREATED:20260425T023142Z
DTSTART:20250217T222500Z
DTEND:20250217T232000Z
LOCATION:Main Field 
CONTACT:
SUMMARY:Goal-Den City VS. Troy Nationals 2016 Black
DESCRIPTION:League Name: U10 Boys White 2nd 2025\nGame Type: Regular\nGame 
 Status: Complete\nHome Team: Goal-Den City\nAway Team: Troy Nationals 2016
  Black\nHome Score: 4\nAway Score: 4
END:VEVENT
BEGIN:VEVENT
UID:16123369@ezleagues.ezfacility.com
DTSTAMP:20260425T023142Z
CREATED:20260425T023142Z
DTSTART:20250222T235500Z
DTEND:20250223T005000Z
LOCATION:Main Field 
CONTACT:
SUMMARY:Troy Nationals 2016 Black VS. United FC '15b White
DESCRIPTION:League Name: U10 Boys White 2nd 2025\nGame Type: Regular\nGame 
 Status: Complete\nHome Team: Troy Nationals 2016 Black\nAway Team: United 
 FC '15b White\nHome Score: 3\nAway Score: 4
END:VEVENT
BEGIN:VEVENT
UID:16123372@ezleagues.ezfacility.com
DTSTAMP:20260425T023142Z
CREATED:20260425T023142Z
DTSTART:20250303T232000Z
DTEND:20250304T001500Z
LOCATION:Main Field 
CONTACT:
SUMMARY:Troy Nationals 2016 Black VS. United FC '16 Green
DESCRIPTION:League Name: U10 Boys White 2nd 2025\nGame Type: Regular\nGame 
 Status: Complete\nHome Team: Troy Nationals 2016 Black\nAway Team: United 
 FC '16 Green\nHome Score: 2\nAway Score: 6
END:VEVENT
END:VCALENDAR
