BEGIN:VCALENDAR
VERSION:2.0
PRODID:-//EZFacility.com, Inc.//EZL 2.5.5.28621
BEGIN:VEVENT
UID:16123856@ezleagues.ezfacility.com
DTSTAMP:20260423T031401Z
CREATED:20260423T031401Z
DTSTART:20250107T213000Z
DTEND:20250107T222500Z
LOCATION:Main Field 
CONTACT:
SUMMARY:DCDS VS. Strikers
DESCRIPTION:League Name: 13/14 Girls 2nd 2025\nGame Type: Regular\nGame Sta
 tus: Complete\nHome Team: DCDS\nAway Team: Strikers\nHome Score: 0\nAway S
 core: 4
END:VEVENT
BEGIN:VEVENT
UID:16123804@ezleagues.ezfacility.com
DTSTAMP:20260423T031401Z
CREATED:20260423T031401Z
DTSTART:20250114T203500Z
DTEND:20250114T213000Z
LOCATION:Main Field 
CONTACT:
SUMMARY:DCDS VS. Central 12 G Premier
DESCRIPTION:League Name: 13/14 Girls 2nd 2025\nGame Type: Regular\nGame Sta
 tus: Complete\nHome Team: DCDS\nAway Team: Central 12 G Premier\nHome Scor
 e: 1\nAway Score: 5
END:VEVENT
BEGIN:VEVENT
UID:16123812@ezleagues.ezfacility.com
DTSTAMP:20260423T031401Z
CREATED:20260423T031401Z
DTSTART:20250114T222500Z
DTEND:20250114T232000Z
LOCATION:Main Field 
CONTACT:
SUMMARY:DCDS VS. Gremlins
DESCRIPTION:League Name: 13/14 Girls 2nd 2025\nGame Type: Regular\nGame Sta
 tus: Complete\nHome Team: DCDS\nAway Team: Gremlins\nHome Score: 1\nAway S
 core: 5
END:VEVENT
BEGIN:VEVENT
UID:16123796@ezleagues.ezfacility.com
DTSTAMP:20260423T031401Z
CREATED:20260423T031401Z
DTSTART:20250121T213000Z
DTEND:20250121T222500Z
LOCATION:Main Field 
CONTACT:
SUMMARY:Thunder VS. DCDS
DESCRIPTION:League Name: 13/14 Girls 2nd 2025\nGame Type: Regular\nGame Sta
 tus: Complete\nHome Team: Thunder\nAway Team: DCDS\nHome Score: 4\nAway Sc
 ore: 0
END:VEVENT
BEGIN:VEVENT
UID:16123820@ezleagues.ezfacility.com
DTSTAMP:20260423T031401Z
CREATED:20260423T031401Z
DTSTART:20250121T232000Z
DTEND:20250122T001500Z
LOCATION:Main Field 
CONTACT:
SUMMARY:Ferndale U13G VS. DCDS
DESCRIPTION:League Name: 13/14 Girls 2nd 2025\nGame Type: Regular\nGame Sta
 tus: Complete\nHome Team: Ferndale U13G\nAway Team: DCDS\nHome Score: 4\nA
 way Score: 0
END:VEVENT
BEGIN:VEVENT
UID:16123808@ezleagues.ezfacility.com
DTSTAMP:20260423T031401Z
CREATED:20260423T031401Z
DTSTART:20250128T203500Z
DTEND:20250128T213000Z
LOCATION:Main Field 
CONTACT:
SUMMARY:Strikers VS. DCDS
DESCRIPTION:League Name: 13/14 Girls 2nd 2025\nGame Type: Regular\nGame Sta
 tus: Complete\nHome Team: Strikers\nAway Team: DCDS\nHome Score: 4\nAway S
 core: 0
END:VEVENT
BEGIN:VEVENT
UID:16123800@ezleagues.ezfacility.com
DTSTAMP:20260423T031401Z
CREATED:20260423T031401Z
DTSTART:20250128T222500Z
DTEND:20250128T232000Z
LOCATION:Main Field 
CONTACT:
SUMMARY:DCDS VS. Eagles
DESCRIPTION:League Name: 13/14 Girls 2nd 2025\nGame Type: Regular\nGame Sta
 tus: Complete\nHome Team: DCDS\nAway Team: Eagles\nHome Score: 9\nAway Sco
 re: 6
END:VEVENT
BEGIN:VEVENT
UID:16123792@ezleagues.ezfacility.com
DTSTAMP:20260423T031401Z
CREATED:20260423T031401Z
DTSTART:20250204T213000Z
DTEND:20250204T222500Z
LOCATION:Main Field 
CONTACT:
SUMMARY:DCDS VS. Ferndale U13G
DESCRIPTION:League Name: 13/14 Girls 2nd 2025\nGame Type: Regular\nGame Sta
 tus: Complete\nHome Team: DCDS\nAway Team: Ferndale U13G\nHome Score: 2\nA
 way Score: 4
END:VEVENT
END:VCALENDAR
