BEGIN:VCALENDAR
VERSION:2.0
PRODID:-//EZFacility.com, Inc.//EZL 2.5.5.28621
BEGIN:VEVENT
UID:16145795@ezleagues.ezfacility.com
DTSTAMP:20260425T004640Z
CREATED:20260425T004640Z
DTSTART:20250106T230000Z
DTEND:20250106T235500Z
LOCATION:RINK 1
CONTACT:
SUMMARY:DARK PIGEONS VS. HONEY BADGERS
DESCRIPTION:League Name: HOCKEY - D WEST - WINTER - 2025\nGame Type: Regula
 r\nGame Status: Complete\nHome Team: DARK PIGEONS\nAway Team: HONEY BADGER
 S\nHome Score: 5\nAway Score: 3
END:VEVENT
BEGIN:VEVENT
UID:16145811@ezleagues.ezfacility.com
DTSTAMP:20260425T004640Z
CREATED:20260425T004640Z
DTSTART:20250116T022500Z
DTEND:20250116T032000Z
LOCATION:RINK 1
CONTACT:
SUMMARY:HAMMS SPECIAL LIGHT VS. DARK PIGEONS
DESCRIPTION:League Name: HOCKEY - D WEST - WINTER - 2025\nGame Type: Regula
 r\nGame Status: Complete\nHome Team: HAMMS SPECIAL LIGHT\nAway Team: DARK 
 PIGEONS\nHome Score: 8\nAway Score: 5
END:VEVENT
BEGIN:VEVENT
UID:16145910@ezleagues.ezfacility.com
DTSTAMP:20260425T004640Z
CREATED:20260425T004640Z
DTSTART:20250120T230000Z
DTEND:20250120T235500Z
LOCATION:RINK 1
CONTACT:
SUMMARY:DARK PIGEONS VS. DANGLEBERRIES 
DESCRIPTION:League Name: HOCKEY - D WEST - WINTER - 2025\nGame Type: Regula
 r\nGame Status: Complete\nHome Team: DARK PIGEONS\nAway Team: DANGLEBERRIE
 S \nHome Score: 4\nAway Score: 5
END:VEVENT
BEGIN:VEVENT
UID:16145919@ezleagues.ezfacility.com
DTSTAMP:20260425T004640Z
CREATED:20260425T004640Z
DTSTART:20250124T012000Z
DTEND:20250124T021500Z
LOCATION:RINK 1
CONTACT:
SUMMARY:DARK PIGEONS VS. THUNDER CHICKENS 
DESCRIPTION:League Name: HOCKEY - D WEST - WINTER - 2025\nGame Type: Regula
 r\nGame Status: Complete\nHome Team: DARK PIGEONS\nAway Team: THUNDER CHIC
 KENS \nHome Score: 8\nAway Score: 3
END:VEVENT
BEGIN:VEVENT
UID:16148623@ezleagues.ezfacility.com
DTSTAMP:20260425T004640Z
CREATED:20260425T004640Z
DTSTART:20250203T235500Z
DTEND:20250204T005000Z
LOCATION:RINK 1
CONTACT:
SUMMARY:DARK PIGEONS VS. PUCKERS
DESCRIPTION:League Name: HOCKEY - D WEST - WINTER - 2025\nGame Type: Regula
 r\nGame Status: Complete\nHome Team: DARK PIGEONS\nAway Team: PUCKERS\nHom
 e Score: 4\nAway Score: 4
END:VEVENT
BEGIN:VEVENT
UID:16148647@ezleagues.ezfacility.com
DTSTAMP:20260425T004640Z
CREATED:20260425T004640Z
DTSTART:20250213T013000Z
DTEND:20250213T022500Z
LOCATION:RINK 1
CONTACT:
SUMMARY:DISTRICT 5 VS. DARK PIGEONS
DESCRIPTION:League Name: HOCKEY - D WEST - WINTER - 2025\nGame Type: Regula
 r\nGame Status: Complete\nHome Team: DISTRICT 5\nAway Team: DARK PIGEONS\n
 Home Score: 5\nAway Score: 7
END:VEVENT
BEGIN:VEVENT
UID:16157609@ezleagues.ezfacility.com
DTSTAMP:20260425T004640Z
CREATED:20260425T004640Z
DTSTART:20250217T230000Z
DTEND:20250217T235500Z
LOCATION:RINK 1
CONTACT:
SUMMARY:HONEY BADGERS VS. DARK PIGEONS
DESCRIPTION:League Name: HOCKEY - D WEST - WINTER - 2025\nGame Type: Regula
 r\nGame Status: Complete\nHome Team: HONEY BADGERS\nAway Team: DARK PIGEON
 S\nHome Score: 2\nAway Score: 2
END:VEVENT
BEGIN:VEVENT
UID:16157622@ezleagues.ezfacility.com
DTSTAMP:20260425T004640Z
CREATED:20260425T004640Z
DTSTART:20250224T004500Z
DTEND:20250224T014000Z
LOCATION:RINK 1
CONTACT:
SUMMARY:HAMMS SPECIAL LIGHT VS. DARK PIGEONS
DESCRIPTION:League Name: HOCKEY - D WEST - WINTER - 2025\nGame Type: Regula
 r\nGame Status: Complete\nHome Team: HAMMS SPECIAL LIGHT\nAway Team: DARK 
 PIGEONS\nHome Score: 2\nAway Score: 4
END:VEVENT
BEGIN:VEVENT
UID:16157636@ezleagues.ezfacility.com
DTSTAMP:20260425T004640Z
CREATED:20260425T004640Z
DTSTART:20250303T235500Z
DTEND:20250304T005000Z
LOCATION:RINK 1
CONTACT:
SUMMARY:DARK PIGEONS VS. DANGLEBERRIES 
DESCRIPTION:League Name: HOCKEY - D WEST - WINTER - 2025\nGame Type: Regula
 r\nGame Status: Complete\nHome Team: DARK PIGEONS\nAway Team: DANGLEBERRIE
 S \nHome Score: 4\nAway Score: 3
END:VEVENT
BEGIN:VEVENT
UID:16176647@ezleagues.ezfacility.com
DTSTAMP:20260425T004640Z
CREATED:20260425T004640Z
DTSTART:20250309T215500Z
DTEND:20250309T225000Z
LOCATION:RINK 1
CONTACT:
SUMMARY:THUNDER CHICKENS  VS. DARK PIGEONS
DESCRIPTION:League Name: HOCKEY - D WEST - WINTER - 2025\nGame Type: Regula
 r\nGame Status: Complete\nHome Team: THUNDER CHICKENS \nAway Team: DARK PI
 GEONS\nHome Score: 4\nAway Score: 6
END:VEVENT
BEGIN:VEVENT
UID:16209508@ezleagues.ezfacility.com
DTSTAMP:20260425T004640Z
CREATED:20260425T004640Z
DTSTART:20250327T012500Z
DTEND:20250327T022000Z
LOCATION:RINK 1
CONTACT:
SUMMARY:DARK PIGEONS VS. PUCKERS
DESCRIPTION:League Name: HOCKEY - D WEST - WINTER - 2025\nGame Type: Regula
 r\nGame Status: Complete\nHome Team: DARK PIGEONS\nAway Team: PUCKERS\nHom
 e Score: 8\nAway Score: 5
END:VEVENT
BEGIN:VEVENT
UID:16214645@ezleagues.ezfacility.com
DTSTAMP:20260425T004640Z
CREATED:20260425T004640Z
DTSTART:20250402T232500Z
DTEND:20250403T002000Z
LOCATION:RINK 1
CONTACT:
SUMMARY:DISTRICT 5 VS. DARK PIGEONS
DESCRIPTION:League Name: HOCKEY - D WEST - WINTER - 2025\nGame Type: Regula
 r\nGame Status: Complete\nHome Team: DISTRICT 5\nAway Team: DARK PIGEONS\n
 Home Score: 2\nAway Score: 9
END:VEVENT
BEGIN:VEVENT
UID:16214653@ezleagues.ezfacility.com
DTSTAMP:20260425T004640Z
CREATED:20260425T004640Z
DTSTART:20250410T000500Z
DTEND:20250410T010000Z
LOCATION:RINK 1
CONTACT:
SUMMARY:DARK PIGEONS VS. DANGLEBERRIES 
DESCRIPTION:League Name: HOCKEY - D WEST - WINTER - 2025\nGame Type: Postse
 ason\nGame Status: Complete\nHome Team: DARK PIGEONS\nAway Team: DANGLEBER
 RIES \nHome Score: 5\nAway Score: 4
END:VEVENT
BEGIN:VEVENT
UID:16214664@ezleagues.ezfacility.com
DTSTAMP:20260425T004640Z
CREATED:20260425T004640Z
DTSTART:20250415T000000Z
DTEND:20250415T005500Z
LOCATION:RINK 1
CONTACT:
SUMMARY:DARK PIGEONS VS. HONEY BADGERS
DESCRIPTION:League Name: HOCKEY - D WEST - WINTER - 2025\nGame Type: Postse
 ason\nGame Status: Complete\nHome Team: DARK PIGEONS\nAway Team: HONEY BAD
 GERS\nHome Score: 3\nAway Score: 5
END:VEVENT
END:VCALENDAR
