BEGIN:VCALENDAR
VERSION:2.0
PRODID:-//EZFacility.com, Inc.//EZL 2.5.5.28621
BEGIN:VEVENT
UID:16130580@ezleagues.ezfacility.com
DTSTAMP:20260426T033720Z
CREATED:20260426T033720Z
DTSTART:20250128T000000Z
DTEND:20250128T004500Z
LOCATION:Indoor West
CONTACT:
SUMMARY:Elite FC 11 G VS. SSFC Valkryie 2011 PS Black
DESCRIPTION:League Name: Girls 2011 Silver Indoor\nGame Type: Regular\nGame
  Status: Complete\nHome Team: Elite FC 11 G\nAway Team: SSFC Valkryie 2011
  PS Black\nHome Score: 4\nAway Score: 1
END:VEVENT
BEGIN:VEVENT
UID:16130590@ezleagues.ezfacility.com
DTSTAMP:20260426T033720Z
CREATED:20260426T033720Z
DTSTART:20250208T031500Z
DTEND:20250208T040000Z
LOCATION:Indoor East
CONTACT:
SUMMARY:SSFC Valkryie 2011 PS White VS. SSFC Valkryie 2011 PS Black
DESCRIPTION:League Name: Girls 2011 Silver Indoor\nGame Type: Regular\nGame
  Status: Complete\nHome Team: SSFC Valkryie 2011 PS White\nAway Team: SSFC
  Valkryie 2011 PS Black\nHome Score: 5\nAway Score: 4
END:VEVENT
BEGIN:VEVENT
UID:16130600@ezleagues.ezfacility.com
DTSTAMP:20260426T033720Z
CREATED:20260426T033720Z
DTSTART:20250221T231500Z
DTEND:20250222T000000Z
LOCATION:Indoor West
CONTACT:
SUMMARY:SSFC Valkryie 2011 PS Black VS. ATOMICS 11/12 Girls PREM -KP
DESCRIPTION:League Name: Girls 2011 Silver Indoor\nGame Type: Regular\nGame
  Status: Complete\nHome Team: SSFC Valkryie 2011 PS Black\nAway Team: ATOM
 ICS 11/12 Girls PREM -KP\nHome Score: 4\nAway Score: 3
END:VEVENT
BEGIN:VEVENT
UID:16130607@ezleagues.ezfacility.com
DTSTAMP:20260426T033720Z
CREATED:20260426T033720Z
DTSTART:20250227T022000Z
DTEND:20250227T030500Z
LOCATION:Indoor East
CONTACT:
SUMMARY:Phoenixes VS. SSFC Valkryie 2011 PS Black
DESCRIPTION:League Name: Girls 2011 Silver Indoor\nGame Type: Regular\nGame
  Status: Complete\nHome Team: Phoenixes\nAway Team: SSFC Valkryie 2011 PS 
 Black\nHome Score: 4\nAway Score: 5
END:VEVENT
BEGIN:VEVENT
UID:16130614@ezleagues.ezfacility.com
DTSTAMP:20260426T033720Z
CREATED:20260426T033720Z
DTSTART:20250309T033000Z
DTEND:20250309T041500Z
LOCATION:Indoor West
CONTACT:
SUMMARY:SSFC Valkryie 2011 PS Black VS. CFC G11 White ND
DESCRIPTION:League Name: Girls 2011 Silver Indoor\nGame Type: Regular\nGame
  Status: Complete\nHome Team: SSFC Valkryie 2011 PS Black\nAway Team: CFC 
 G11 White ND\nHome Score: 0\nAway Score: 7
END:VEVENT
BEGIN:VEVENT
UID:16130575@ezleagues.ezfacility.com
DTSTAMP:20260426T033720Z
CREATED:20260426T033720Z
DTSTART:20250322T020000Z
DTEND:20250322T024500Z
LOCATION:Indoor West
CONTACT:
SUMMARY:SSFC Valkryie 2011 PS Black VS. SSFC Valkyrie 2011 MV (A)
DESCRIPTION:League Name: Girls 2011 Silver Indoor\nGame Type: Regular\nGame
  Status: Complete\nHome Team: SSFC Valkryie 2011 PS Black\nAway Team: SSFC
  Valkyrie 2011 MV (A)\nHome Score: 1\nAway Score: 7
END:VEVENT
BEGIN:VEVENT
UID:16130595@ezleagues.ezfacility.com
DTSTAMP:20260426T033720Z
CREATED:20260426T033720Z
DTSTART:20250325T221500Z
DTEND:20250325T230000Z
LOCATION:Indoor East
CONTACT:
SUMMARY:SSFC Valkryie 2011 PS Black VS. UCSC Ignite 2011
DESCRIPTION:League Name: Girls 2011 Silver Indoor\nGame Type: Regular\nGame
  Status: Complete\nHome Team: SSFC Valkryie 2011 PS Black\nAway Team: UCSC
  Ignite 2011\nHome Score: 1\nAway Score: 10
END:VEVENT
BEGIN:VEVENT
UID:16130585@ezleagues.ezfacility.com
DTSTAMP:20260426T033720Z
CREATED:20260426T033720Z
DTSTART:20250330T010000Z
DTEND:20250330T014500Z
LOCATION:Indoor West
CONTACT:
SUMMARY:SSFC Valkryie 2011 PS Black VS. Copper Mountain Girls 2012 Premier 
 KW
DESCRIPTION:League Name: Girls 2011 Silver Indoor\nGame Type: Regular\nGame
  Status: Complete\nHome Team: SSFC Valkryie 2011 PS Black\nAway Team: Copp
 er Mountain Girls 2012 Premier KW\nHome Score: 0\nAway Score: 9
END:VEVENT
END:VCALENDAR
