BEGIN:VCALENDAR
VERSION:2.0
PRODID:-//EZFacility.com, Inc.//EZL 2.5.5.28621
BEGIN:VEVENT
UID:16147398@ezleagues.ezfacility.com
DTSTAMP:20260426T035126Z
CREATED:20260426T035126Z
DTSTART:20250104T014500Z
DTEND:20250104T023000Z
LOCATION:Indoor West
CONTACT:
SUMMARY:Pink Lightening 2014 VS. Utah Surf 14G KSilvey
DESCRIPTION:League Name: Girls 2014 Silver - 2015 Gold Indoor\nGame Type: R
 egular\nGame Status: Complete\nHome Team: Pink Lightening 2014\nAway Team:
  Utah Surf 14G KSilvey\nHome Score: 0\nAway Score: 14
END:VEVENT
BEGIN:VEVENT
UID:16147408@ezleagues.ezfacility.com
DTSTAMP:20260426T035126Z
CREATED:20260426T035126Z
DTSTART:20250118T191500Z
DTEND:20250118T200000Z
LOCATION:Indoor West
CONTACT:
SUMMARY:Copper Mountain 14 TA VS. Utah Surf 14G KSilvey
DESCRIPTION:League Name: Girls 2014 Silver - 2015 Gold Indoor\nGame Type: R
 egular\nGame Status: Complete\nHome Team: Copper Mountain 14 TA\nAway Team
 : Utah Surf 14G KSilvey\nHome Score: 6\nAway Score: 3
END:VEVENT
BEGIN:VEVENT
UID:16147418@ezleagues.ezfacility.com
DTSTAMP:20260426T035126Z
CREATED:20260426T035126Z
DTSTART:20250201T204500Z
DTEND:20250201T213000Z
LOCATION:Indoor East
CONTACT:
SUMMARY:Utah Surf 14G KSilvey VS. AYSO UNITED SLC G14 JE
DESCRIPTION:League Name: Girls 2014 Silver - 2015 Gold Indoor\nGame Type: R
 egular\nGame Status: Complete\nHome Team: Utah Surf 14G KSilvey\nAway Team
 : AYSO UNITED SLC G14 JE\nHome Score: 5\nAway Score: 3
END:VEVENT
BEGIN:VEVENT
UID:16147432@ezleagues.ezfacility.com
DTSTAMP:20260426T035126Z
CREATED:20260426T035126Z
DTSTART:20250217T210000Z
DTEND:20250217T214500Z
LOCATION:Indoor East
CONTACT:
SUMMARY:Utah Surf 14G KSilvey VS. Copper Mtn 2015 MH
DESCRIPTION:League Name: Girls 2014 Silver - 2015 Gold Indoor\nGame Type: R
 egular\nGame Status: Complete\nHome Team: Utah Surf 14G KSilvey\nAway Team
 : Copper Mtn 2015 MH\nHome Score: 1\nAway Score: 2
END:VEVENT
BEGIN:VEVENT
UID:16147425@ezleagues.ezfacility.com
DTSTAMP:20260426T035126Z
CREATED:20260426T035126Z
DTSTART:20250222T161500Z
DTEND:20250222T170000Z
LOCATION:Indoor West
CONTACT:
SUMMARY:Utah Surf 14G KSilvey VS. United Eagles
DESCRIPTION:League Name: Girls 2014 Silver - 2015 Gold Indoor\nGame Type: R
 egular\nGame Status: Complete\nHome Team: Utah Surf 14G KSilvey\nAway Team
 : United Eagles\nHome Score: 6\nAway Score: 1
END:VEVENT
BEGIN:VEVENT
UID:16147439@ezleagues.ezfacility.com
DTSTAMP:20260426T035126Z
CREATED:20260426T035126Z
DTSTART:20250308T170000Z
DTEND:20250308T174500Z
LOCATION:Indoor East
CONTACT:
SUMMARY:Utah Surf 14G KSilvey VS. CFC G14 Gold CC
DESCRIPTION:League Name: Girls 2014 Silver - 2015 Gold Indoor\nGame Type: R
 egular\nGame Status: Complete\nHome Team: Utah Surf 14G KSilvey\nAway Team
 : CFC G14 Gold CC\nHome Score: 9\nAway Score: 1
END:VEVENT
BEGIN:VEVENT
UID:16147413@ezleagues.ezfacility.com
DTSTAMP:20260426T035126Z
CREATED:20260426T035126Z
DTSTART:20250322T151500Z
DTEND:20250322T160000Z
LOCATION:Indoor West
CONTACT:
SUMMARY:Elite FC 14G Blue VS. Utah Surf 14G KSilvey
DESCRIPTION:League Name: Girls 2014 Silver - 2015 Gold Indoor\nGame Type: R
 egular\nGame Status: Complete\nHome Team: Elite FC 14G Blue\nAway Team: Ut
 ah Surf 14G KSilvey\nHome Score: 1\nAway Score: 14
END:VEVENT
BEGIN:VEVENT
UID:16147403@ezleagues.ezfacility.com
DTSTAMP:20260426T035126Z
CREATED:20260426T035126Z
DTSTART:20250329T211500Z
DTEND:20250329T220000Z
LOCATION:Indoor East
CONTACT:
SUMMARY:Copper Mountain 15 JK VS. Utah Surf 14G KSilvey
DESCRIPTION:League Name: Girls 2014 Silver - 2015 Gold Indoor\nGame Type: R
 egular\nGame Status: Complete\nHome Team: Copper Mountain 15 JK\nAway Team
 : Utah Surf 14G KSilvey\nHome Score: 1\nAway Score: 6
END:VEVENT
END:VCALENDAR
