BEGIN:VCALENDAR
VERSION:2.0
PRODID:-//EZFacility.com, Inc.//EZL 2.5.5.28621
BEGIN:VEVENT
UID:16147399@ezleagues.ezfacility.com
DTSTAMP:20260426T034934Z
CREATED:20260426T034934Z
DTSTART:20250104T023000Z
DTEND:20250104T031500Z
LOCATION:Indoor West
CONTACT:
SUMMARY:United Eagles VS. UVUEM Smurfs
DESCRIPTION:League Name: Girls 2014 Silver - 2015 Gold Indoor\nGame Type: R
 egular\nGame Status: Complete\nHome Team: United Eagles\nAway Team: UVUEM 
 Smurfs\nHome Score: 2\nAway Score: 2
END:VEVENT
BEGIN:VEVENT
UID:16147409@ezleagues.ezfacility.com
DTSTAMP:20260426T034934Z
CREATED:20260426T034934Z
DTSTART:20250118T174500Z
DTEND:20250118T183000Z
LOCATION:Indoor West
CONTACT:
SUMMARY:CFC G14 Gold CC VS. UVUEM Smurfs
DESCRIPTION:League Name: Girls 2014 Silver - 2015 Gold Indoor\nGame Type: R
 egular\nGame Status: Complete\nHome Team: CFC G14 Gold CC\nAway Team: UVUE
 M Smurfs\nHome Score: 3\nAway Score: 1
END:VEVENT
BEGIN:VEVENT
UID:16147419@ezleagues.ezfacility.com
DTSTAMP:20260426T034934Z
CREATED:20260426T034934Z
DTSTART:20250201T183000Z
DTEND:20250201T191500Z
LOCATION:Indoor East
CONTACT:
SUMMARY:SSFC Valkyrie 15 LW VS. UVUEM Smurfs
DESCRIPTION:League Name: Girls 2014 Silver - 2015 Gold Indoor\nGame Type: R
 egular\nGame Status: Complete\nHome Team: SSFC Valkyrie 15 LW\nAway Team: 
 UVUEM Smurfs\nHome Score: 9\nAway Score: 3
END:VEVENT
BEGIN:VEVENT
UID:16147431@ezleagues.ezfacility.com
DTSTAMP:20260426T034934Z
CREATED:20260426T034934Z
DTSTART:20250208T021500Z
DTEND:20250208T030000Z
LOCATION:Indoor West
CONTACT:
SUMMARY:UVUEM Smurfs VS. Pink Lightening 2014
DESCRIPTION:League Name: Girls 2014 Silver - 2015 Gold Indoor\nGame Type: R
 egular\nGame Status: Complete\nHome Team: UVUEM Smurfs\nAway Team: Pink Li
 ghtening 2014\nHome Score: 4\nAway Score: 2
END:VEVENT
BEGIN:VEVENT
UID:16147424@ezleagues.ezfacility.com
DTSTAMP:20260426T034934Z
CREATED:20260426T034934Z
DTSTART:20250208T170000Z
DTEND:20250208T174500Z
LOCATION:Indoor West
CONTACT:
SUMMARY:UVUEM Smurfs VS. AYSO UNITED SLC G14 JE
DESCRIPTION:League Name: Girls 2014 Silver - 2015 Gold Indoor\nGame Type: R
 egular\nGame Status: Complete\nHome Team: UVUEM Smurfs\nAway Team: AYSO UN
 ITED SLC G14 JE\nHome Score: 2\nAway Score: 4
END:VEVENT
BEGIN:VEVENT
UID:16147438@ezleagues.ezfacility.com
DTSTAMP:20260426T034934Z
CREATED:20260426T034934Z
DTSTART:20250308T153000Z
DTEND:20250308T161500Z
LOCATION:Indoor East
CONTACT:
SUMMARY:UVUEM Smurfs VS. Copper Mountain 15 JK
DESCRIPTION:League Name: Girls 2014 Silver - 2015 Gold Indoor\nGame Type: R
 egular\nGame Status: Complete\nHome Team: UVUEM Smurfs\nAway Team: Copper 
 Mountain 15 JK\nHome Score: 4\nAway Score: 5
END:VEVENT
BEGIN:VEVENT
UID:16147414@ezleagues.ezfacility.com
DTSTAMP:20260426T034934Z
CREATED:20260426T034934Z
DTSTART:20250322T173000Z
DTEND:20250322T181500Z
LOCATION:Indoor West
CONTACT:
SUMMARY:UVUEM Smurfs VS. Copper Mountain G14 JJ
DESCRIPTION:League Name: Girls 2014 Silver - 2015 Gold Indoor\nGame Type: R
 egular\nGame Status: Complete\nHome Team: UVUEM Smurfs\nAway Team: Copper 
 Mountain G14 JJ\nHome Score: 2\nAway Score: 12
END:VEVENT
BEGIN:VEVENT
UID:16147404@ezleagues.ezfacility.com
DTSTAMP:20260426T034934Z
CREATED:20260426T034934Z
DTSTART:20250329T220000Z
DTEND:20250329T224500Z
LOCATION:Indoor East
CONTACT:
SUMMARY:Copper Mtn 2015 MH VS. UVUEM Smurfs
DESCRIPTION:League Name: Girls 2014 Silver - 2015 Gold Indoor\nGame Type: R
 egular\nGame Status: Complete\nHome Team: Copper Mtn 2015 MH\nAway Team: U
 VUEM Smurfs\nHome Score: 6\nAway Score: 2
END:VEVENT
END:VCALENDAR
