BEGIN:VCALENDAR
VERSION:2.0
PRODID:-//EZFacility.com, Inc.//EZL 2.5.5.28621
BEGIN:VEVENT
UID:16132349@ezleagues.ezfacility.com
DTSTAMP:20260426T035010Z
CREATED:20260426T035010Z
DTSTART:20250109T020000Z
DTEND:20250109T030000Z
LOCATION:Field 1
CONTACT:Daron
SUMMARY:Forfeit F.C. VS. Glastonbury Celtic FC
DESCRIPTION:League Name: 2025 Winter 2- Adult - Men's Over 30\nGame Type: R
 egular\nGame Status: Complete\nHome Team: Forfeit F.C.\nAway Team: Glaston
 bury Celtic FC\nHome Score: 0\nAway Score: 7
END:VEVENT
BEGIN:VEVENT
UID:16132359@ezleagues.ezfacility.com
DTSTAMP:20260426T035010Z
CREATED:20260426T035010Z
DTSTART:20250116T020000Z
DTEND:20250116T030000Z
LOCATION:Field 2
CONTACT:D'Urso 
SUMMARY:Glastonbury Celtic FC VS. Nerazzurri
DESCRIPTION:League Name: 2025 Winter 2- Adult - Men's Over 30\nGame Type: R
 egular\nGame Status: Complete\nHome Team: Glastonbury Celtic FC\nAway Team
 : Nerazzurri\nHome Score: 2\nAway Score: 2
END:VEVENT
BEGIN:VEVENT
UID:16132370@ezleagues.ezfacility.com
DTSTAMP:20260426T035010Z
CREATED:20260426T035010Z
DTSTART:20250123T030000Z
DTEND:20250123T040000Z
LOCATION:Field 1
CONTACT:D'Urso 
SUMMARY:Glastonbury Celtic FC VS. EBAD Bombers
DESCRIPTION:League Name: 2025 Winter 2- Adult - Men's Over 30\nGame Type: R
 egular\nGame Status: Complete\nHome Team: Glastonbury Celtic FC\nAway Team
 : EBAD Bombers\nHome Score: 11\nAway Score: 4
END:VEVENT
BEGIN:VEVENT
UID:16132381@ezleagues.ezfacility.com
DTSTAMP:20260426T035010Z
CREATED:20260426T035010Z
DTSTART:20250130T020000Z
DTEND:20250130T030000Z
LOCATION:Field 4 
CONTACT:Farinu\, Postponed
SUMMARY:Glastonbury Celtic FC VS. Stanley FC
DESCRIPTION:League Name: 2025 Winter 2- Adult - Men's Over 30\nGame Type: R
 egular\nGame Status: Pending\nHome Team: Glastonbury Celtic FC\nAway Team:
  Stanley FC\n
END:VEVENT
BEGIN:VEVENT
UID:16132392@ezleagues.ezfacility.com
DTSTAMP:20260426T035010Z
CREATED:20260426T035010Z
DTSTART:20250206T030000Z
DTEND:20250206T040000Z
LOCATION:Field 1
CONTACT:Palmer
SUMMARY:Old Bums VS. Glastonbury Celtic FC
DESCRIPTION:League Name: 2025 Winter 2- Adult - Men's Over 30\nGame Type: R
 egular\nGame Status: Complete\nHome Team: Old Bums\nAway Team: Glastonbury
  Celtic FC\nHome Score: 1\nAway Score: 8
END:VEVENT
BEGIN:VEVENT
UID:16222821@ezleagues.ezfacility.com
DTSTAMP:20260426T035010Z
CREATED:20260426T035010Z
DTSTART:20250213T020000Z
DTEND:20250213T030000Z
LOCATION:Field 1
CONTACT:Palmer
SUMMARY:Glastonbury Celtic FC VS. Stanley FC
DESCRIPTION:League Name: 2025 Winter 2- Adult - Men's Over 30\nGame Type: R
 egular\nGame Status: Complete\nHome Team: Glastonbury Celtic FC\nAway Team
 : Stanley FC\nHome Score: 7\nAway Score: 0
END:VEVENT
BEGIN:VEVENT
UID:16132403@ezleagues.ezfacility.com
DTSTAMP:20260426T035010Z
CREATED:20260426T035010Z
DTSTART:20250213T030000Z
DTEND:20250213T040000Z
LOCATION:Field 1
CONTACT:Palmer
SUMMARY:Glastonbury Celtic FC VS. Old Guard
DESCRIPTION:League Name: 2025 Winter 2- Adult - Men's Over 30\nGame Type: R
 egular\nGame Status: Complete\nHome Team: Glastonbury Celtic FC\nAway Team
 : Old Guard\nHome Score: 9\nAway Score: 2
END:VEVENT
BEGIN:VEVENT
UID:16132408@ezleagues.ezfacility.com
DTSTAMP:20260426T035010Z
CREATED:20260426T035010Z
DTSTART:20250220T010000Z
DTEND:20250220T020000Z
LOCATION:Field 2
CONTACT:Palmer
SUMMARY:Inter FC O30 VS. Glastonbury Celtic FC
DESCRIPTION:League Name: 2025 Winter 2- Adult - Men's Over 30\nGame Type: R
 egular\nGame Status: Complete\nHome Team: Inter FC O30\nAway Team: Glaston
 bury Celtic FC\nHome Score: 4\nAway Score: 1
END:VEVENT
BEGIN:VEVENT
UID:16132423@ezleagues.ezfacility.com
DTSTAMP:20260426T035010Z
CREATED:20260426T035010Z
DTSTART:20250227T020000Z
DTEND:20250227T030000Z
LOCATION:Field 1
CONTACT:Vera
SUMMARY:Spartans FC VS. Glastonbury Celtic FC
DESCRIPTION:League Name: 2025 Winter 2- Adult - Men's Over 30\nGame Type: R
 egular\nGame Status: Complete\nHome Team: Spartans FC\nAway Team: Glastonb
 ury Celtic FC\nHome Score: 0\nAway Score: 7
END:VEVENT
END:VCALENDAR
