BEGIN:VCALENDAR
VERSION:2.0
PRODID:-//EZFacility.com, Inc.//EZL 2.5.5.28621
BEGIN:VEVENT
UID:16133082@ezleagues.ezfacility.com
DTSTAMP:20260426T033544Z
CREATED:20260426T033544Z
DTSTART:20250110T020000Z
DTEND:20250110T030000Z
LOCATION:Bridgeville HockeyPlex
CONTACT:
SUMMARY:GreaseHogs VS. Nordeen Boys
DESCRIPTION:League Name: 2025 PUCK Master List\nGame Type: Regular\nGame St
 atus: Complete\nHome Team: GreaseHogs\nAway Team: Nordeen Boys\nHome Score
 : 6\nAway Score: 9
END:VEVENT
BEGIN:VEVENT
UID:16133093@ezleagues.ezfacility.com
DTSTAMP:20260426T033544Z
CREATED:20260426T033544Z
DTSTART:20250117T010000Z
DTEND:20250117T020000Z
LOCATION:Bridgeville HockeyPlex
CONTACT:
SUMMARY:Vipers VS. GreaseHogs
DESCRIPTION:League Name: 2025 PUCK Master List\nGame Type: Regular\nGame St
 atus: Complete\nHome Team: Vipers\nAway Team: GreaseHogs\nHome Score: 9\nA
 way Score: 1
END:VEVENT
BEGIN:VEVENT
UID:16133109@ezleagues.ezfacility.com
DTSTAMP:20260426T033544Z
CREATED:20260426T033544Z
DTSTART:20250124T010000Z
DTEND:20250124T020000Z
LOCATION:Bridgeville HockeyPlex
CONTACT:
SUMMARY:GreaseHogs VS. Chryophobic
DESCRIPTION:League Name: 2025 PUCK Master List\nGame Type: Regular\nGame St
 atus: Complete\nHome Team: GreaseHogs\nAway Team: Chryophobic\nHome Score:
  8\nAway Score: 0
END:VEVENT
BEGIN:VEVENT
UID:16133120@ezleagues.ezfacility.com
DTSTAMP:20260426T033544Z
CREATED:20260426T033544Z
DTSTART:20250129T020000Z
DTEND:20250129T030000Z
LOCATION:Bridgeville HockeyPlex
CONTACT:
SUMMARY:Team Darlene VS. GreaseHogs
DESCRIPTION:League Name: 2025 PUCK Master List\nGame Type: Regular\nGame St
 atus: Complete\nHome Team: Team Darlene\nAway Team: GreaseHogs\nHome Score
 : 3\nAway Score: 6
END:VEVENT
BEGIN:VEVENT
UID:16133137@ezleagues.ezfacility.com
DTSTAMP:20260426T033544Z
CREATED:20260426T033544Z
DTSTART:20250205T020000Z
DTEND:20250205T030000Z
LOCATION:Bridgeville HockeyPlex
CONTACT:
SUMMARY:GreaseHogs VS. Aging Hogs
DESCRIPTION:League Name: 2025 PUCK Master List\nGame Type: Regular\nGame St
 atus: Complete\nHome Team: GreaseHogs\nAway Team: Aging Hogs\nHome Score: 
 0\nAway Score: 8
END:VEVENT
BEGIN:VEVENT
UID:16222552@ezleagues.ezfacility.com
DTSTAMP:20260426T033544Z
CREATED:20260426T033544Z
DTSTART:20250220T020000Z
DTEND:20250220T030000Z
LOCATION:Bridgeville HockeyPlex
CONTACT:
SUMMARY:GreaseHogs VS. Vipers
DESCRIPTION:League Name: 2025 PUCK Master List\nGame Type: Regular\nGame St
 atus: Complete\nHome Team: GreaseHogs\nAway Team: Vipers\nHome Score: 1\nA
 way Score: 9
END:VEVENT
BEGIN:VEVENT
UID:16222569@ezleagues.ezfacility.com
DTSTAMP:20260426T033544Z
CREATED:20260426T033544Z
DTSTART:20250227T020000Z
DTEND:20250227T030000Z
LOCATION:Bridgeville HockeyPlex
CONTACT:
SUMMARY:Character Guys VS. GreaseHogs
DESCRIPTION:League Name: 2025 PUCK Master List\nGame Type: Regular\nGame St
 atus: Complete\nHome Team: Character Guys\nAway Team: GreaseHogs\nHome Sco
 re: 5\nAway Score: 8
END:VEVENT
BEGIN:VEVENT
UID:16222620@ezleagues.ezfacility.com
DTSTAMP:20260426T033544Z
CREATED:20260426T033544Z
DTSTART:20250305T020000Z
DTEND:20250305T030000Z
LOCATION:Bridgeville HockeyPlex
CONTACT:
SUMMARY:Team Darlene VS. GreaseHogs
DESCRIPTION:League Name: 2025 PUCK Master List\nGame Type: Regular\nGame St
 atus: Complete\nHome Team: Team Darlene\nAway Team: GreaseHogs\nHome Score
 : 8\nAway Score: 0
END:VEVENT
BEGIN:VEVENT
UID:16222544@ezleagues.ezfacility.com
DTSTAMP:20260426T033544Z
CREATED:20260426T033544Z
DTSTART:20250308T200000Z
DTEND:20250308T210000Z
LOCATION:Bridgeville HockeyPlex
CONTACT:
SUMMARY:Playmakers VS. GreaseHogs
DESCRIPTION:League Name: 2025 PUCK Master List\nGame Type: Regular\nGame St
 atus: Complete\nHome Team: Playmakers\nAway Team: GreaseHogs\nHome Score: 
 5\nAway Score: 6
END:VEVENT
BEGIN:VEVENT
UID:16222650@ezleagues.ezfacility.com
DTSTAMP:20260426T033544Z
CREATED:20260426T033544Z
DTSTART:20250318T020000Z
DTEND:20250318T030000Z
LOCATION:Bridgeville HockeyPlex
CONTACT:
SUMMARY:GreaseHogs VS. Mighty Ducks
DESCRIPTION:League Name: 2025 PUCK Master List\nGame Type: Regular\nGame St
 atus: Complete\nHome Team: GreaseHogs\nAway Team: Mighty Ducks\nHome Score
 : 5\nAway Score: 13
END:VEVENT
END:VCALENDAR
