BEGIN:VCALENDAR
VERSION:2.0
PRODID:-//EZFacility.com, Inc.//EZL 2.5.5.28621
BEGIN:VEVENT
UID:16132622@ezleagues.ezfacility.com
DTSTAMP:20260424T044207Z
CREATED:20260424T044207Z
DTSTART:20250103T203000Z
DTEND:20250103T211500Z
LOCATION:Indoor West
CONTACT:
SUMMARY:Copper Mountain 2016 CW/EA VS. Impact EA 15b
DESCRIPTION:League Name: Boys 2015 Silver Indoor\nGame Type: Regular\nGame 
 Status: Complete\nHome Team: Copper Mountain 2016 CW/EA\nAway Team: Impact
  EA 15b\nHome Score: 12\nAway Score: 0
END:VEVENT
BEGIN:VEVENT
UID:16132628@ezleagues.ezfacility.com
DTSTAMP:20260424T044207Z
CREATED:20260424T044207Z
DTSTART:20250120T231500Z
DTEND:20250121T000000Z
LOCATION:Indoor West
CONTACT:
SUMMARY:City VS. Impact EA 15b
DESCRIPTION:League Name: Boys 2015 Silver Indoor\nGame Type: Regular\nGame 
 Status: Complete\nHome Team: City\nAway Team: Impact EA 15b\nHome Score: 1
 1\nAway Score: 3
END:VEVENT
BEGIN:VEVENT
UID:16132640@ezleagues.ezfacility.com
DTSTAMP:20260424T044207Z
CREATED:20260424T044207Z
DTSTART:20250131T231500Z
DTEND:20250201T000000Z
LOCATION:Indoor West
CONTACT:
SUMMARY:Copper Mountain 2015 NW VS. Impact EA 15b
DESCRIPTION:League Name: Boys 2015 Silver Indoor\nGame Type: Regular\nGame 
 Status: Complete\nHome Team: Copper Mountain 2015 NW\nAway Team: Impact EA
  15b\nHome Score: 1\nAway Score: 4
END:VEVENT
BEGIN:VEVENT
UID:16132646@ezleagues.ezfacility.com
DTSTAMP:20260424T044207Z
CREATED:20260424T044207Z
DTSTART:20250215T200000Z
DTEND:20250215T204500Z
LOCATION:Indoor West
CONTACT:
SUMMARY:Impact EA 15b VS. Atomic Athletics SC 15B Select II - OM
DESCRIPTION:League Name: Boys 2015 Silver Indoor\nGame Type: Regular\nGame 
 Status: Complete\nHome Team: Impact EA 15b\nAway Team: Atomic Athletics SC
  15B Select II - OM\nHome Score: 14\nAway Score: 0
END:VEVENT
BEGIN:VEVENT
UID:16132654@ezleagues.ezfacility.com
DTSTAMP:20260424T044207Z
CREATED:20260424T044207Z
DTSTART:20250301T004500Z
DTEND:20250301T013000Z
LOCATION:Indoor West
CONTACT:
SUMMARY:Impact EA 15b VS. WJFC U10 DG
DESCRIPTION:League Name: Boys 2015 Silver Indoor\nGame Type: Regular\nGame 
 Status: Complete\nHome Team: Impact EA 15b\nAway Team: WJFC U10 DG\nHome S
 core: 2\nAway Score: 3
END:VEVENT
BEGIN:VEVENT
UID:16132662@ezleagues.ezfacility.com
DTSTAMP:20260424T044207Z
CREATED:20260424T044207Z
DTSTART:20250315T134500Z
DTEND:20250315T143000Z
LOCATION:Indoor East
CONTACT:
SUMMARY:Impact EA 15b VS. Impact City FC Millcreek 15B Black
DESCRIPTION:League Name: Boys 2015 Silver Indoor\nGame Type: Regular\nGame 
 Status: Complete\nHome Team: Impact EA 15b\nAway Team: Impact City FC Mill
 creek 15B Black\nHome Score: 6\nAway Score: 2
END:VEVENT
BEGIN:VEVENT
UID:16132634@ezleagues.ezfacility.com
DTSTAMP:20260424T044207Z
CREATED:20260424T044207Z
DTSTART:20250322T220000Z
DTEND:20250322T224500Z
LOCATION:Indoor East
CONTACT:
SUMMARY:Avalanche WE B15 White VS. Impact EA 15b
DESCRIPTION:League Name: Boys 2015 Silver Indoor\nGame Type: Regular\nGame 
 Status: Complete\nHome Team: Avalanche WE B15 White\nAway Team: Impact EA 
 15b\nHome Score: 3\nAway Score: 0
END:VEVENT
BEGIN:VEVENT
UID:16132670@ezleagues.ezfacility.com
DTSTAMP:20260424T044207Z
CREATED:20260424T044207Z
DTSTART:20250329T181500Z
DTEND:20250329T190000Z
LOCATION:Indoor East
CONTACT:
SUMMARY:Impact EA 15b VS. Copper Mountain 15 AD
DESCRIPTION:League Name: Boys 2015 Silver Indoor\nGame Type: Regular\nGame 
 Status: Complete\nHome Team: Impact EA 15b\nAway Team: Copper Mountain 15 
 AD\nHome Score: 4\nAway Score: 3
END:VEVENT
END:VCALENDAR
