BEGIN:VCALENDAR
VERSION:2.0
PRODID:-//EZFacility.com, Inc.//EZL 2.5.5.28621
BEGIN:VEVENT
UID:16132624@ezleagues.ezfacility.com
DTSTAMP:20260424T043201Z
CREATED:20260424T043201Z
DTSTART:20250103T220000Z
DTEND:20250103T224500Z
LOCATION:Indoor West
CONTACT:
SUMMARY:Sparta B15 GR VS. WJFC U10 DG
DESCRIPTION:League Name: Boys 2015 Silver Indoor\nGame Type: Regular\nGame 
 Status: Complete\nHome Team: Sparta B15 GR\nAway Team: WJFC U10 DG\nHome S
 core: 4\nAway Score: 1
END:VEVENT
BEGIN:VEVENT
UID:16132631@ezleagues.ezfacility.com
DTSTAMP:20260424T043201Z
CREATED:20260424T043201Z
DTSTART:20250120T210000Z
DTEND:20250120T214500Z
LOCATION:Indoor West
CONTACT:
SUMMARY:Impact City FC Millcreek 15B Black VS. Sparta B15 GR
DESCRIPTION:League Name: Boys 2015 Silver Indoor\nGame Type: Regular\nGame 
 Status: Complete\nHome Team: Impact City FC Millcreek 15B Black\nAway Team
 : Sparta B15 GR\nHome Score: 5\nAway Score: 2
END:VEVENT
BEGIN:VEVENT
UID:16132643@ezleagues.ezfacility.com
DTSTAMP:20260424T043201Z
CREATED:20260424T043201Z
DTSTART:20250201T013000Z
DTEND:20250201T021500Z
LOCATION:Indoor West
CONTACT:
SUMMARY:Sparta B15 GR VS. Avalanche Boys 15 White SL
DESCRIPTION:League Name: Boys 2015 Silver Indoor\nGame Type: Regular\nGame 
 Status: Complete\nHome Team: Sparta B15 GR\nAway Team: Avalanche Boys 15 W
 hite SL\nHome Score: 5\nAway Score: 3
END:VEVENT
BEGIN:VEVENT
UID:16132649@ezleagues.ezfacility.com
DTSTAMP:20260424T043201Z
CREATED:20260424T043201Z
DTSTART:20250215T183000Z
DTEND:20250215T191500Z
LOCATION:Indoor West
CONTACT:
SUMMARY:Sparta B15 GR VS. City SC Metro - RS premier girls
DESCRIPTION:League Name: Boys 2015 Silver Indoor\nGame Type: Regular\nGame 
 Status: Complete\nHome Team: Sparta B15 GR\nAway Team: City SC Metro - RS 
 premier girls\nHome Score: 5\nAway Score: 4
END:VEVENT
BEGIN:VEVENT
UID:16132655@ezleagues.ezfacility.com
DTSTAMP:20260424T043201Z
CREATED:20260424T043201Z
DTSTART:20250301T174500Z
DTEND:20250301T183000Z
LOCATION:Indoor West
CONTACT:
SUMMARY:Impact City FC Millcreek 15B Blue VS. Sparta B15 GR
DESCRIPTION:League Name: Boys 2015 Silver Indoor\nGame Type: Regular\nGame 
 Status: Complete\nHome Team: Impact City FC Millcreek 15B Blue\nAway Team:
  Sparta B15 GR\nHome Score: 7\nAway Score: 3
END:VEVENT
BEGIN:VEVENT
UID:16132661@ezleagues.ezfacility.com
DTSTAMP:20260424T043201Z
CREATED:20260424T043201Z
DTSTART:20250315T143000Z
DTEND:20250315T151500Z
LOCATION:Indoor East
CONTACT:
SUMMARY:SSFC CS 2015 VS. Sparta B15 GR
DESCRIPTION:League Name: Boys 2015 Silver Indoor\nGame Type: Regular\nGame 
 Status: Complete\nHome Team: SSFC CS 2015\nAway Team: Sparta B15 GR\nHome 
 Score: 1\nAway Score: 6
END:VEVENT
BEGIN:VEVENT
UID:16132637@ezleagues.ezfacility.com
DTSTAMP:20260424T043201Z
CREATED:20260424T043201Z
DTSTART:20250322T211500Z
DTEND:20250322T220000Z
LOCATION:Indoor East
CONTACT:
SUMMARY:Copper Mountain 15 AD VS. Sparta B15 GR
DESCRIPTION:League Name: Boys 2015 Silver Indoor\nGame Type: Regular\nGame 
 Status: Complete\nHome Team: Copper Mountain 15 AD\nAway Team: Sparta B15 
 GR\nHome Score: 2\nAway Score: 2
END:VEVENT
BEGIN:VEVENT
UID:16132667@ezleagues.ezfacility.com
DTSTAMP:20260424T043201Z
CREATED:20260424T043201Z
DTSTART:20250329T164500Z
DTEND:20250329T173000Z
LOCATION:Indoor East
CONTACT:
SUMMARY:Sparta B15 GR VS. Atomic Athletics SC 15B Select II - OM
DESCRIPTION:League Name: Boys 2015 Silver Indoor\nGame Type: Regular\nGame 
 Status: Complete\nHome Team: Sparta B15 GR\nAway Team: Atomic Athletics SC
  15B Select II - OM\nHome Score: 12\nAway Score: 0
END:VEVENT
END:VCALENDAR
