BEGIN:VCALENDAR
VERSION:2.0
PRODID:-//EZFacility.com, Inc.//EZL 2.5.5.28621
BEGIN:VEVENT
UID:16138160@ezleagues.ezfacility.com
DTSTAMP:20260426T035049Z
CREATED:20260426T035049Z
DTSTART:20250114T014500Z
DTEND:20250114T023000Z
LOCATION:Court 1
CONTACT:
SUMMARY:DAAM VS. Big Digs
DESCRIPTION:League Name: Winter Monday Court 1 A Quads\nGame Type: Regular\
 nGame Status: Complete\nHome Team: DAAM\nAway Team: Big Digs\nHome Score: 
 2\nAway Score: 1
END:VEVENT
BEGIN:VEVENT
UID:16138167@ezleagues.ezfacility.com
DTSTAMP:20260426T035049Z
CREATED:20260426T035049Z
DTSTART:20250120T233000Z
DTEND:20250121T001500Z
LOCATION:Court 1
CONTACT:
SUMMARY:Big Digs VS. Kiss My Ace
DESCRIPTION:League Name: Winter Monday Court 1 A Quads\nGame Type: Regular\
 nGame Status: Complete\nHome Team: Big Digs\nAway Team: Kiss My Ace\nHome 
 Score: 1\nAway Score: 2
END:VEVENT
BEGIN:VEVENT
UID:16138174@ezleagues.ezfacility.com
DTSTAMP:20260426T035049Z
CREATED:20260426T035049Z
DTSTART:20250128T023000Z
DTEND:20250128T031500Z
LOCATION:Court 1
CONTACT:
SUMMARY:Big Digs VS. Foot Sets
DESCRIPTION:League Name: Winter Monday Court 1 A Quads\nGame Type: Regular\
 nGame Status: Complete\nHome Team: Big Digs\nAway Team: Foot Sets\nHome Sc
 ore: 2\nAway Score: 1
END:VEVENT
BEGIN:VEVENT
UID:16138180@ezleagues.ezfacility.com
DTSTAMP:20260426T035049Z
CREATED:20260426T035049Z
DTSTART:20250204T014500Z
DTEND:20250204T023000Z
LOCATION:Court 1
CONTACT:
SUMMARY:Avery\, Avery\, Not a Baby VS. Big Digs
DESCRIPTION:League Name: Winter Monday Court 1 A Quads\nGame Type: Regular\
 nGame Status: Complete\nHome Team: Avery, Avery, Not a Baby\nAway Team: Bi
 g Digs\nHome Score: 0\nAway Score: 3
END:VEVENT
BEGIN:VEVENT
UID:16138185@ezleagues.ezfacility.com
DTSTAMP:20260426T035049Z
CREATED:20260426T035049Z
DTSTART:20250211T014500Z
DTEND:20250211T023000Z
LOCATION:Court 1
CONTACT:
SUMMARY:Big Digs VS. Just Diggin'
DESCRIPTION:League Name: Winter Monday Court 1 A Quads\nGame Type: Regular\
 nGame Status: Complete\nHome Team: Big Digs\nAway Team: Just Diggin'\nHome
  Score: 3\nAway Score: 0
END:VEVENT
BEGIN:VEVENT
UID:16138190@ezleagues.ezfacility.com
DTSTAMP:20260426T035049Z
CREATED:20260426T035049Z
DTSTART:20250218T001500Z
DTEND:20250218T010000Z
LOCATION:Court 1
CONTACT:
SUMMARY:@Sandy_Bottoms VS. Big Digs
DESCRIPTION:League Name: Winter Monday Court 1 A Quads\nGame Type: Regular\
 nGame Status: Complete\nHome Team: @Sandy_Bottoms\nAway Team: Big Digs\nHo
 me Score: 3\nAway Score: 0
END:VEVENT
BEGIN:VEVENT
UID:16138200@ezleagues.ezfacility.com
DTSTAMP:20260426T035049Z
CREATED:20260426T035049Z
DTSTART:20250303T233000Z
DTEND:20250304T001500Z
LOCATION:Court 1
CONTACT:
SUMMARY:Crusties VS. Big Digs
DESCRIPTION:League Name: Winter Monday Court 1 A Quads\nGame Type: Regular\
 nGame Status: Complete\nHome Team: Crusties\nAway Team: Big Digs\nHome Sco
 re: 1\nAway Score: 2
END:VEVENT
BEGIN:VEVENT
UID:16138205@ezleagues.ezfacility.com
DTSTAMP:20260426T035049Z
CREATED:20260426T035049Z
DTSTART:20250311T013000Z
DTEND:20250311T021500Z
LOCATION:Court 1
CONTACT:
SUMMARY:I’d Hit That VS. Big Digs
DESCRIPTION:League Name: Winter Monday Court 1 A Quads\nGame Type: Regular\
 nGame Status: Complete\nHome Team: I’d Hit That\nAway Team: Big Digs\nHo
 me Score: 1\nAway Score: 2
END:VEVENT
BEGIN:VEVENT
UID:16138212@ezleagues.ezfacility.com
DTSTAMP:20260426T035049Z
CREATED:20260426T035049Z
DTSTART:20250317T231500Z
DTEND:20250318T000000Z
LOCATION:Court 1
CONTACT:
SUMMARY:Big Digs VS. I Don't Know
DESCRIPTION:League Name: Winter Monday Court 1 A Quads\nGame Type: Regular\
 nGame Status: Complete\nHome Team: Big Digs\nAway Team: I Don't Know\nHome
  Score: 3\nAway Score: 0
END:VEVENT
BEGIN:VEVENT
UID:16138153@ezleagues.ezfacility.com
DTSTAMP:20260426T035049Z
CREATED:20260426T035049Z
DTSTART:20250325T000000Z
DTEND:20250325T004500Z
LOCATION:Court 1
CONTACT:
SUMMARY:Big Digs VS. Monday Night Quads
DESCRIPTION:League Name: Winter Monday Court 1 A Quads\nGame Type: Regular\
 nGame Status: Complete\nHome Team: Big Digs\nAway Team: Monday Night Quads
 \nHome Score: 3\nAway Score: 0
END:VEVENT
END:VCALENDAR
