BEGIN:VCALENDAR
VERSION:2.0
PRODID:-//EZFacility.com, Inc.//EZL 2.5.5.28621
BEGIN:VEVENT
UID:16138490@ezleagues.ezfacility.com
DTSTAMP:20260426T033844Z
CREATED:20260426T033844Z
DTSTART:20250123T010000Z
DTEND:20250123T014500Z
LOCATION:Court 1
CONTACT:
SUMMARY:Family VS. Beach Dawgz
DESCRIPTION:League Name: Winter Wednesday Court 1 A Quads\nGame Type: Regul
 ar\nGame Status: Complete\nHome Team: Family\nAway Team: Beach Dawgz\nHome
  Score: 1\nAway Score: 2
END:VEVENT
BEGIN:VEVENT
UID:16138504@ezleagues.ezfacility.com
DTSTAMP:20260426T033844Z
CREATED:20260426T033844Z
DTSTART:20250206T010000Z
DTEND:20250206T014500Z
LOCATION:Court 1
CONTACT:
SUMMARY:EZ Pass VS. Beach Dawgz
DESCRIPTION:League Name: Winter Wednesday Court 1 A Quads\nGame Type: Regul
 ar\nGame Status: Complete\nHome Team: EZ Pass\nAway Team: Beach Dawgz\nHom
 e Score: 3\nAway Score: 0
END:VEVENT
BEGIN:VEVENT
UID:16138511@ezleagues.ezfacility.com
DTSTAMP:20260426T033844Z
CREATED:20260426T033844Z
DTSTART:20250213T014500Z
DTEND:20250213T023000Z
LOCATION:Court 1
CONTACT:
SUMMARY:Beach Dawgz VS. Misfits
DESCRIPTION:League Name: Winter Wednesday Court 1 A Quads\nGame Type: Regul
 ar\nGame Status: Complete\nHome Team: Beach Dawgz\nAway Team: Misfits\nHom
 e Score: 1\nAway Score: 2
END:VEVENT
BEGIN:VEVENT
UID:16138517@ezleagues.ezfacility.com
DTSTAMP:20260426T033844Z
CREATED:20260426T033844Z
DTSTART:20250220T023000Z
DTEND:20250220T031500Z
LOCATION:Court 1
CONTACT:
SUMMARY:Beach Dawgz VS. Big Diq Energy 
DESCRIPTION:League Name: Winter Wednesday Court 1 A Quads\nGame Type: Regul
 ar\nGame Status: Complete\nHome Team: Beach Dawgz\nAway Team: Big Diq Ener
 gy \nHome Score: 1\nAway Score: 2
END:VEVENT
BEGIN:VEVENT
UID:16138522@ezleagues.ezfacility.com
DTSTAMP:20260426T033844Z
CREATED:20260426T033844Z
DTSTART:20250227T014500Z
DTEND:20250227T023000Z
LOCATION:Court 1
CONTACT:
SUMMARY:HITCHED VS. Beach Dawgz
DESCRIPTION:League Name: Winter Wednesday Court 1 A Quads\nGame Type: Regul
 ar\nGame Status: Complete\nHome Team: HITCHED\nAway Team: Beach Dawgz\nHom
 e Score: 3\nAway Score: 0
END:VEVENT
BEGIN:VEVENT
UID:16138527@ezleagues.ezfacility.com
DTSTAMP:20260426T033844Z
CREATED:20260426T033844Z
DTSTART:20250306T023000Z
DTEND:20250306T031500Z
LOCATION:Court 1
CONTACT:
SUMMARY:Beach Dawgz VS. The Refs
DESCRIPTION:League Name: Winter Wednesday Court 1 A Quads\nGame Type: Regul
 ar\nGame Status: Complete\nHome Team: Beach Dawgz\nAway Team: The Refs\nHo
 me Score: 0\nAway Score: 3
END:VEVENT
BEGIN:VEVENT
UID:16138532@ezleagues.ezfacility.com
DTSTAMP:20260426T033844Z
CREATED:20260426T033844Z
DTSTART:20250313T004500Z
DTEND:20250313T013000Z
LOCATION:Court 1
CONTACT:
SUMMARY:Spikes and Mike's VS. Beach Dawgz
DESCRIPTION:League Name: Winter Wednesday Court 1 A Quads\nGame Type: Regul
 ar\nGame Status: Complete\nHome Team: Spikes and Mike's\nAway Team: Beach 
 Dawgz\nHome Score: 2\nAway Score: 1
END:VEVENT
BEGIN:VEVENT
UID:16138537@ezleagues.ezfacility.com
DTSTAMP:20260426T033844Z
CREATED:20260426T033844Z
DTSTART:20250319T223000Z
DTEND:20250319T231500Z
LOCATION:Court 1
CONTACT:
SUMMARY:Beach Dawgz VS. Goat Herd
DESCRIPTION:League Name: Winter Wednesday Court 1 A Quads\nGame Type: Regul
 ar\nGame Status: Complete\nHome Team: Beach Dawgz\nAway Team: Goat Herd\nH
 ome Score: 1\nAway Score: 2
END:VEVENT
BEGIN:VEVENT
UID:16138542@ezleagues.ezfacility.com
DTSTAMP:20260426T033844Z
CREATED:20260426T033844Z
DTSTART:20250326T223000Z
DTEND:20250326T231500Z
LOCATION:Court 1
CONTACT:
SUMMARY:#RE/MAX RAHM VS. Beach Dawgz
DESCRIPTION:League Name: Winter Wednesday Court 1 A Quads\nGame Type: Regul
 ar\nGame Status: Complete\nHome Team: #RE/MAX RAHM\nAway Team: Beach Dawgz
 \nHome Score: 1\nAway Score: 2
END:VEVENT
BEGIN:VEVENT
UID:16138483@ezleagues.ezfacility.com
DTSTAMP:20260426T033844Z
CREATED:20260426T033844Z
DTSTART:20250402T231500Z
DTEND:20250403T000000Z
LOCATION:Court 1
CONTACT:
SUMMARY:Beach Dawgz VS. Louisville Beach 
DESCRIPTION:League Name: Winter Wednesday Court 1 A Quads\nGame Type: Regul
 ar\nGame Status: Complete\nHome Team: Beach Dawgz\nAway Team: Louisville B
 each \nHome Score: 1\nAway Score: 2
END:VEVENT
END:VCALENDAR
