BEGIN:VCALENDAR
VERSION:2.0
PRODID:-//EZFacility.com, Inc.//EZL 2.5.5.28621
BEGIN:VEVENT
UID:16138493@ezleagues.ezfacility.com
DTSTAMP:20260426T033848Z
CREATED:20260426T033848Z
DTSTART:20250123T023000Z
DTEND:20250123T031500Z
LOCATION:Court 1
CONTACT:
SUMMARY:Spikes and Mike's VS. EZ Pass
DESCRIPTION:League Name: Winter Wednesday Court 1 A Quads\nGame Type: Regul
 ar\nGame Status: Complete\nHome Team: Spikes and Mike's\nAway Team: EZ Pas
 s\nHome Score: 0\nAway Score: 3
END:VEVENT
BEGIN:VEVENT
UID:16138499@ezleagues.ezfacility.com
DTSTAMP:20260426T033848Z
CREATED:20260426T033848Z
DTSTART:20250130T001500Z
DTEND:20250130T010000Z
LOCATION:Court 1
CONTACT:
SUMMARY:Goat Herd VS. EZ Pass
DESCRIPTION:League Name: Winter Wednesday Court 1 A Quads\nGame Type: Regul
 ar\nGame Status: Complete\nHome Team: Goat Herd\nAway Team: EZ Pass\nHome 
 Score: 2\nAway Score: 1
END:VEVENT
BEGIN:VEVENT
UID:16138504@ezleagues.ezfacility.com
DTSTAMP:20260426T033848Z
CREATED:20260426T033848Z
DTSTART:20250206T010000Z
DTEND:20250206T014500Z
LOCATION:Court 1
CONTACT:
SUMMARY:EZ Pass VS. Beach Dawgz
DESCRIPTION:League Name: Winter Wednesday Court 1 A Quads\nGame Type: Regul
 ar\nGame Status: Complete\nHome Team: EZ Pass\nAway Team: Beach Dawgz\nHom
 e Score: 3\nAway Score: 0
END:VEVENT
BEGIN:VEVENT
UID:16138509@ezleagues.ezfacility.com
DTSTAMP:20260426T033848Z
CREATED:20260426T033848Z
DTSTART:20250213T001500Z
DTEND:20250213T010000Z
LOCATION:Court 1
CONTACT:
SUMMARY:Louisville Beach  VS. EZ Pass
DESCRIPTION:League Name: Winter Wednesday Court 1 A Quads\nGame Type: Regul
 ar\nGame Status: Complete\nHome Team: Louisville Beach \nAway Team: EZ Pas
 s\nHome Score: 2\nAway Score: 1
END:VEVENT
BEGIN:VEVENT
UID:16138514@ezleagues.ezfacility.com
DTSTAMP:20260426T033848Z
CREATED:20260426T033848Z
DTSTART:20250220T010000Z
DTEND:20250220T014500Z
LOCATION:Court 1
CONTACT:
SUMMARY:EZ Pass VS. Family
DESCRIPTION:League Name: Winter Wednesday Court 1 A Quads\nGame Type: Regul
 ar\nGame Status: Complete\nHome Team: EZ Pass\nAway Team: Family\nHome Sco
 re: 2\nAway Score: 1
END:VEVENT
BEGIN:VEVENT
UID:16138524@ezleagues.ezfacility.com
DTSTAMP:20260426T033848Z
CREATED:20260426T033848Z
DTSTART:20250306T014500Z
DTEND:20250306T023000Z
LOCATION:Court 1
CONTACT:
SUMMARY:#RE/MAX RAHM VS. EZ Pass
DESCRIPTION:League Name: Winter Wednesday Court 1 A Quads\nGame Type: Regul
 ar\nGame Status: Complete\nHome Team: #RE/MAX RAHM\nAway Team: EZ Pass\nHo
 me Score: 0\nAway Score: 3
END:VEVENT
BEGIN:VEVENT
UID:16138531@ezleagues.ezfacility.com
DTSTAMP:20260426T033848Z
CREATED:20260426T033848Z
DTSTART:20250312T231500Z
DTEND:20250313T000000Z
LOCATION:Court 1
CONTACT:
SUMMARY:EZ Pass VS. Misfits
DESCRIPTION:League Name: Winter Wednesday Court 1 A Quads\nGame Type: Regul
 ar\nGame Status: Complete\nHome Team: EZ Pass\nAway Team: Misfits\nHome Sc
 ore: 0\nAway Score: 3
END:VEVENT
BEGIN:VEVENT
UID:16138538@ezleagues.ezfacility.com
DTSTAMP:20260426T033848Z
CREATED:20260426T033848Z
DTSTART:20250319T231500Z
DTEND:20250320T000000Z
LOCATION:Court 1
CONTACT:
SUMMARY:Big Diq Energy  VS. EZ Pass
DESCRIPTION:League Name: Winter Wednesday Court 1 A Quads\nGame Type: Regul
 ar\nGame Status: Complete\nHome Team: Big Diq Energy \nAway Team: EZ Pass\
 nHome Score: 3\nAway Score: 0
END:VEVENT
BEGIN:VEVENT
UID:16138545@ezleagues.ezfacility.com
DTSTAMP:20260426T033848Z
CREATED:20260426T033848Z
DTSTART:20250327T013000Z
DTEND:20250327T021500Z
LOCATION:Court 1
CONTACT:
SUMMARY:EZ Pass VS. HITCHED
DESCRIPTION:League Name: Winter Wednesday Court 1 A Quads\nGame Type: Regul
 ar\nGame Status: Complete\nHome Team: EZ Pass\nAway Team: HITCHED\nHome Sc
 ore: 3\nAway Score: 0
END:VEVENT
BEGIN:VEVENT
UID:16138486@ezleagues.ezfacility.com
DTSTAMP:20260426T033848Z
CREATED:20260426T033848Z
DTSTART:20250403T013000Z
DTEND:20250403T021500Z
LOCATION:Court 1
CONTACT:
SUMMARY:EZ Pass VS. The Refs
DESCRIPTION:League Name: Winter Wednesday Court 1 A Quads\nGame Type: Regul
 ar\nGame Status: Complete\nHome Team: EZ Pass\nAway Team: The Refs\nHome S
 core: 3\nAway Score: 0
END:VEVENT
END:VCALENDAR
