BEGIN:VCALENDAR
VERSION:2.0
PRODID:-//EZFacility.com, Inc.//EZL 2.5.5.28621
BEGIN:VEVENT
UID:16138488@ezleagues.ezfacility.com
DTSTAMP:20260424T043201Z
CREATED:20260424T043201Z
DTSTART:20250122T233000Z
DTEND:20250123T001500Z
LOCATION:Court 1
CONTACT:
SUMMARY:#RE/MAX RAHM VS. Louisville Beach 
DESCRIPTION:League Name: Winter Wednesday Court 1 A Quads\nGame Type: Regul
 ar\nGame Status: Complete\nHome Team: #RE/MAX RAHM\nAway Team: Louisville 
 Beach \nHome Score: 1\nAway Score: 2
END:VEVENT
BEGIN:VEVENT
UID:16138495@ezleagues.ezfacility.com
DTSTAMP:20260424T043201Z
CREATED:20260424T043201Z
DTSTART:20250130T023000Z
DTEND:20250130T031500Z
LOCATION:Court 1
CONTACT:
SUMMARY:Louisville Beach  VS. Family
DESCRIPTION:League Name: Winter Wednesday Court 1 A Quads\nGame Type: Regul
 ar\nGame Status: Complete\nHome Team: Louisville Beach \nAway Team: Family
 \nHome Score: 2\nAway Score: 1
END:VEVENT
BEGIN:VEVENT
UID:16138509@ezleagues.ezfacility.com
DTSTAMP:20260424T043201Z
CREATED:20260424T043201Z
DTSTART:20250213T001500Z
DTEND:20250213T010000Z
LOCATION:Court 1
CONTACT:
SUMMARY:Louisville Beach  VS. EZ Pass
DESCRIPTION:League Name: Winter Wednesday Court 1 A Quads\nGame Type: Regul
 ar\nGame Status: Complete\nHome Team: Louisville Beach \nAway Team: EZ Pas
 s\nHome Score: 2\nAway Score: 1
END:VEVENT
BEGIN:VEVENT
UID:16138516@ezleagues.ezfacility.com
DTSTAMP:20260424T043201Z
CREATED:20260424T043201Z
DTSTART:20250220T014500Z
DTEND:20250220T023000Z
LOCATION:Court 1
CONTACT:
SUMMARY:Misfits VS. Louisville Beach 
DESCRIPTION:League Name: Winter Wednesday Court 1 A Quads\nGame Type: Regul
 ar\nGame Status: Complete\nHome Team: Misfits\nAway Team: Louisville Beach
  \nHome Score: 2\nAway Score: 1
END:VEVENT
BEGIN:VEVENT
UID:16138523@ezleagues.ezfacility.com
DTSTAMP:20260424T043201Z
CREATED:20260424T043201Z
DTSTART:20250226T233000Z
DTEND:20250227T001500Z
LOCATION:Court 1
CONTACT:
SUMMARY:Louisville Beach  VS. Big Diq Energy 
DESCRIPTION:League Name: Winter Wednesday Court 1 A Quads\nGame Type: Regul
 ar\nGame Status: Complete\nHome Team: Louisville Beach \nAway Team: Big Di
 q Energy \nHome Score: 2\nAway Score: 1
END:VEVENT
BEGIN:VEVENT
UID:16138529@ezleagues.ezfacility.com
DTSTAMP:20260424T043201Z
CREATED:20260424T043201Z
DTSTART:20250306T001500Z
DTEND:20250306T010000Z
LOCATION:Court 1
CONTACT:
SUMMARY:Louisville Beach  VS. HITCHED
DESCRIPTION:League Name: Winter Wednesday Court 1 A Quads\nGame Type: Regul
 ar\nGame Status: Complete\nHome Team: Louisville Beach \nAway Team: HITCHE
 D\nHome Score: 1\nAway Score: 2
END:VEVENT
BEGIN:VEVENT
UID:16138534@ezleagues.ezfacility.com
DTSTAMP:20260424T043201Z
CREATED:20260424T043201Z
DTSTART:20250312T223000Z
DTEND:20250312T231500Z
LOCATION:Court 1
CONTACT:
SUMMARY:The Refs VS. Louisville Beach 
DESCRIPTION:League Name: Winter Wednesday Court 1 A Quads\nGame Type: Regul
 ar\nGame Status: Complete\nHome Team: The Refs\nAway Team: Louisville Beac
 h \nHome Score: 2\nAway Score: 1
END:VEVENT
BEGIN:VEVENT
UID:16138539@ezleagues.ezfacility.com
DTSTAMP:20260424T043201Z
CREATED:20260424T043201Z
DTSTART:20250320T000000Z
DTEND:20250320T004500Z
LOCATION:Court 1
CONTACT:
SUMMARY:Louisville Beach  VS. Spikes and Mike's
DESCRIPTION:League Name: Winter Wednesday Court 1 A Quads\nGame Type: Regul
 ar\nGame Status: Complete\nHome Team: Louisville Beach \nAway Team: Spikes
  and Mike's\nHome Score: 2\nAway Score: 1
END:VEVENT
BEGIN:VEVENT
UID:16138544@ezleagues.ezfacility.com
DTSTAMP:20260424T043201Z
CREATED:20260424T043201Z
DTSTART:20250327T000000Z
DTEND:20250327T004500Z
LOCATION:Court 1
CONTACT:
SUMMARY:Goat Herd VS. Louisville Beach 
DESCRIPTION:League Name: Winter Wednesday Court 1 A Quads\nGame Type: Regul
 ar\nGame Status: Complete\nHome Team: Goat Herd\nAway Team: Louisville Bea
 ch \nHome Score: 1\nAway Score: 2
END:VEVENT
BEGIN:VEVENT
UID:16138483@ezleagues.ezfacility.com
DTSTAMP:20260424T043201Z
CREATED:20260424T043201Z
DTSTART:20250402T231500Z
DTEND:20250403T000000Z
LOCATION:Court 1
CONTACT:
SUMMARY:Beach Dawgz VS. Louisville Beach 
DESCRIPTION:League Name: Winter Wednesday Court 1 A Quads\nGame Type: Regul
 ar\nGame Status: Complete\nHome Team: Beach Dawgz\nAway Team: Louisville B
 each \nHome Score: 1\nAway Score: 2
END:VEVENT
END:VCALENDAR
